BEGIN:VCALENDAR
VERSION:2.0
PRODID:-//Discover Frome - ECPv6.15.20//NONSGML v1.0//EN
CALSCALE:GREGORIAN
METHOD:PUBLISH
X-WR-CALNAME:Discover Frome
X-ORIGINAL-URL:https://www.discoverfrome.co.uk
X-WR-CALDESC:Events for Discover Frome
REFRESH-INTERVAL;VALUE=DURATION:PT1H
X-Robots-Tag:noindex
X-PUBLISHED-TTL:PT1H
BEGIN:VTIMEZONE
TZID:Europe/London
BEGIN:DAYLIGHT
TZOFFSETFROM:+0000
TZOFFSETTO:+0100
TZNAME:BST
DTSTART:20250330T010000
END:DAYLIGHT
BEGIN:STANDARD
TZOFFSETFROM:+0100
TZOFFSETTO:+0000
TZNAME:GMT
DTSTART:20251026T010000
END:STANDARD
BEGIN:DAYLIGHT
TZOFFSETFROM:+0000
TZOFFSETTO:+0100
TZNAME:BST
DTSTART:20260329T010000
END:DAYLIGHT
BEGIN:STANDARD
TZOFFSETFROM:+0100
TZOFFSETTO:+0000
TZNAME:GMT
DTSTART:20261025T010000
END:STANDARD
BEGIN:DAYLIGHT
TZOFFSETFROM:+0000
TZOFFSETTO:+0100
TZNAME:BST
DTSTART:20270328T010000
END:DAYLIGHT
BEGIN:STANDARD
TZOFFSETFROM:+0100
TZOFFSETTO:+0000
TZNAME:GMT
DTSTART:20271031T010000
END:STANDARD
END:VTIMEZONE
BEGIN:VEVENT
DTSTART;TZID=Europe/London:20260314T130000
DTEND;TZID=Europe/London:20260314T150000
DTSTAMP:20260420T212037
CREATED:20260304T103323Z
LAST-MODIFIED:20260304T103323Z
UID:10020391-1773493200-1773500400@www.discoverfrome.co.uk
SUMMARY:Community of Kindness
DESCRIPTION:Join us for our opening- a community fun day full of art\, crafts\, games\, inflatable fun\, music and tree planting for all the family. All ages welcome. \nFrome Youth Club will be hosting an opening day to celebrate kindness in our community through creativity and having fun together. Come join us in our new centre where our young people will be offering a range of free activities including outdoor games\, planting trees & making wishes\, arts & crafts\, kindness kits\, smoothie making\, hair tinselling\, glitter tattoos & glitter makeup\, retro gaming and inflatable fun! \nAll welcome- you can take part in the activities or enjoy a cuppa and a cake!
URL:https://www.discoverfrome.co.uk/event/community-of-kindness/
LOCATION:Vallis Youth Centre\, Vallis Road\, Frome\, BA113EF
CATEGORIES:Children,Community,Crafts,Discover Frome,Family,Open day
ATTACH;FMTTYPE=image/png:https://www.discoverfrome.co.uk/wp-content/uploads/2025/03/frome-ymca-open-day.png
ORGANIZER;CN="The Good Heart":MAILTO:welcome@thegoodheart.uk
END:VEVENT
END:VCALENDAR