BEGIN:VCALENDAR
VERSION:2.0
PRODID:-//Discover Frome - ECPv6.15.20//NONSGML v1.0//EN
CALSCALE:GREGORIAN
METHOD:PUBLISH
X-WR-CALNAME:Discover Frome
X-ORIGINAL-URL:https://www.discoverfrome.co.uk
X-WR-CALDESC:Events for Discover Frome
REFRESH-INTERVAL;VALUE=DURATION:PT1H
X-Robots-Tag:noindex
X-PUBLISHED-TTL:PT1H
BEGIN:VTIMEZONE
TZID:Europe/London
BEGIN:DAYLIGHT
TZOFFSETFROM:+0000
TZOFFSETTO:+0100
TZNAME:BST
DTSTART:20250330T010000
END:DAYLIGHT
BEGIN:STANDARD
TZOFFSETFROM:+0100
TZOFFSETTO:+0000
TZNAME:GMT
DTSTART:20251026T010000
END:STANDARD
BEGIN:DAYLIGHT
TZOFFSETFROM:+0000
TZOFFSETTO:+0100
TZNAME:BST
DTSTART:20260329T010000
END:DAYLIGHT
BEGIN:STANDARD
TZOFFSETFROM:+0100
TZOFFSETTO:+0000
TZNAME:GMT
DTSTART:20261025T010000
END:STANDARD
BEGIN:DAYLIGHT
TZOFFSETFROM:+0000
TZOFFSETTO:+0100
TZNAME:BST
DTSTART:20270328T010000
END:DAYLIGHT
BEGIN:STANDARD
TZOFFSETFROM:+0100
TZOFFSETTO:+0000
TZNAME:GMT
DTSTART:20271031T010000
END:STANDARD
END:VTIMEZONE
BEGIN:VEVENT
DTSTART;TZID=Europe/London:20260418T180000
DTEND;TZID=Europe/London:20260418T230000
DTSTAMP:20260421T082703
CREATED:20260226T114102Z
LAST-MODIFIED:20260330T103934Z
UID:10020339-1776535200-1776553200@www.discoverfrome.co.uk
SUMMARY:Afro Cuban Beats - Sierra Sounds in Somerset
DESCRIPTION:Deiya and Orun Kingdom are excited to be hosting another fantastic event at the Silk Mill taking you on a multi-sensory cultural experience through rhythm\, heritage\, flavours and ancestral memory. \nAn immersive night of music\, song\, visuals\, and food celebrating Afro-Latino and Afro-Cuban culture and its West African roots. Joyful\, educational\, and reflective\, this will be a night and space to celebrate culture while exploring its deeper meaning. \nFood made from our talented Cuban chef Yayo will be served between 6pm – 8pm so please make sure to come and sample some of Santiago’s finest. \n£8 – Vegetarian dish (rice\, bean stew\, fried plantain and salad) \n£12 – Meat dish (rice\, beans\, fried plantain\, meat dish and salad) \nThere will also be a special live guest performance by UK based Cuban singer Lando Lavarra. \nLimited capacity so early bookings recommended!
URL:https://www.discoverfrome.co.uk/event/afro-cuban-beats-sierra-sounds-in-somerset/
LOCATION:The Silk Mill\, Merchants Barton\, Frome\, BA11 1PT\, United Kingdom
CATEGORIES:Concert,Discover Frome,DJ set,Food and drink,Live band,Music
ATTACH;FMTTYPE=image/jpeg:https://www.discoverfrome.co.uk/wp-content/uploads/2026/02/SILK-MILL-EVENT-e1772106057927.jpg
ORGANIZER;CN="Deiya":MAILTO:info@deiya.club
GEO:51.230751;-2.320096
X-APPLE-STRUCTURED-LOCATION;VALUE=URI;X-ADDRESS=The Silk Mill Merchants Barton Frome BA11 1PT United Kingdom;X-APPLE-RADIUS=500;X-TITLE=Merchants Barton:geo:-2.320096,51.230751
END:VEVENT
BEGIN:VEVENT
DTSTART;TZID=Europe/London:20260321T100000
DTEND;TZID=Europe/London:20260321T150000
DTSTAMP:20260421T082703
CREATED:20260317T145057Z
LAST-MODIFIED:20260317T145057Z
UID:10020446-1774087200-1774105200@www.discoverfrome.co.uk
SUMMARY:Embroidering Stories with The Red Dress
DESCRIPTION:Join project creator Kirstie Macleod for a once-in-a-lifetime workshop where you’ll meet The Red Dress in person and stitch your own story amidst a global tapestry of voices. \n🧵 What You’ll Experience: \n* A guided journey around The Red Dress—a dialogue of identity and voice embroidered by 380 artists from 51 countries \n* Stories of resilience\, heritage\, and healing through embroidery \n* Create your own “World Embroidery” sampler in calico with stitches from Mexico\, Afghanistan\, and beyond \n– When: 10am – 3pm | Saturday\, 21st March 2026 \n– Where: The Silk Mill Gallery\, Frome\, Somerset\, \n– Spaces are limited. All materials provided. Each participant receives a Red Dress stitch booklet. \nFor more info and booking: www.reddressembroidery.com/workshops
URL:https://www.discoverfrome.co.uk/event/embroidering-stories-with-the-red-dress/
LOCATION:The Silk Mill\, Merchants Barton\, Frome\, BA11 1PT\, United Kingdom
CATEGORIES:Clothing and textiles,Crafts,Discover Frome,Talk,Workshop
ATTACH;FMTTYPE=image/jpeg:https://www.discoverfrome.co.uk/wp-content/uploads/2026/03/TRD_Frome-Poster_web-e1773758984529.jpg
ORGANIZER;CN="The Red Dress":MAILTO:reddressembroidery@gmail.com
GEO:51.230751;-2.320096
X-APPLE-STRUCTURED-LOCATION;VALUE=URI;X-ADDRESS=The Silk Mill Merchants Barton Frome BA11 1PT United Kingdom;X-APPLE-RADIUS=500;X-TITLE=Merchants Barton:geo:-2.320096,51.230751
END:VEVENT
BEGIN:VEVENT
DTSTART;TZID=Europe/London:20260227T110000
DTEND;TZID=Europe/London:20260311T150000
DTSTAMP:20260421T082703
CREATED:20260119T153943Z
LAST-MODIFIED:20260130T122646Z
UID:10019620-1772190000-1773241200@www.discoverfrome.co.uk
SUMMARY:Dual Natures Exhibition
DESCRIPTION:Dual Natures brings together the paintings of Hannah Thomas and Genevieve Leavold in an exhibition that examines the duality inherent in both the natural world and human experience. Rooted in these tensions\, the exhibition explores the interplay between emotional and physical states\, conscious and unconscious impulses\, and the subjectivity of interpretation and visceral response in an audience. \nHannah Thomas’ practice is driven by an investigation into moral ambiguity and humanity’s conflicted relationship with nature. Through a semi-abstracted process\, with recurring potent motifs\, the resulting landscapes pulse with hints of predation. Through this lens\, nature is presented as a site of constant movement and adaptation\, where beauty and violence co-exist and identity remains unstable. \nGenevieve Leavold is predominantly known for her freeform\, organic paintings\, her reverence for spontaneous gesture draws from Zen\, Buddhism\, and other philosophies that embrace the concept of universal consciousness. Her approach is immediacy; working wet colour into wet and layering glazes gives her work its recognisable softness and movement.. Characterised by sweeping forms emerging from a dark background\, her paintings developed from observations of nature in man-made environments. \nBoth artists have paintings in collections in the UK and abroad and have exhibited extensively worldwide. \nDual Natures invites viewers to reflect on the contradictions that shape our understanding of self and environment\, and on the uneasy balance between attraction and repulsion that defines humanity’s relationship with the natural world. \nBoth artists have work held in private and corporate collections worldwide and have exhibited widely in the UK\, US and Europe. \nPrivate View: Thursday 26th February 5pm – 9pm\nArtist Talk: Saturday 28th Feb 10am (45mins) Ticketed £5\nExhibition Opening Hours: 11am – 6pm
URL:https://www.discoverfrome.co.uk/event/dual-natures-exhibition/
LOCATION:The Silk Mill\, Merchants Barton\, Frome\, BA11 1PT\, United Kingdom
CATEGORIES:Arts,Discover Frome,Exhibition
ATTACH;FMTTYPE=image/jpeg:https://www.discoverfrome.co.uk/wp-content/uploads/2026/01/DUAL-NATURES-POSTER-final-print-e1768837159936.jpg
ORGANIZER;CN="Genevieve Leavold":MAILTO:studio@genevieveleavold.com
GEO:51.230751;-2.320096
X-APPLE-STRUCTURED-LOCATION;VALUE=URI;X-ADDRESS=The Silk Mill Merchants Barton Frome BA11 1PT United Kingdom;X-APPLE-RADIUS=500;X-TITLE=Merchants Barton:geo:-2.320096,51.230751
END:VEVENT
END:VCALENDAR