BEGIN:VCALENDAR
VERSION:2.0
PRODID:-//Discover Frome - ECPv6.15.20//NONSGML v1.0//EN
CALSCALE:GREGORIAN
METHOD:PUBLISH
X-WR-CALNAME:Discover Frome
X-ORIGINAL-URL:https://www.discoverfrome.co.uk
X-WR-CALDESC:Events for Discover Frome
REFRESH-INTERVAL;VALUE=DURATION:PT1H
X-Robots-Tag:noindex
X-PUBLISHED-TTL:PT1H
BEGIN:VTIMEZONE
TZID:Europe/London
BEGIN:DAYLIGHT
TZOFFSETFROM:+0000
TZOFFSETTO:+0100
TZNAME:BST
DTSTART:20250330T010000
END:DAYLIGHT
BEGIN:STANDARD
TZOFFSETFROM:+0100
TZOFFSETTO:+0000
TZNAME:GMT
DTSTART:20251026T010000
END:STANDARD
BEGIN:DAYLIGHT
TZOFFSETFROM:+0000
TZOFFSETTO:+0100
TZNAME:BST
DTSTART:20260329T010000
END:DAYLIGHT
BEGIN:STANDARD
TZOFFSETFROM:+0100
TZOFFSETTO:+0000
TZNAME:GMT
DTSTART:20261025T010000
END:STANDARD
BEGIN:DAYLIGHT
TZOFFSETFROM:+0000
TZOFFSETTO:+0100
TZNAME:BST
DTSTART:20270328T010000
END:DAYLIGHT
BEGIN:STANDARD
TZOFFSETFROM:+0100
TZOFFSETTO:+0000
TZNAME:GMT
DTSTART:20271031T010000
END:STANDARD
END:VTIMEZONE
BEGIN:VEVENT
DTSTART;TZID=Europe/London:20260314T110000
DTEND;TZID=Europe/London:20260314T130000
DTSTAMP:20260420T093906
CREATED:20260217T160432Z
LAST-MODIFIED:20260217T160432Z
UID:10020268-1773486000-1773493200@www.discoverfrome.co.uk
SUMMARY:Community Walks & Nature Connection with The Psychedelic Society
DESCRIPTION:Walking\, Nature Connection\, Meditation and Community with The Psychedelic Society \n🌿 Get connected in Nature – Community Walk FROME – Connect\, Ground & Restore 🌿 \nJoin us for a nourishing community walk in the beautiful Longleat Forest. \nAn opportunity to slow down\, connect deeply with nature\, and share space with like-minded souls in a relaxed and welcoming setting. \nWHAT TO EXPECT\nA gentle\, mindful walk through ancient trees and open landscapes\, offering the perfect chance to reconnect\, with yourself\, with others\, and with the natural world. \nAlong the way\, we’ll pause for a small guided meditation and some nature connection activities to connect with our environment\, giving us time to reflect\, share\, and simply be. In a world that moves fast\, spending time in nature is the medicine we often need\, to ground\, recharge\, and gain clarity. \nWalking together creates a space for conscious connection\, where conversations flow naturally\, and we can support and inspire each other. Come as you are: solo\, with friends\, or to meet new ones. This is a space for everyone\, whether you’re looking for movement\, meaningful connection\, or simply a breath of fresh air. \nPlease wear sensible foot attire\, it gets muddy depending on the weather and we wont be walking on paths the entire time. You are welcome to bring a flask of tea or something\, but we may also walk past a kiosk so you can purchase something too. \nLOCATION\nLongleat Forest. Exact location provided via email on confirmation of ticket sale
URL:https://www.discoverfrome.co.uk/event/community-walks-nature-connection-with-the-psychedelic-society/
LOCATION:Longleat\, Warminster\, Wiltshire\, BA12 7NW\, United Kingdom
CATEGORIES:Community,Discover Frome,Health and wellbeing,Nature,Walks
ATTACH;FMTTYPE=image/jpeg:https://www.discoverfrome.co.uk/wp-content/uploads/2026/02/PsySoc-Walks-Event-Banner-IG-1080-x-1350-e1771344267445.jpg
ORGANIZER;CN="The Psychedelic Society":MAILTO:carly@psychedelicsociety.org.uk
END:VEVENT
END:VCALENDAR