BEGIN:VCALENDAR
VERSION:2.0
PRODID:-//Discover Frome - ECPv6.15.20//NONSGML v1.0//EN
CALSCALE:GREGORIAN
METHOD:PUBLISH
X-WR-CALNAME:Discover Frome
X-ORIGINAL-URL:https://www.discoverfrome.co.uk
X-WR-CALDESC:Events for Discover Frome
REFRESH-INTERVAL;VALUE=DURATION:PT1H
X-Robots-Tag:noindex
X-PUBLISHED-TTL:PT1H
BEGIN:VTIMEZONE
TZID:Europe/London
BEGIN:DAYLIGHT
TZOFFSETFROM:+0000
TZOFFSETTO:+0100
TZNAME:BST
DTSTART:20250330T010000
END:DAYLIGHT
BEGIN:STANDARD
TZOFFSETFROM:+0100
TZOFFSETTO:+0000
TZNAME:GMT
DTSTART:20251026T010000
END:STANDARD
BEGIN:DAYLIGHT
TZOFFSETFROM:+0000
TZOFFSETTO:+0100
TZNAME:BST
DTSTART:20260329T010000
END:DAYLIGHT
BEGIN:STANDARD
TZOFFSETFROM:+0100
TZOFFSETTO:+0000
TZNAME:GMT
DTSTART:20261025T010000
END:STANDARD
BEGIN:DAYLIGHT
TZOFFSETFROM:+0000
TZOFFSETTO:+0100
TZNAME:BST
DTSTART:20270328T010000
END:DAYLIGHT
BEGIN:STANDARD
TZOFFSETFROM:+0100
TZOFFSETTO:+0000
TZNAME:GMT
DTSTART:20271031T010000
END:STANDARD
END:VTIMEZONE
BEGIN:VEVENT
DTSTART;TZID=Europe/London:20260411T100000
DTEND;TZID=Europe/London:20260411T130000
DTSTAMP:20260420T161134
CREATED:20260325T144600Z
LAST-MODIFIED:20260325T144600Z
UID:10020498-1775901600-1775912400@www.discoverfrome.co.uk
SUMMARY:Art in the Park
DESCRIPTION:Come and find us at the Café in Victoria Park from 10am to 1pm and bring a picnic to enjoy with the kids! Refreshments will also be available to purchase at the Community Café. \nDrop-in workshops will be running for the whole session so arrive when you like and stay for as long as you want to! We will be making forest faces using foliage and natural objects\, ‘wish pockets’ and ‘magic sticks’ to take home with you! We’ll also be decorating bunting\, making spring boats and flowers\, and making music with ukuleles! \nSpending time together\, learning something new\, and enjoying fun activities with your children can encourage connection\, confidence\, and curiosity! \nAt Art in the Park\, you’ll have an amazing time learning and connecting with others! The workshops are ideal for children aged 3 to 8 years old\, but older and younger siblings are welcome to join in on the fun too!
URL:https://www.discoverfrome.co.uk/event/art-in-the-park/
LOCATION:Cafe in Victoria Park\, Victoria Park\, Frome\, BA11 1HJ\, United Kingdom
CATEGORIES:Children,Crafts,Discover Frome,Family,Half term and holidays,Music,Nature
ATTACH;FMTTYPE=image/jpeg:https://www.discoverfrome.co.uk/wp-content/uploads/2025/07/nature-crafts-.jpg
END:VEVENT
END:VCALENDAR