BEGIN:VCALENDAR
VERSION:2.0
PRODID:-//Discover Frome - ECPv6.15.20//NONSGML v1.0//EN
CALSCALE:GREGORIAN
METHOD:PUBLISH
X-WR-CALNAME:Discover Frome
X-ORIGINAL-URL:https://www.discoverfrome.co.uk
X-WR-CALDESC:Events for Discover Frome
REFRESH-INTERVAL;VALUE=DURATION:PT1H
X-Robots-Tag:noindex
X-PUBLISHED-TTL:PT1H
BEGIN:VTIMEZONE
TZID:Europe/London
BEGIN:DAYLIGHT
TZOFFSETFROM:+0000
TZOFFSETTO:+0100
TZNAME:BST
DTSTART:20250330T010000
END:DAYLIGHT
BEGIN:STANDARD
TZOFFSETFROM:+0100
TZOFFSETTO:+0000
TZNAME:GMT
DTSTART:20251026T010000
END:STANDARD
BEGIN:DAYLIGHT
TZOFFSETFROM:+0000
TZOFFSETTO:+0100
TZNAME:BST
DTSTART:20260329T010000
END:DAYLIGHT
BEGIN:STANDARD
TZOFFSETFROM:+0100
TZOFFSETTO:+0000
TZNAME:GMT
DTSTART:20261025T010000
END:STANDARD
BEGIN:DAYLIGHT
TZOFFSETFROM:+0000
TZOFFSETTO:+0100
TZNAME:BST
DTSTART:20270328T010000
END:DAYLIGHT
BEGIN:STANDARD
TZOFFSETFROM:+0100
TZOFFSETTO:+0000
TZNAME:GMT
DTSTART:20271031T010000
END:STANDARD
END:VTIMEZONE
BEGIN:VEVENT
DTSTART;VALUE=DATE:20260501
DTEND;VALUE=DATE:20260502
DTSTAMP:20260421T203932
CREATED:20260421T151357Z
LAST-MODIFIED:20260421T151357Z
UID:10020674-1777593600-1777679999@www.discoverfrome.co.uk
SUMMARY:Dress Up Fridays - Frome Connects May 2026
DESCRIPTION:Dress up Fridays is an excuse to get your glad rags or favourite fancy dress on to go about your daily business on a Friday.\nDress up as your alter ego\, dress up as your mother (or is that a bit Norman Bates)?\nWhether working from home\, doing the weekly shop or taking your daily exercise. Do it with pzazz on a Friday.\nRelease your inner fashionista.\nAccessorise\, put a feather in your cap and a spring in your step.\nWear sequins\, put your face on. Get ready to make the world your catwalk.\nFor the month of May we are bringing it back as part of the wider “Frome Connects” project.\nFrome Connects is a town-wide\, people-powered experiment built around connectedness.\nSo raid your wardrobes and let’s put our best foot forward as \n\nFunky\nFresh\nFlossy\nFly\nFancy\nFine\nFoppish\nFrome!
URL:https://www.discoverfrome.co.uk/event/dress-up-fridays-frome-connects-may-2026/2026-05-01/
LOCATION:WHOLE OF FROME\, 68 Rivers Reach\, Frome\, BA11 1AQ
CATEGORIES:Arts,Clothing and textiles,Community,Discover Frome,Family,Theatre
ATTACH;FMTTYPE=image/jpeg:https://www.discoverfrome.co.uk/wp-content/uploads/2026/04/DRESS-UP-FRIDAYS-COVER-PIC.jpg
ORGANIZER;CN="Rare Species":MAILTO:rarespeciesuk@gmail.com
END:VEVENT
BEGIN:VEVENT
DTSTART;VALUE=DATE:20260508
DTEND;VALUE=DATE:20260509
DTSTAMP:20260421T203932
CREATED:20260421T151357Z
LAST-MODIFIED:20260421T151357Z
UID:10020675-1778198400-1778284799@www.discoverfrome.co.uk
SUMMARY:Dress Up Fridays - Frome Connects May 2026
DESCRIPTION:Dress up Fridays is an excuse to get your glad rags or favourite fancy dress on to go about your daily business on a Friday.\nDress up as your alter ego\, dress up as your mother (or is that a bit Norman Bates)?\nWhether working from home\, doing the weekly shop or taking your daily exercise. Do it with pzazz on a Friday.\nRelease your inner fashionista.\nAccessorise\, put a feather in your cap and a spring in your step.\nWear sequins\, put your face on. Get ready to make the world your catwalk.\nFor the month of May we are bringing it back as part of the wider “Frome Connects” project.\nFrome Connects is a town-wide\, people-powered experiment built around connectedness.\nSo raid your wardrobes and let’s put our best foot forward as \n\nFunky\nFresh\nFlossy\nFly\nFancy\nFine\nFoppish\nFrome!
URL:https://www.discoverfrome.co.uk/event/dress-up-fridays-frome-connects-may-2026/2026-05-08/
LOCATION:WHOLE OF FROME\, 68 Rivers Reach\, Frome\, BA11 1AQ
CATEGORIES:Arts,Clothing and textiles,Community,Discover Frome,Family,Theatre
ATTACH;FMTTYPE=image/jpeg:https://www.discoverfrome.co.uk/wp-content/uploads/2026/04/DRESS-UP-FRIDAYS-COVER-PIC.jpg
ORGANIZER;CN="Rare Species":MAILTO:rarespeciesuk@gmail.com
END:VEVENT
BEGIN:VEVENT
DTSTART;VALUE=DATE:20260515
DTEND;VALUE=DATE:20260516
DTSTAMP:20260421T203932
CREATED:20260421T151357Z
LAST-MODIFIED:20260421T151357Z
UID:10020676-1778803200-1778889599@www.discoverfrome.co.uk
SUMMARY:Dress Up Fridays - Frome Connects May 2026
DESCRIPTION:Dress up Fridays is an excuse to get your glad rags or favourite fancy dress on to go about your daily business on a Friday.\nDress up as your alter ego\, dress up as your mother (or is that a bit Norman Bates)?\nWhether working from home\, doing the weekly shop or taking your daily exercise. Do it with pzazz on a Friday.\nRelease your inner fashionista.\nAccessorise\, put a feather in your cap and a spring in your step.\nWear sequins\, put your face on. Get ready to make the world your catwalk.\nFor the month of May we are bringing it back as part of the wider “Frome Connects” project.\nFrome Connects is a town-wide\, people-powered experiment built around connectedness.\nSo raid your wardrobes and let’s put our best foot forward as \n\nFunky\nFresh\nFlossy\nFly\nFancy\nFine\nFoppish\nFrome!
URL:https://www.discoverfrome.co.uk/event/dress-up-fridays-frome-connects-may-2026/2026-05-15/
LOCATION:WHOLE OF FROME\, 68 Rivers Reach\, Frome\, BA11 1AQ
CATEGORIES:Arts,Clothing and textiles,Community,Discover Frome,Family,Theatre
ATTACH;FMTTYPE=image/jpeg:https://www.discoverfrome.co.uk/wp-content/uploads/2026/04/DRESS-UP-FRIDAYS-COVER-PIC.jpg
ORGANIZER;CN="Rare Species":MAILTO:rarespeciesuk@gmail.com
END:VEVENT
BEGIN:VEVENT
DTSTART;VALUE=DATE:20260522
DTEND;VALUE=DATE:20260523
DTSTAMP:20260421T203932
CREATED:20260421T151357Z
LAST-MODIFIED:20260421T151357Z
UID:10020677-1779408000-1779494399@www.discoverfrome.co.uk
SUMMARY:Dress Up Fridays - Frome Connects May 2026
DESCRIPTION:Dress up Fridays is an excuse to get your glad rags or favourite fancy dress on to go about your daily business on a Friday.\nDress up as your alter ego\, dress up as your mother (or is that a bit Norman Bates)?\nWhether working from home\, doing the weekly shop or taking your daily exercise. Do it with pzazz on a Friday.\nRelease your inner fashionista.\nAccessorise\, put a feather in your cap and a spring in your step.\nWear sequins\, put your face on. Get ready to make the world your catwalk.\nFor the month of May we are bringing it back as part of the wider “Frome Connects” project.\nFrome Connects is a town-wide\, people-powered experiment built around connectedness.\nSo raid your wardrobes and let’s put our best foot forward as \n\nFunky\nFresh\nFlossy\nFly\nFancy\nFine\nFoppish\nFrome!
URL:https://www.discoverfrome.co.uk/event/dress-up-fridays-frome-connects-may-2026/2026-05-22/
LOCATION:WHOLE OF FROME\, 68 Rivers Reach\, Frome\, BA11 1AQ
CATEGORIES:Arts,Clothing and textiles,Community,Discover Frome,Family,Theatre
ATTACH;FMTTYPE=image/jpeg:https://www.discoverfrome.co.uk/wp-content/uploads/2026/04/DRESS-UP-FRIDAYS-COVER-PIC.jpg
ORGANIZER;CN="Rare Species":MAILTO:rarespeciesuk@gmail.com
END:VEVENT
BEGIN:VEVENT
DTSTART;VALUE=DATE:20260529
DTEND;VALUE=DATE:20260530
DTSTAMP:20260421T203932
CREATED:20260421T151357Z
LAST-MODIFIED:20260421T151357Z
UID:10020678-1780012800-1780099199@www.discoverfrome.co.uk
SUMMARY:Dress Up Fridays - Frome Connects May 2026
DESCRIPTION:Dress up Fridays is an excuse to get your glad rags or favourite fancy dress on to go about your daily business on a Friday.\nDress up as your alter ego\, dress up as your mother (or is that a bit Norman Bates)?\nWhether working from home\, doing the weekly shop or taking your daily exercise. Do it with pzazz on a Friday.\nRelease your inner fashionista.\nAccessorise\, put a feather in your cap and a spring in your step.\nWear sequins\, put your face on. Get ready to make the world your catwalk.\nFor the month of May we are bringing it back as part of the wider “Frome Connects” project.\nFrome Connects is a town-wide\, people-powered experiment built around connectedness.\nSo raid your wardrobes and let’s put our best foot forward as \n\nFunky\nFresh\nFlossy\nFly\nFancy\nFine\nFoppish\nFrome!
URL:https://www.discoverfrome.co.uk/event/dress-up-fridays-frome-connects-may-2026/2026-05-29/
LOCATION:WHOLE OF FROME\, 68 Rivers Reach\, Frome\, BA11 1AQ
CATEGORIES:Arts,Clothing and textiles,Community,Discover Frome,Family,Theatre
ATTACH;FMTTYPE=image/jpeg:https://www.discoverfrome.co.uk/wp-content/uploads/2026/04/DRESS-UP-FRIDAYS-COVER-PIC.jpg
ORGANIZER;CN="Rare Species":MAILTO:rarespeciesuk@gmail.com
END:VEVENT
END:VCALENDAR