BEGIN:VCALENDAR
VERSION:2.0
PRODID:-//Discover Frome - ECPv6.15.20//NONSGML v1.0//EN
CALSCALE:GREGORIAN
METHOD:PUBLISH
X-ORIGINAL-URL:https://www.discoverfrome.co.uk
X-WR-CALDESC:Events for Discover Frome
REFRESH-INTERVAL;VALUE=DURATION:PT1H
X-Robots-Tag:noindex
X-PUBLISHED-TTL:PT1H
BEGIN:VTIMEZONE
TZID:Europe/London
BEGIN:DAYLIGHT
TZOFFSETFROM:+0000
TZOFFSETTO:+0100
TZNAME:BST
DTSTART:20250330T010000
END:DAYLIGHT
BEGIN:STANDARD
TZOFFSETFROM:+0100
TZOFFSETTO:+0000
TZNAME:GMT
DTSTART:20251026T010000
END:STANDARD
BEGIN:DAYLIGHT
TZOFFSETFROM:+0000
TZOFFSETTO:+0100
TZNAME:BST
DTSTART:20260329T010000
END:DAYLIGHT
BEGIN:STANDARD
TZOFFSETFROM:+0100
TZOFFSETTO:+0000
TZNAME:GMT
DTSTART:20261025T010000
END:STANDARD
BEGIN:DAYLIGHT
TZOFFSETFROM:+0000
TZOFFSETTO:+0100
TZNAME:BST
DTSTART:20270328T010000
END:DAYLIGHT
BEGIN:STANDARD
TZOFFSETFROM:+0100
TZOFFSETTO:+0000
TZNAME:GMT
DTSTART:20271031T010000
END:STANDARD
END:VTIMEZONE
BEGIN:VEVENT
DTSTART;TZID=Europe/London:20260418T190000
DTEND;TZID=Europe/London:20260418T220000
DTSTAMP:20260416T034701
CREATED:20260305T161735Z
LAST-MODIFIED:20260330T103953Z
UID:10020417-1776538800-1776549600@www.discoverfrome.co.uk
SUMMARY:Spring Feast at Vallis Farm
DESCRIPTION:An abundant\, seasonal feast in one of Frome’s most beautiful settings\, hosted by Kate Foster\, The Intuitive Chef. \nJoin us at Vallis Farm for an evening of thoughtful\, flavour-led cooking inspired by spring’s best ingredients\, sourced from some of our favourite Somerset and Wiltshire farmers and growers. Expect generous plates\, vibrant flavours and a warm\, relaxed atmosphere. The last supper club sold out — early booking recommended. \nCome with friends\, or come alone and leave having shared a table with new friends. \nCanapés and aperitifs at 7pm (hopefully in the garden!) \n– The Spring Fling (gin\, elderflower\, citrus syrup\, bubbles) \n– Citrus-cured chalk stream trout\, cucumber and mint pickle \n– Vallis Vale nettle and Whitelake feta arancini \n– New season radish and Vallis botanicals smørrebrød \nSupper at 7.45pm \n– Vallis Vale wild garlic sourdough focaccia\, Honest Toil extra virgin olive oil \n– Whipped Somerset goats cheese\, heritage beetroot\, candied hazelnut crumb \n* \n– Tadhill heritage breed beef\, celeriac rösti\, John Hurd’s watercress\, pickled walnut ketchup \n– Vegetarian: Handmade spelt and walnut gnocchi in brown butter\, asparagus\, Whitelake English pecorino \n– Olive oil roasted new potatoes\, Vallis seasonal greens \n* \n– Pistachio and raspberry tiramisú \nApéritif and 4 courses: £60/person\, thoughtfully curated wines and interesting non-alcoholic options available at our pop-up bar. \nVenue: Vallis Farm\, Egford Hill\, Frome BA11 3JQ
URL:https://www.discoverfrome.co.uk/event/spring-feast-at-vallis-farm/
LOCATION:Vallis Farm\, Egford Hill\, Frome\, BA11 3JQ\, United Kingdom
CATEGORIES:Discover Frome,Food and drink
ATTACH;FMTTYPE=image/jpeg:https://www.discoverfrome.co.uk/wp-content/uploads/2026/03/DSC00153.jpeg
ORGANIZER;CN="The Intuitive Chef":MAILTO:kate@theintuitivechef.co.uk
END:VEVENT
END:VCALENDAR