BEGIN:VCALENDAR
VERSION:2.0
PRODID:-//Discover Frome - ECPv6.15.20//NONSGML v1.0//EN
CALSCALE:GREGORIAN
METHOD:PUBLISH
X-WR-CALNAME:Discover Frome
X-ORIGINAL-URL:https://www.discoverfrome.co.uk
X-WR-CALDESC:Events for Discover Frome
REFRESH-INTERVAL;VALUE=DURATION:PT1H
X-Robots-Tag:noindex
X-PUBLISHED-TTL:PT1H
BEGIN:VTIMEZONE
TZID:Europe/London
BEGIN:DAYLIGHT
TZOFFSETFROM:+0000
TZOFFSETTO:+0100
TZNAME:BST
DTSTART:20250330T010000
END:DAYLIGHT
BEGIN:STANDARD
TZOFFSETFROM:+0100
TZOFFSETTO:+0000
TZNAME:GMT
DTSTART:20251026T010000
END:STANDARD
BEGIN:DAYLIGHT
TZOFFSETFROM:+0000
TZOFFSETTO:+0100
TZNAME:BST
DTSTART:20260329T010000
END:DAYLIGHT
BEGIN:STANDARD
TZOFFSETFROM:+0100
TZOFFSETTO:+0000
TZNAME:GMT
DTSTART:20261025T010000
END:STANDARD
BEGIN:DAYLIGHT
TZOFFSETFROM:+0000
TZOFFSETTO:+0100
TZNAME:BST
DTSTART:20270328T010000
END:DAYLIGHT
BEGIN:STANDARD
TZOFFSETFROM:+0100
TZOFFSETTO:+0000
TZNAME:GMT
DTSTART:20271031T010000
END:STANDARD
END:VTIMEZONE
BEGIN:VEVENT
DTSTART;TZID=Europe/London:20260322T120000
DTEND;TZID=Europe/London:20260322T123000
DTSTAMP:20260420T004939
CREATED:20260212T163515Z
LAST-MODIFIED:20260318T135343Z
UID:10020106-1774180800-1774182600@www.discoverfrome.co.uk
SUMMARY:Bicycle Race flash mob
DESCRIPTION:Join local legend Cheryl Stringer for another of her fantastic all-singing\, all-dancing flash mobs this March! \nThis flash mob will take place at Frome Community Bike Project\, dancing along to Bicycle Race by Queen and lasting for three minutes. There will be a few live rehearsal opportunities\, a video of the choreography and a seated choreography option available to learn – all for a fun event that will raise funds for a local charity. \nKeep an eye of Mojo Moves website and social media for more information.
URL:https://www.discoverfrome.co.uk/event/bicycle-race-flash-mob/
LOCATION:Frome Community Bike Project Workshop\, Frome\, United Kingdom
CATEGORIES:Charity event,Community,Dance,Discover Frome,Fundraiser,Music
ATTACH;FMTTYPE=image/jpeg:https://www.discoverfrome.co.uk/wp-content/uploads/2025/03/mojo-moves-e1773842017703.jpg
ORGANIZER;CN="Mojo Moves":MAILTO:cheryl@mojomoves.co.uk
END:VEVENT
END:VCALENDAR