BEGIN:VCALENDAR
VERSION:2.0
PRODID:-//Discover Frome - ECPv6.15.20//NONSGML v1.0//EN
CALSCALE:GREGORIAN
METHOD:PUBLISH
X-ORIGINAL-URL:https://www.discoverfrome.co.uk
X-WR-CALDESC:Events for Discover Frome
REFRESH-INTERVAL;VALUE=DURATION:PT1H
X-Robots-Tag:noindex
X-PUBLISHED-TTL:PT1H
BEGIN:VTIMEZONE
TZID:Europe/London
BEGIN:DAYLIGHT
TZOFFSETFROM:+0000
TZOFFSETTO:+0100
TZNAME:BST
DTSTART:20250330T010000
END:DAYLIGHT
BEGIN:STANDARD
TZOFFSETFROM:+0100
TZOFFSETTO:+0000
TZNAME:GMT
DTSTART:20251026T010000
END:STANDARD
BEGIN:DAYLIGHT
TZOFFSETFROM:+0000
TZOFFSETTO:+0100
TZNAME:BST
DTSTART:20260329T010000
END:DAYLIGHT
BEGIN:STANDARD
TZOFFSETFROM:+0100
TZOFFSETTO:+0000
TZNAME:GMT
DTSTART:20261025T010000
END:STANDARD
BEGIN:DAYLIGHT
TZOFFSETFROM:+0000
TZOFFSETTO:+0100
TZNAME:BST
DTSTART:20270328T010000
END:DAYLIGHT
BEGIN:STANDARD
TZOFFSETFROM:+0100
TZOFFSETTO:+0000
TZNAME:GMT
DTSTART:20271031T010000
END:STANDARD
END:VTIMEZONE
BEGIN:VEVENT
DTSTART;TZID=Europe/London:20260409T100000
DTEND;TZID=Europe/London:20260409T153000
DTSTAMP:20260416T053217
CREATED:20260323T110823Z
LAST-MODIFIED:20260323T110823Z
UID:10020476-1775728800-1775748600@www.discoverfrome.co.uk
SUMMARY:Play in a Day
DESCRIPTION:Devise a whole play in just one day! Suitable for children aged 7 – 14. \nWorking\, playing and creating together\, you will learn fun new drama techniques\, take on characters and make your own piece of theatre to perform to friends and family at the end of the day. \nEmail merlintheatreproductions@gmail.com for a registration form.
URL:https://www.discoverfrome.co.uk/event/play-in-a-day/
LOCATION:Merlin Theatre\, Bath Road\, Frome\, BA11 2HG 
CATEGORIES:Arts,Children,Discover Frome,Half term and holidays,Musical,Theatre,Workshop
ATTACH;FMTTYPE=image/jpeg:https://www.discoverfrome.co.uk/wp-content/uploads/1970/01/Merlin-Theatre-auditorium-1280x500-1.jpg
ORGANIZER;CN="Merlin Theatre":MAILTO:merlintheatremarketing@gmail.com
GEO:51.2412644;-2.3118242
X-APPLE-STRUCTURED-LOCATION;VALUE=URI;X-ADDRESS=Merlin Theatre Bath Road Frome BA11 2HG;X-APPLE-RADIUS=500;X-TITLE=Bath Road:geo:-2.3118242,51.2412644
END:VEVENT
BEGIN:VEVENT
DTSTART;TZID=Europe/London:20260408T100000
DTEND;TZID=Europe/London:20260408T173000
DTSTAMP:20260416T053217
CREATED:20260323T110403Z
LAST-MODIFIED:20260323T110502Z
UID:10020475-1775642400-1775669400@www.discoverfrome.co.uk
SUMMARY:Drama fun workshop
DESCRIPTION:Immerse yourself into the world of drama with a fun workshop full of drama activities and techniques to develop your skills\, creativity and confidence. \n\n7 – 11 years: 10am – 2pm. Bring a packed lunch.\n12 – 16 years: 2:30pm – 5:30pm.\n\nWear clothes you can move in and plenty to drink. \nEmail merlintheatreproductions@gmail.com for a registration form.
URL:https://www.discoverfrome.co.uk/event/drama-fun-workshop/
LOCATION:Merlin Theatre\, Bath Road\, Frome\, BA11 2HG 
CATEGORIES:Arts,Children,Discover Frome,Half term and holidays,Musical,Theatre,Workshop
ATTACH;FMTTYPE=image/jpeg:https://www.discoverfrome.co.uk/wp-content/uploads/1970/01/Merlin-Theatre-auditorium-1280x500-1.jpg
ORGANIZER;CN="Merlin Theatre":MAILTO:merlintheatremarketing@gmail.com
GEO:51.2412644;-2.3118242
X-APPLE-STRUCTURED-LOCATION;VALUE=URI;X-ADDRESS=Merlin Theatre Bath Road Frome BA11 2HG;X-APPLE-RADIUS=500;X-TITLE=Bath Road:geo:-2.3118242,51.2412644
END:VEVENT
BEGIN:VEVENT
DTSTART;TZID=Europe/London:20260219T100000
DTEND;TZID=Europe/London:20260219T130000
DTSTAMP:20260416T053217
CREATED:20260209T161510Z
LAST-MODIFIED:20260209T161510Z
UID:10019866-1771495200-1771506000@www.discoverfrome.co.uk
SUMMARY:Drama workshop
DESCRIPTION:Merlin Theatre Productions are holding a drama workshop during the half term for children aged 7 – 13. The workshop is on 19th February\, 10am – 1pm and costs £15 per child.
URL:https://www.discoverfrome.co.uk/event/drama-workshop/
LOCATION:Merlin Theatre\, Bath Road\, Frome\, BA11 2HG 
CATEGORIES:Arts,Children,Discover Frome,Half term and holidays,Musical,Theatre,Workshop
ATTACH;FMTTYPE=image/jpeg:https://www.discoverfrome.co.uk/wp-content/uploads/1970/01/Merlin-Theatre-auditorium-1280x500-1.jpg
ORGANIZER;CN="Merlin Theatre":MAILTO:merlintheatremarketing@gmail.com
GEO:51.2412644;-2.3118242
X-APPLE-STRUCTURED-LOCATION;VALUE=URI;X-ADDRESS=Merlin Theatre Bath Road Frome BA11 2HG;X-APPLE-RADIUS=500;X-TITLE=Bath Road:geo:-2.3118242,51.2412644
END:VEVENT
END:VCALENDAR