BEGIN:VCALENDAR
VERSION:2.0
PRODID:-//Discover Frome - ECPv6.15.20//NONSGML v1.0//EN
CALSCALE:GREGORIAN
METHOD:PUBLISH
X-ORIGINAL-URL:https://www.discoverfrome.co.uk
X-WR-CALDESC:Events for Discover Frome
REFRESH-INTERVAL;VALUE=DURATION:PT1H
X-Robots-Tag:noindex
X-PUBLISHED-TTL:PT1H
BEGIN:VTIMEZONE
TZID:Europe/London
BEGIN:DAYLIGHT
TZOFFSETFROM:+0000
TZOFFSETTO:+0100
TZNAME:BST
DTSTART:20250330T010000
END:DAYLIGHT
BEGIN:STANDARD
TZOFFSETFROM:+0100
TZOFFSETTO:+0000
TZNAME:GMT
DTSTART:20251026T010000
END:STANDARD
BEGIN:DAYLIGHT
TZOFFSETFROM:+0000
TZOFFSETTO:+0100
TZNAME:BST
DTSTART:20260329T010000
END:DAYLIGHT
BEGIN:STANDARD
TZOFFSETFROM:+0100
TZOFFSETTO:+0000
TZNAME:GMT
DTSTART:20261025T010000
END:STANDARD
BEGIN:DAYLIGHT
TZOFFSETFROM:+0000
TZOFFSETTO:+0100
TZNAME:BST
DTSTART:20270328T010000
END:DAYLIGHT
BEGIN:STANDARD
TZOFFSETFROM:+0100
TZOFFSETTO:+0000
TZNAME:GMT
DTSTART:20271031T010000
END:STANDARD
END:VTIMEZONE
BEGIN:VEVENT
DTSTART;TZID=Europe/London:20260311T190000
DTEND;TZID=Europe/London:20260311T210000
DTSTAMP:20260423T044243
CREATED:20260304T160413Z
LAST-MODIFIED:20260304T160413Z
UID:10020386-1773255600-1773262800@www.discoverfrome.co.uk
SUMMARY:Walking the Pagan Wheel - A Spring Threshold Ceremony
DESCRIPTION:🌿 Spring Is Stirring… Are You? 🌿 \nThe light is stretching further into the evenings. The earth is waking up. You can feel it — that subtle but undeniable sense that it’s time to move. \nI’m hosting a powerful Spring Threshold Ceremony as we approach the Equinox — a space to step out of winter and consciously meet the growing light. \nWe’ll work with the energy of balance\, renewal and emergence through: \n🔥 Seasonal ritual to bring clarity and reflect on balance within our lives.\n🌱 Intention-setting\n✨ A handcrafted spring charm to anchor what’s ready to rise \nThis isn’t just a cosy gathering — it’s a moment to align yourself with the momentum of the season. \nIf you’re ready to shake off winter and step into what’s next\, come join us. \nTo book follow the link below 💕
URL:https://www.discoverfrome.co.uk/event/walking-the-pagan-wheel-a-spring-threshold-ceremony/
LOCATION:The Round Tower. Black Swan Arts\, Frome. BA11 1BB\, The Round Tower\, Black Swan Arts\, Frome\, BA11 1BB
CATEGORIES:Crafts,Discover Frome,Nature,Spirituality,Workshop
ATTACH;FMTTYPE=image/jpeg:https://www.discoverfrome.co.uk/wp-content/uploads/2026/03/IMG_1944.jpeg
ORGANIZER;CN="Katy Little":MAILTO:Little-healthcare@outlook.com
END:VEVENT
END:VCALENDAR