BEGIN:VCALENDAR
VERSION:2.0
PRODID:-//Discover Frome - ECPv6.15.20//NONSGML v1.0//EN
CALSCALE:GREGORIAN
METHOD:PUBLISH
X-ORIGINAL-URL:https://www.discoverfrome.co.uk
X-WR-CALDESC:Events for Discover Frome
REFRESH-INTERVAL;VALUE=DURATION:PT1H
X-Robots-Tag:noindex
X-PUBLISHED-TTL:PT1H
BEGIN:VTIMEZONE
TZID:Europe/London
BEGIN:DAYLIGHT
TZOFFSETFROM:+0000
TZOFFSETTO:+0100
TZNAME:BST
DTSTART:20250330T010000
END:DAYLIGHT
BEGIN:STANDARD
TZOFFSETFROM:+0100
TZOFFSETTO:+0000
TZNAME:GMT
DTSTART:20251026T010000
END:STANDARD
BEGIN:DAYLIGHT
TZOFFSETFROM:+0000
TZOFFSETTO:+0100
TZNAME:BST
DTSTART:20260329T010000
END:DAYLIGHT
BEGIN:STANDARD
TZOFFSETFROM:+0100
TZOFFSETTO:+0000
TZNAME:GMT
DTSTART:20261025T010000
END:STANDARD
BEGIN:DAYLIGHT
TZOFFSETFROM:+0000
TZOFFSETTO:+0100
TZNAME:BST
DTSTART:20270328T010000
END:DAYLIGHT
BEGIN:STANDARD
TZOFFSETFROM:+0100
TZOFFSETTO:+0000
TZNAME:GMT
DTSTART:20271031T010000
END:STANDARD
END:VTIMEZONE
BEGIN:VEVENT
DTSTART;TZID=Europe/London:20260214T120000
DTEND;TZID=Europe/London:20260214T150000
DTSTAMP:20260421T124240
CREATED:20260119T134458Z
LAST-MODIFIED:20260202T114506Z
UID:10019630-1771070400-1771081200@www.discoverfrome.co.uk
SUMMARY:'Stacks of Love' pancake dash
DESCRIPTION:A free\, fun\, family-friendly event supported by Bonne Maman marks Valentine’s Day and Pancake Day in the town centre on Saturday 14th February from 12pm to 3pm\, as the ‘Stacks of Love’ pancake dash comes to town. From midday\, there will be themed crafts\, games\, Valentine’s face painting\, hot and cold drinks\, a crêpe stall and other sweet treats around the Boyle Cross\, plus a Valentine’s-themed selfie frame for a portrait of you and your Valentine. From 1pm\, pancake dashes set off every five minutes from outside the Blue Boar up to the Boyle Cross.
URL:https://www.discoverfrome.co.uk/event/stacks-of-love-pancake-dash/
LOCATION:Frome Town Centre
CATEGORIES:Children,Community,Crafts,Discover Frome,Family,Food and drink,Sport
ATTACH;FMTTYPE=image/jpeg:https://www.discoverfrome.co.uk/wp-content/uploads/2026/01/Cheryl-with-Valentine-outfit-v2-for-web-edited.jpg
ORGANIZER;CN="Frome Town Council":MAILTO:info@frometowncouncil.gov.uk
GEO:51.231623663092;-2.3206995621115
END:VEVENT
BEGIN:VEVENT
DTSTART;TZID=Europe/London:20260208T133000
DTEND;TZID=Europe/London:20260208T153000
DTSTAMP:20260421T124240
CREATED:20251217T155853Z
LAST-MODIFIED:20260130T121959Z
UID:10019548-1770557400-1770564600@www.discoverfrome.co.uk
SUMMARY:Wassail
DESCRIPTION:The fourth annual Weylands Wassail is set to take place on Sunday 8th February from 1:30pm to 3:30pm\, in the community orchard at Weylands. From 1:30pm onwards\, a ‘village green’ event will offer family-friendly craft activities\, making willow crowns and wassail sticks. Hot mulled cider and apple juice will ward off the cold. The wassail ceremony will start at 2:30pm\, led by performers Annabelle Macfadyen and Simon Blakeman and everyone will be invited to join them in making noise to ‘wake the orchard’ and ‘toast the trees’ (full instructions provided). Frome Street Bandits will round off the day with a rousing musical performance until 3:30pm.
URL:https://www.discoverfrome.co.uk/event/wassail/
LOCATION:Weylands\, Frome\, BA11 3AQ
CATEGORIES:Children,Community,Crafts,Discover Frome,Environment,Family,Gardens,History and heritage,Live band,Music,Nature
ATTACH;FMTTYPE=image/jpeg:https://www.discoverfrome.co.uk/wp-content/uploads/2025/06/Wassail-in-orchard.jpg
ORGANIZER;CN="Frome Town Council":MAILTO:info@frometowncouncil.gov.uk
END:VEVENT
BEGIN:VEVENT
DTSTART;TZID=Europe/London:20260131T100000
DTEND;TZID=Europe/London:20260131T130000
DTSTAMP:20260421T124240
CREATED:20260119T132704Z
LAST-MODIFIED:20260119T132704Z
UID:10019629-1769853600-1769864400@www.discoverfrome.co.uk
SUMMARY:Donate IT tech amnesty
DESCRIPTION:Donate IT are back with another tech amnesty on Saturday 31st January\, 10am – 1pm at Frome Town Hall. Come to the car park at the back of the town hall to drop off any old or unused devices\, and Donate IT will wipe all devices before repairing them\, using them for parts\, or recycling them if they are no longer any good. Previous amnesties have seen hundred of devices saved from going in landfill and being given a new lease of life or responsibly recycled. The Donate IT team will be based in the town hall car park\, or will move inside in the case of of bad weather.
URL:https://www.discoverfrome.co.uk/event/donate-it-tech-amnesty/
LOCATION:Frome Town Hall\, Christchurch Street West\, Frome\, BA11 1EB
CATEGORIES:Discover Frome,Sustainability
ATTACH;FMTTYPE=image/jpeg:https://www.discoverfrome.co.uk/wp-content/uploads/2026/01/devices-donateit-jan-2025.jpg
ORGANIZER;CN="Frome Town Council":MAILTO:info@frometowncouncil.gov.uk
GEO:51.2291831;-2.323658
X-APPLE-STRUCTURED-LOCATION;VALUE=URI;X-ADDRESS=Frome Town Hall Christchurch Street West Frome BA11 1EB;X-APPLE-RADIUS=500;X-TITLE=Christchurch Street West:geo:-2.323658,51.2291831
END:VEVENT
END:VCALENDAR