BEGIN:VCALENDAR
VERSION:2.0
PRODID:-//Discover Frome - ECPv6.15.20//NONSGML v1.0//EN
CALSCALE:GREGORIAN
METHOD:PUBLISH
X-ORIGINAL-URL:https://www.discoverfrome.co.uk
X-WR-CALDESC:Events for Discover Frome
REFRESH-INTERVAL;VALUE=DURATION:PT1H
X-Robots-Tag:noindex
X-PUBLISHED-TTL:PT1H
BEGIN:VTIMEZONE
TZID:Europe/London
BEGIN:DAYLIGHT
TZOFFSETFROM:+0000
TZOFFSETTO:+0100
TZNAME:BST
DTSTART:20250330T010000
END:DAYLIGHT
BEGIN:STANDARD
TZOFFSETFROM:+0100
TZOFFSETTO:+0000
TZNAME:GMT
DTSTART:20251026T010000
END:STANDARD
BEGIN:DAYLIGHT
TZOFFSETFROM:+0000
TZOFFSETTO:+0100
TZNAME:BST
DTSTART:20260329T010000
END:DAYLIGHT
BEGIN:STANDARD
TZOFFSETFROM:+0100
TZOFFSETTO:+0000
TZNAME:GMT
DTSTART:20261025T010000
END:STANDARD
BEGIN:DAYLIGHT
TZOFFSETFROM:+0000
TZOFFSETTO:+0100
TZNAME:BST
DTSTART:20270328T010000
END:DAYLIGHT
BEGIN:STANDARD
TZOFFSETFROM:+0100
TZOFFSETTO:+0000
TZNAME:GMT
DTSTART:20271031T010000
END:STANDARD
END:VTIMEZONE
BEGIN:VEVENT
DTSTART;TZID=Europe/London:20260326T100000
DTEND;TZID=Europe/London:20260326T150000
DTSTAMP:20260423T043724
CREATED:20260317T145900Z
LAST-MODIFIED:20260318T101235Z
UID:10020433-1774519200-1774537200@www.discoverfrome.co.uk
SUMMARY:Be Inspired by Nature and Paint Workshop
DESCRIPTION:Come and enjoy painting in different media\, exploring with watercolour and silk paint. Experiment with painting on different types of paper and silk. \nJeanette\, your course tutor\, will offer different sources of inspiration from contemporary artists’ work\, photographs and natural resources. \nCome and explore painting anything that relates to the natural world and the shapes and colours that the natural world creates. You may decide to paint trees\, leaves and flowers\, or woods and mountains. The choice is yours! \nBreathe\, live and embrace the sounds of the natural world with meditative music; you can also write a small poem that will relate to your painting. Explore your inner creative self and paint your own picture in a relaxing and peaceful environment.
URL:https://www.discoverfrome.co.uk/event/be-inspired-by-nature-and-paint-workshop/
LOCATION:Makers Yard\, 37 Lower Keyford\, Frome\, Somerset\, BA11 4AR\, United Kingdom
CATEGORIES:Arts,Crafts,Discover Frome,Nature,Workshop
ATTACH;FMTTYPE=image/jpeg:https://www.discoverfrome.co.uk/wp-content/uploads/2026/03/jeanette-brochure.jpg
ORGANIZER;CN="Frome Community Education":MAILTO:info@fromecommed.org.uk 
END:VEVENT
END:VCALENDAR