BEGIN:VCALENDAR
VERSION:2.0
PRODID:-//Discover Frome - ECPv6.15.20//NONSGML v1.0//EN
CALSCALE:GREGORIAN
METHOD:PUBLISH
X-ORIGINAL-URL:https://www.discoverfrome.co.uk
X-WR-CALDESC:Events for Discover Frome
REFRESH-INTERVAL;VALUE=DURATION:PT1H
X-Robots-Tag:noindex
X-PUBLISHED-TTL:PT1H
BEGIN:VTIMEZONE
TZID:Europe/London
BEGIN:DAYLIGHT
TZOFFSETFROM:+0000
TZOFFSETTO:+0100
TZNAME:BST
DTSTART:20250330T010000
END:DAYLIGHT
BEGIN:STANDARD
TZOFFSETFROM:+0100
TZOFFSETTO:+0000
TZNAME:GMT
DTSTART:20251026T010000
END:STANDARD
BEGIN:DAYLIGHT
TZOFFSETFROM:+0000
TZOFFSETTO:+0100
TZNAME:BST
DTSTART:20260329T010000
END:DAYLIGHT
BEGIN:STANDARD
TZOFFSETFROM:+0100
TZOFFSETTO:+0000
TZNAME:GMT
DTSTART:20261025T010000
END:STANDARD
BEGIN:DAYLIGHT
TZOFFSETFROM:+0000
TZOFFSETTO:+0100
TZNAME:BST
DTSTART:20270328T010000
END:DAYLIGHT
BEGIN:STANDARD
TZOFFSETFROM:+0100
TZOFFSETTO:+0000
TZNAME:GMT
DTSTART:20271031T010000
END:STANDARD
END:VTIMEZONE
BEGIN:VEVENT
DTSTART;TZID=Europe/London:20260223T183000
DTEND;TZID=Europe/London:20260223T193000
DTSTAMP:20260422T000859
CREATED:20260126T131912Z
LAST-MODIFIED:20260126T131912Z
UID:10019666-1771871400-1771875000@www.discoverfrome.co.uk
SUMMARY:Gentle yoga
DESCRIPTION:Gentle Flow Yoga – Mondays at 6:30pm at Vallis Farm. \nJoin for a gentle vinyasa flow with Ashtanga elements. Expect a blend of traditional Ashtanga; breath-work and postures. There will be a mixture of stillness and movement to help you take time for yourself. A practice to both stimulate and regulate your nervous system. \nAll levels welcome
URL:https://www.discoverfrome.co.uk/event/gentle-yoga/2026-02-23/
LOCATION:Vallis Farm\, Egford Hill\, Frome\, BA11 3JQ\, United Kingdom
CATEGORIES:Discover Frome,Health and wellbeing
ATTACH;FMTTYPE=image/jpeg:https://www.discoverfrome.co.uk/wp-content/uploads/2026/01/online-yoga-class-e1769433538169.jpg
END:VEVENT
END:VCALENDAR