BEGIN:VCALENDAR
VERSION:2.0
PRODID:-//Discover Frome - ECPv6.15.20//NONSGML v1.0//EN
CALSCALE:GREGORIAN
METHOD:PUBLISH
X-WR-CALNAME:Discover Frome
X-ORIGINAL-URL:https://www.discoverfrome.co.uk
X-WR-CALDESC:Events for Discover Frome
REFRESH-INTERVAL;VALUE=DURATION:PT1H
X-Robots-Tag:noindex
X-PUBLISHED-TTL:PT1H
BEGIN:VTIMEZONE
TZID:Europe/London
BEGIN:DAYLIGHT
TZOFFSETFROM:+0000
TZOFFSETTO:+0100
TZNAME:BST
DTSTART:20250330T010000
END:DAYLIGHT
BEGIN:STANDARD
TZOFFSETFROM:+0100
TZOFFSETTO:+0000
TZNAME:GMT
DTSTART:20251026T010000
END:STANDARD
BEGIN:DAYLIGHT
TZOFFSETFROM:+0000
TZOFFSETTO:+0100
TZNAME:BST
DTSTART:20260329T010000
END:DAYLIGHT
BEGIN:STANDARD
TZOFFSETFROM:+0100
TZOFFSETTO:+0000
TZNAME:GMT
DTSTART:20261025T010000
END:STANDARD
BEGIN:DAYLIGHT
TZOFFSETFROM:+0000
TZOFFSETTO:+0100
TZNAME:BST
DTSTART:20270328T010000
END:DAYLIGHT
BEGIN:STANDARD
TZOFFSETFROM:+0100
TZOFFSETTO:+0000
TZNAME:GMT
DTSTART:20271031T010000
END:STANDARD
END:VTIMEZONE
BEGIN:VEVENT
DTSTART;TZID=Europe/London:20260423T100000
DTEND;TZID=Europe/London:20260423T140000
DTSTAMP:20260421T105255
CREATED:20260219T105112Z
LAST-MODIFIED:20260219T105128Z
UID:10020290-1776938400-1776952800@www.discoverfrome.co.uk
SUMMARY:Discovery Day for Retreat and Event Hosts
DESCRIPTION:Dreaming of hosting a retreat at 42 Acres? Been following us from afar? Curious to experience us IRL? Here’s an invitation to see\, hear\, taste and feel our offer for yourself! \nJoin us for an experiential ‘Discovery Day.’ designed especially for retreat hosts and practitioners. With spaciousness to explore all our spaces and immerse yourself in this extraordinary\, rewilded land. \nMeet our team\, ask your questions\, and learn about our ‘Soil-to-Gut’ land and food philosophy\, our consciously crafted “Whole Self Service” guest experience\, and our pioneering rewilding and species-reintroduction projects. \n42 Acres was conceived as a home for personal\, social\, and environmental change. We’ve been holding space for people to learn\, heal\, and grow for over a decade. Come and experience it for yourself…it could be the first step towards bringing your dream retreat to life! \nDate: Thu 23 Apr\nTime: 10:00 – 14:00\nFree: Spaces are limited. We can’t wait to share 42 Acres with you!\nFind out more about us: www.42acres.com & @42acresretreat \nThings to Note: \n-Please aim to arrive on time.\n-Please wear comfy footwear and weather-appropriate clothing.\n-We work on the land and are used to getting a bit wet. We will only cancel if the weather is severe.\n-Please read our Getting Here page before you set off – and head for Farmhouse Retreat Centre.\n-We will provide a simple\, one pot\, soil-to-gut lunch and our “hug in a mug” medicinal mushroom chai.\n-Whilst we love our four-legged friends\, we cannot welcome dogs at this event.
URL:https://www.discoverfrome.co.uk/event/discovery-day-for-retreat-and-event-hosts/
LOCATION:42 Acres\, Witham Friary\, Frome\, BA11 5HL
CATEGORIES:Business,Community,Discover Frome,Environment,Food and drink,Gardens,Health and wellbeing,Nature,Open day,Spirituality,Sustainability
ATTACH;FMTTYPE=image/jpeg:https://www.discoverfrome.co.uk/wp-content/uploads/2026/02/Bird-25.jpg
ORGANIZER;CN="42 Acres":MAILTO:bookings@42acres.com
GEO:51.1697463;-2.3651842
X-APPLE-STRUCTURED-LOCATION;VALUE=URI;X-ADDRESS=42 Acres Witham Friary Frome BA11 5HL;X-APPLE-RADIUS=500;X-TITLE=Witham Friary:geo:-2.3651842,51.1697463
END:VEVENT
BEGIN:VEVENT
DTSTART;TZID=Europe/London:20260510T090000
DTEND;TZID=Europe/London:20260510T150000
DTSTAMP:20260421T105255
CREATED:20260226T113408Z
LAST-MODIFIED:20260226T113408Z
UID:10020341-1778403600-1778425200@www.discoverfrome.co.uk
SUMMARY:Frome Flea Market & Craft Fair
DESCRIPTION:A vibrant indoor and outdoor Flea Market & Craft Fair with over 250 individual and independent traders. From flea market stalls selling antiques\, collectables\, vintage and retro items to talented designer makers\, artisans and crafters showcasing their work. \n\nEntry £3 per adult (under 16’s free)\nFree entry to all classic vehicles (No need to pre-book)\nLive music\nChildren’s fun rides / inflatables\nOn-site catering and bar\nFree parking\nInside stands – from £20 – please pre-book\nOutside pitches – all £20 – cash only on the day\n\nTo book a stall call Claire on 07722752404\nWebsite – https://www.fromefleaandcraft.com/
URL:https://www.discoverfrome.co.uk/event/frome-flea-market-craft-fair/2026-05-10/
LOCATION:West Woodlands Showground\, Bunns Lane\, Near Frome\, Somerset\,\, Frome\, BA11 5ES
CATEGORIES:Crafts,Discover Frome,Family,Food and drink,Live band,Market,Music,Shopping
ATTACH;FMTTYPE=image/jpeg:https://www.discoverfrome.co.uk/wp-content/uploads/2026/02/Picture3.jpg
GEO:51.1800893;-2.326666
X-APPLE-STRUCTURED-LOCATION;VALUE=URI;X-ADDRESS=West Woodlands Showground Bunns Lane Near Frome Somerset Frome BA11 5ES;X-APPLE-RADIUS=500;X-TITLE=Bunns Lane\, Near Frome\, Somerset\,:geo:-2.326666,51.1800893
END:VEVENT
BEGIN:VEVENT
DTSTART;TZID=Europe/London:20260614T090000
DTEND;TZID=Europe/London:20260614T150000
DTSTAMP:20260421T105255
CREATED:20260226T113408Z
LAST-MODIFIED:20260226T113408Z
UID:10020342-1781427600-1781449200@www.discoverfrome.co.uk
SUMMARY:Frome Flea Market & Craft Fair
DESCRIPTION:A vibrant indoor and outdoor Flea Market & Craft Fair with over 250 individual and independent traders. From flea market stalls selling antiques\, collectables\, vintage and retro items to talented designer makers\, artisans and crafters showcasing their work. \n\nEntry £3 per adult (under 16’s free)\nFree entry to all classic vehicles (No need to pre-book)\nLive music\nChildren’s fun rides / inflatables\nOn-site catering and bar\nFree parking\nInside stands – from £20 – please pre-book\nOutside pitches – all £20 – cash only on the day\n\nTo book a stall call Claire on 07722752404\nWebsite – https://www.fromefleaandcraft.com/
URL:https://www.discoverfrome.co.uk/event/frome-flea-market-craft-fair/2026-06-14/
LOCATION:West Woodlands Showground\, Bunns Lane\, Near Frome\, Somerset\,\, Frome\, BA11 5ES
CATEGORIES:Crafts,Discover Frome,Family,Food and drink,Live band,Market,Music,Shopping
ATTACH;FMTTYPE=image/jpeg:https://www.discoverfrome.co.uk/wp-content/uploads/2026/02/Picture3.jpg
GEO:51.1800893;-2.326666
X-APPLE-STRUCTURED-LOCATION;VALUE=URI;X-ADDRESS=West Woodlands Showground Bunns Lane Near Frome Somerset Frome BA11 5ES;X-APPLE-RADIUS=500;X-TITLE=Bunns Lane\, Near Frome\, Somerset\,:geo:-2.326666,51.1800893
END:VEVENT
BEGIN:VEVENT
DTSTART;TZID=Europe/London:20260712T090000
DTEND;TZID=Europe/London:20260712T150000
DTSTAMP:20260421T105255
CREATED:20260226T113408Z
LAST-MODIFIED:20260226T113408Z
UID:10020343-1783846800-1783868400@www.discoverfrome.co.uk
SUMMARY:Frome Flea Market & Craft Fair
DESCRIPTION:A vibrant indoor and outdoor Flea Market & Craft Fair with over 250 individual and independent traders. From flea market stalls selling antiques\, collectables\, vintage and retro items to talented designer makers\, artisans and crafters showcasing their work. \n\nEntry £3 per adult (under 16’s free)\nFree entry to all classic vehicles (No need to pre-book)\nLive music\nChildren’s fun rides / inflatables\nOn-site catering and bar\nFree parking\nInside stands – from £20 – please pre-book\nOutside pitches – all £20 – cash only on the day\n\nTo book a stall call Claire on 07722752404\nWebsite – https://www.fromefleaandcraft.com/
URL:https://www.discoverfrome.co.uk/event/frome-flea-market-craft-fair/2026-07-12/
LOCATION:West Woodlands Showground\, Bunns Lane\, Near Frome\, Somerset\,\, Frome\, BA11 5ES
CATEGORIES:Crafts,Discover Frome,Family,Food and drink,Live band,Market,Music,Shopping
ATTACH;FMTTYPE=image/jpeg:https://www.discoverfrome.co.uk/wp-content/uploads/2026/02/Picture3.jpg
GEO:51.1800893;-2.326666
X-APPLE-STRUCTURED-LOCATION;VALUE=URI;X-ADDRESS=West Woodlands Showground Bunns Lane Near Frome Somerset Frome BA11 5ES;X-APPLE-RADIUS=500;X-TITLE=Bunns Lane\, Near Frome\, Somerset\,:geo:-2.326666,51.1800893
END:VEVENT
BEGIN:VEVENT
DTSTART;TZID=Europe/London:20260809T090000
DTEND;TZID=Europe/London:20260809T150000
DTSTAMP:20260421T105255
CREATED:20260226T113408Z
LAST-MODIFIED:20260226T113408Z
UID:10020344-1786266000-1786287600@www.discoverfrome.co.uk
SUMMARY:Frome Flea Market & Craft Fair
DESCRIPTION:A vibrant indoor and outdoor Flea Market & Craft Fair with over 250 individual and independent traders. From flea market stalls selling antiques\, collectables\, vintage and retro items to talented designer makers\, artisans and crafters showcasing their work. \n\nEntry £3 per adult (under 16’s free)\nFree entry to all classic vehicles (No need to pre-book)\nLive music\nChildren’s fun rides / inflatables\nOn-site catering and bar\nFree parking\nInside stands – from £20 – please pre-book\nOutside pitches – all £20 – cash only on the day\n\nTo book a stall call Claire on 07722752404\nWebsite – https://www.fromefleaandcraft.com/
URL:https://www.discoverfrome.co.uk/event/frome-flea-market-craft-fair/2026-08-09/
LOCATION:West Woodlands Showground\, Bunns Lane\, Near Frome\, Somerset\,\, Frome\, BA11 5ES
CATEGORIES:Crafts,Discover Frome,Family,Food and drink,Live band,Market,Music,Shopping
ATTACH;FMTTYPE=image/jpeg:https://www.discoverfrome.co.uk/wp-content/uploads/2026/02/Picture3.jpg
GEO:51.1800893;-2.326666
X-APPLE-STRUCTURED-LOCATION;VALUE=URI;X-ADDRESS=West Woodlands Showground Bunns Lane Near Frome Somerset Frome BA11 5ES;X-APPLE-RADIUS=500;X-TITLE=Bunns Lane\, Near Frome\, Somerset\,:geo:-2.326666,51.1800893
END:VEVENT
BEGIN:VEVENT
DTSTART;TZID=Europe/London:20261011T090000
DTEND;TZID=Europe/London:20261011T150000
DTSTAMP:20260421T105255
CREATED:20260226T113408Z
LAST-MODIFIED:20260226T113408Z
UID:10020345-1791709200-1791730800@www.discoverfrome.co.uk
SUMMARY:Frome Flea Market & Craft Fair
DESCRIPTION:A vibrant indoor and outdoor Flea Market & Craft Fair with over 250 individual and independent traders. From flea market stalls selling antiques\, collectables\, vintage and retro items to talented designer makers\, artisans and crafters showcasing their work. \n\nEntry £3 per adult (under 16’s free)\nFree entry to all classic vehicles (No need to pre-book)\nLive music\nChildren’s fun rides / inflatables\nOn-site catering and bar\nFree parking\nInside stands – from £20 – please pre-book\nOutside pitches – all £20 – cash only on the day\n\nTo book a stall call Claire on 07722752404\nWebsite – https://www.fromefleaandcraft.com/
URL:https://www.discoverfrome.co.uk/event/frome-flea-market-craft-fair/2026-10-11/
LOCATION:West Woodlands Showground\, Bunns Lane\, Near Frome\, Somerset\,\, Frome\, BA11 5ES
CATEGORIES:Crafts,Discover Frome,Family,Food and drink,Live band,Market,Music,Shopping
ATTACH;FMTTYPE=image/jpeg:https://www.discoverfrome.co.uk/wp-content/uploads/2026/02/Picture3.jpg
GEO:51.1800893;-2.326666
X-APPLE-STRUCTURED-LOCATION;VALUE=URI;X-ADDRESS=West Woodlands Showground Bunns Lane Near Frome Somerset Frome BA11 5ES;X-APPLE-RADIUS=500;X-TITLE=Bunns Lane\, Near Frome\, Somerset\,:geo:-2.326666,51.1800893
END:VEVENT
END:VCALENDAR