BEGIN:VCALENDAR
VERSION:2.0
PRODID:-//Discover Frome - ECPv6.15.20//NONSGML v1.0//EN
CALSCALE:GREGORIAN
METHOD:PUBLISH
X-WR-CALNAME:Discover Frome
X-ORIGINAL-URL:https://www.discoverfrome.co.uk
X-WR-CALDESC:Events for Discover Frome
REFRESH-INTERVAL;VALUE=DURATION:PT1H
X-Robots-Tag:noindex
X-PUBLISHED-TTL:PT1H
BEGIN:VTIMEZONE
TZID:Europe/London
BEGIN:DAYLIGHT
TZOFFSETFROM:+0000
TZOFFSETTO:+0100
TZNAME:BST
DTSTART:20250330T010000
END:DAYLIGHT
BEGIN:STANDARD
TZOFFSETFROM:+0100
TZOFFSETTO:+0000
TZNAME:GMT
DTSTART:20251026T010000
END:STANDARD
BEGIN:DAYLIGHT
TZOFFSETFROM:+0000
TZOFFSETTO:+0100
TZNAME:BST
DTSTART:20260329T010000
END:DAYLIGHT
BEGIN:STANDARD
TZOFFSETFROM:+0100
TZOFFSETTO:+0000
TZNAME:GMT
DTSTART:20261025T010000
END:STANDARD
BEGIN:DAYLIGHT
TZOFFSETFROM:+0000
TZOFFSETTO:+0100
TZNAME:BST
DTSTART:20270328T010000
END:DAYLIGHT
BEGIN:STANDARD
TZOFFSETFROM:+0100
TZOFFSETTO:+0000
TZNAME:GMT
DTSTART:20271031T010000
END:STANDARD
END:VTIMEZONE
BEGIN:VEVENT
DTSTART;TZID=Europe/London:20260619T100000
DTEND;TZID=Europe/London:20260619T160000
DTSTAMP:20260422T231806
CREATED:20260128T150105Z
LAST-MODIFIED:20260128T150105Z
UID:10019688-1781863200-1781884800@www.discoverfrome.co.uk
SUMMARY:Summer Solstice Retreat Day
DESCRIPTION:Join a magical Somerset Summer Solstice retreat day at this idyllic location to pause and reflect\, to celebrate our successes\, to reconnect with ourselves\, each other and the land and waters and abundance of the natural world all around us.\nThis joyous day includes: a Wild Circle gathering for grounding & connecting with land energies~ time at the natural pool and sauna to honour water & celebrate the heat of the sun at its highest point of the year~ ending with a garden picnic feast. \nPrice includes all activities and a catered picnic using fresh produce from the farm garden.
URL:https://www.discoverfrome.co.uk/event/summer-solstice-retreat-day/
LOCATION:Vallis Farm\, Egford Hill\, Frome\, BA11 3JQ\, United Kingdom
CATEGORIES:Coaching,Community,Discover Frome,Health and wellbeing,Nature
ORGANIZER;CN="Wild Swimming Woman":MAILTO:tara@wildswimmingwoman.com
END:VEVENT
BEGIN:VEVENT
DTSTART;TZID=Europe/London:20261106T170000
DTEND;TZID=Europe/London:20261108T140000
DTSTAMP:20260422T231806
CREATED:20260202T105310Z
LAST-MODIFIED:20260202T105310Z
UID:10019714-1793984400-1794146400@www.discoverfrome.co.uk
SUMMARY:Winter Wild Swimming Woman Retreat
DESCRIPTION:A winter’s weekend of wild swimming delights\, sauna sessions\, roaring fires and feasts\, nooks to curl up in with books\, slow walks\, Wild Circles and plenty of time to connect with the land\, waters\, each other and yourself at this peaceful countryside retreat. \nThis retreat weekend is space to rest\, restore and revive your connection to soul and joy for life. \nThroughout the weekend\, you will be invited to experience moments of renewal and reconnection: individual time and community\, wild nature and homely luxury\, reflection and intention\, doing and being\, movement and stillness. Finding your flow… \nPrices from £500pp – with just three twin-bed rooms left and a shepherds hut.
URL:https://www.discoverfrome.co.uk/event/winter-wild-swimming-woman-retreat/
LOCATION:Vallis Farm\, Egford Hill\, Frome\, BA11 3JQ\, United Kingdom
CATEGORIES:Discover Frome,Environment,Health and wellbeing,Nature
ATTACH;FMTTYPE=image/jpeg:https://www.discoverfrome.co.uk/wp-content/uploads/2026/01/2026-types-of-events-e1770029584838.jpg
ORGANIZER;CN="Wild Swimming Woman":MAILTO:tara@wildswimmingwoman.com
END:VEVENT
END:VCALENDAR