BEGIN:VCALENDAR
VERSION:2.0
PRODID:-//Discover Frome - ECPv6.15.20//NONSGML v1.0//EN
CALSCALE:GREGORIAN
METHOD:PUBLISH
X-WR-CALNAME:Discover Frome
X-ORIGINAL-URL:https://www.discoverfrome.co.uk
X-WR-CALDESC:Events for Discover Frome
REFRESH-INTERVAL;VALUE=DURATION:PT1H
X-Robots-Tag:noindex
X-PUBLISHED-TTL:PT1H
BEGIN:VTIMEZONE
TZID:Europe/London
BEGIN:DAYLIGHT
TZOFFSETFROM:+0000
TZOFFSETTO:+0100
TZNAME:BST
DTSTART:20250330T010000
END:DAYLIGHT
BEGIN:STANDARD
TZOFFSETFROM:+0100
TZOFFSETTO:+0000
TZNAME:GMT
DTSTART:20251026T010000
END:STANDARD
BEGIN:DAYLIGHT
TZOFFSETFROM:+0000
TZOFFSETTO:+0100
TZNAME:BST
DTSTART:20260329T010000
END:DAYLIGHT
BEGIN:STANDARD
TZOFFSETFROM:+0100
TZOFFSETTO:+0000
TZNAME:GMT
DTSTART:20261025T010000
END:STANDARD
BEGIN:DAYLIGHT
TZOFFSETFROM:+0000
TZOFFSETTO:+0100
TZNAME:BST
DTSTART:20270328T010000
END:DAYLIGHT
BEGIN:STANDARD
TZOFFSETFROM:+0100
TZOFFSETTO:+0000
TZNAME:GMT
DTSTART:20271031T010000
END:STANDARD
END:VTIMEZONE
BEGIN:VEVENT
DTSTART;TZID=Europe/London:20260925T100000
DTEND;TZID=Europe/London:20260925T150000
DTSTAMP:20260424T140646
CREATED:20260424T125522Z
LAST-MODIFIED:20260424T125522Z
UID:10020706-1790330400-1790348400@www.discoverfrome.co.uk
SUMMARY:The Autumn Equinox Retreat Day
DESCRIPTION:Feeling off balance? or Maybe starting to dread the thought of another winter? Join this day to support our entry into the autumn and winter months.\nA day of balance\, to experience the healing and restorative powers of both cold water and sauna heat. A gentle day of connection\, with yourself\, the natural world and other people\, in the most beautiful and tranquil of settings.\nA day of retreat\, from the everyday world\, yet that allows us to re-enter the world renewed and quietly fortified.\nFull of warmth\, connection and gentle reflection and you will leave with some strategies to support you through the autumn and winter months.\nLunch\, hot drinks & cake included as well as a guided wild swim and sauna session.
URL:https://www.discoverfrome.co.uk/event/the-autumn-equinox-retreat-day/
LOCATION:Vallis Farm\, Egford Hill\, Frome\, BA11 3JQ\, United Kingdom
CATEGORIES:Coaching,Discover Frome,Environment,Health and wellbeing,Nature,Workshop
ATTACH;FMTTYPE=image/jpeg:https://www.discoverfrome.co.uk/wp-content/uploads/2026/04/resized-autumn-equinox-retreat-day.jpg
ORGANIZER;CN="Wild Swimming Woman":MAILTO:tara@wildswimmingwoman.com
END:VEVENT
END:VCALENDAR