BEGIN:VCALENDAR
VERSION:2.0
PRODID:-//Discover Frome - ECPv6.15.20//NONSGML v1.0//EN
CALSCALE:GREGORIAN
METHOD:PUBLISH
X-WR-CALNAME:Discover Frome
X-ORIGINAL-URL:https://www.discoverfrome.co.uk
X-WR-CALDESC:Events for Discover Frome
REFRESH-INTERVAL;VALUE=DURATION:PT1H
X-Robots-Tag:noindex
X-PUBLISHED-TTL:PT1H
BEGIN:VTIMEZONE
TZID:Europe/London
BEGIN:DAYLIGHT
TZOFFSETFROM:+0000
TZOFFSETTO:+0100
TZNAME:BST
DTSTART:20250330T010000
END:DAYLIGHT
BEGIN:STANDARD
TZOFFSETFROM:+0100
TZOFFSETTO:+0000
TZNAME:GMT
DTSTART:20251026T010000
END:STANDARD
BEGIN:DAYLIGHT
TZOFFSETFROM:+0000
TZOFFSETTO:+0100
TZNAME:BST
DTSTART:20260329T010000
END:DAYLIGHT
BEGIN:STANDARD
TZOFFSETFROM:+0100
TZOFFSETTO:+0000
TZNAME:GMT
DTSTART:20261025T010000
END:STANDARD
BEGIN:DAYLIGHT
TZOFFSETFROM:+0000
TZOFFSETTO:+0100
TZNAME:BST
DTSTART:20270328T010000
END:DAYLIGHT
BEGIN:STANDARD
TZOFFSETFROM:+0100
TZOFFSETTO:+0000
TZNAME:GMT
DTSTART:20271031T010000
END:STANDARD
END:VTIMEZONE
BEGIN:VEVENT
DTSTART;TZID=Europe/London:20260523T120000
DTEND;TZID=Europe/London:20260523T140000
DTSTAMP:20260424T215135
CREATED:20260423T104031Z
LAST-MODIFIED:20260423T104031Z
UID:10020689-1779537600-1779544800@www.discoverfrome.co.uk
SUMMARY:Free Silent Disco - Frome Connects
DESCRIPTION:As part of the wider Frome Connects project\, Mojo Moves is bringing a pop-up silent disco right outside Frome Library – and you’re invited.\nSlip on a pair of headphones\, choose your channel\, and join us for a joyful\, feel-good dance session in the heart of town. No experience needed\, no pressure – just a chance to move\, laugh and feel part of something shared. \nWhether you dance like nobody’s watching or prefer a gentle groove at the edges\, this is about connection\, community and a bit of weekend magic. \n✨ Free to join\n🎧 Headphones provided\n💛 All ages welcome \nCome along\, have a boogie\, and be part of the Frome Connects “connectedness experiment” — you might leave feeling lighter than when you arrived.
URL:https://www.discoverfrome.co.uk/event/free-silent-disco-frome-connects/
LOCATION:Outside Frome Library\, Justice Lane\, Frome\, Somerset\, BA11 1BE\, United Kingdom
CATEGORIES:Arts,Children,Community,Dance,Discover Frome,DJ set,Family,Health and wellbeing,Music
ATTACH;FMTTYPE=image/jpeg:https://www.discoverfrome.co.uk/wp-content/uploads/2026/04/Pop-Up-silent-disco-library.jpg
ORGANIZER;CN="Mojo Moves":MAILTO:cheryl@mojomoves.co.uk
GEO:51.2327716;-2.3203906
X-APPLE-STRUCTURED-LOCATION;VALUE=URI;X-ADDRESS=Outside Frome Library Justice Lane Frome Somerset BA11 1BE United Kingdom;X-APPLE-RADIUS=500;X-TITLE=Justice Lane:geo:-2.3203906,51.2327716
END:VEVENT
END:VCALENDAR