BEGIN:VCALENDAR
VERSION:2.0
PRODID:-//Discover Frome - ECPv6.15.20//NONSGML v1.0//EN
CALSCALE:GREGORIAN
METHOD:PUBLISH
X-WR-CALNAME:Discover Frome
X-ORIGINAL-URL:https://www.discoverfrome.co.uk
X-WR-CALDESC:Events for Discover Frome
REFRESH-INTERVAL;VALUE=DURATION:PT1H
X-Robots-Tag:noindex
X-PUBLISHED-TTL:PT1H
BEGIN:VTIMEZONE
TZID:Europe/London
BEGIN:DAYLIGHT
TZOFFSETFROM:+0000
TZOFFSETTO:+0100
TZNAME:BST
DTSTART:20250330T010000
END:DAYLIGHT
BEGIN:STANDARD
TZOFFSETFROM:+0100
TZOFFSETTO:+0000
TZNAME:GMT
DTSTART:20251026T010000
END:STANDARD
BEGIN:DAYLIGHT
TZOFFSETFROM:+0000
TZOFFSETTO:+0100
TZNAME:BST
DTSTART:20260329T010000
END:DAYLIGHT
BEGIN:STANDARD
TZOFFSETFROM:+0100
TZOFFSETTO:+0000
TZNAME:GMT
DTSTART:20261025T010000
END:STANDARD
BEGIN:DAYLIGHT
TZOFFSETFROM:+0000
TZOFFSETTO:+0100
TZNAME:BST
DTSTART:20270328T010000
END:DAYLIGHT
BEGIN:STANDARD
TZOFFSETFROM:+0100
TZOFFSETTO:+0000
TZNAME:GMT
DTSTART:20271031T010000
END:STANDARD
END:VTIMEZONE
BEGIN:VEVENT
DTSTART;TZID=Europe/London:20260508T184500
DTEND;TZID=Europe/London:20260508T210000
DTSTAMP:20260419T215952
CREATED:20260212T104941Z
LAST-MODIFIED:20260417T142908Z
UID:10020064-1778265900-1778274000@www.discoverfrome.co.uk
SUMMARY:Spring Wine Tasting
DESCRIPTION:Discover a range of wines perfect for Spring at our Spring Wines Tasting event! Join us for an evening dedicated to fresh\, light\, yet expressive wines perfectly suited to a Spring day. \nOur expert sommelier will guide you through a tasting of some of the finest Spring wines\, including fresh whites\, sublime rose and everything in between. Learn about the producers\, the vinification processes and how best to enjoy. \nA cheese and charcuterie board accompanies the wine tasting.
URL:https://www.discoverfrome.co.uk/event/spring-wine-tasting/
LOCATION:Givino\, R18 Marshall Way\, Frome\, BA11 2FE\, United Kingdom
CATEGORIES:Discover Frome,Tastings,Wine
ATTACH;FMTTYPE=image/jpeg:https://www.discoverfrome.co.uk/wp-content/uploads/2026/03/snug.jpg
ORGANIZER;CN="Givino":MAILTO:hello@givino.co.uk
END:VEVENT
BEGIN:VEVENT
DTSTART;TZID=Europe/London:20260509T191500
DTEND;TZID=Europe/London:20260509T230000
DTSTAMP:20260419T215952
CREATED:20260325T122317Z
LAST-MODIFIED:20260325T122317Z
UID:10020496-1778354100-1778367600@www.discoverfrome.co.uk
SUMMARY:Spring Supper Club with The Wild Pear and Idle & Wonder
DESCRIPTION:Celebrate the season in the most delicious way with an unforgettable evening at Vallis Farm. \nAs the days grow longer and the farm bursts into life\, we’re gathering around the table for a spring supper club that champions the freshest produce grown right here at the venue. \nExpect vibrant\, seasonal dishes crafted with care by The Wild Pear & a beautifully curated table & service by Idle & Wonder — a true taste of spring\, straight from field to fork. \nBegin your evening in the garden (weather permitting) with delicious nibbles and a welcome drink expertly mixed by Still Life Gin. Sip\, stroll and soak up the golden light before we move inside the inviting farmhouse for the main event — a beautifully curated seasonal menu shared at long tables. \nOur bar will be fully stocked with a thoughtful selection of wines and non-alcoholic options\, with wines carefully chosen by The Stores to perfectly complement the menu. Whether you’re coming solo\, gathering friends\, or bringing family together\, this is the perfect way to welcome spring — relaxed\, abundant\, and full of flavour. \nMenu \nWelcome Drink & Nibbles \nPea & goats cheese arancini \nStill Life Gin’s Rhubarb French 75 \nStarters \nWild garlic & pine nut focaccia \nHummus\, crispy chickpeas & crudités \nWestcombe cured meats \nCharred asparagus\, labneh & almonds \nMains \nHake\, lemony peas\, butter beans\, mint\, chilli\, hazelnuts & parmesan \nOr \nConfit leek\, wild garlic & taleggio tart (V) \nSides \nVallis Spring greens \nButtered Jersey royals \nDessert \nVanilla custard panna cotta\, roasted rhubarb & ginger granola \n£60 per person
URL:https://www.discoverfrome.co.uk/event/spring-supper-club-with-the-wild-pear-and-idle-wonder/
LOCATION:Vallis Farm\, Egford Hill\, Frome\, BA11 3JQ\, United Kingdom
CATEGORIES:Discover Frome,Food and drink,Wine
ATTACH;FMTTYPE=image/jpeg:https://www.discoverfrome.co.uk/wp-content/uploads/2026/03/DSC04050.jpg
ORGANIZER;CN="The Wild Pear Catering Company Limited":MAILTO:info@thewildpear.co.uk
END:VEVENT
END:VCALENDAR