BEGIN:VCALENDAR
VERSION:2.0
PRODID:-//Discover Frome - ECPv6.15.20//NONSGML v1.0//EN
CALSCALE:GREGORIAN
METHOD:PUBLISH
X-WR-CALNAME:Discover Frome
X-ORIGINAL-URL:https://www.discoverfrome.co.uk
X-WR-CALDESC:Events for Discover Frome
REFRESH-INTERVAL;VALUE=DURATION:PT1H
X-Robots-Tag:noindex
X-PUBLISHED-TTL:PT1H
BEGIN:VTIMEZONE
TZID:Europe/London
BEGIN:DAYLIGHT
TZOFFSETFROM:+0000
TZOFFSETTO:+0100
TZNAME:BST
DTSTART:20250330T010000
END:DAYLIGHT
BEGIN:STANDARD
TZOFFSETFROM:+0100
TZOFFSETTO:+0000
TZNAME:GMT
DTSTART:20251026T010000
END:STANDARD
BEGIN:DAYLIGHT
TZOFFSETFROM:+0000
TZOFFSETTO:+0100
TZNAME:BST
DTSTART:20260329T010000
END:DAYLIGHT
BEGIN:STANDARD
TZOFFSETFROM:+0100
TZOFFSETTO:+0000
TZNAME:GMT
DTSTART:20261025T010000
END:STANDARD
BEGIN:DAYLIGHT
TZOFFSETFROM:+0000
TZOFFSETTO:+0100
TZNAME:BST
DTSTART:20270328T010000
END:DAYLIGHT
BEGIN:STANDARD
TZOFFSETFROM:+0100
TZOFFSETTO:+0000
TZNAME:GMT
DTSTART:20271031T010000
END:STANDARD
END:VTIMEZONE
BEGIN:VEVENT
DTSTART;TZID=Europe/London:20260410T184500
DTEND;TZID=Europe/London:20260410T210000
DTSTAMP:20260419T190532
CREATED:20250924T093748Z
LAST-MODIFIED:20260330T103807Z
UID:10019017-1775846700-1775854800@www.discoverfrome.co.uk
SUMMARY:Mediterranean Wine Tasting
DESCRIPTION:Embark on a journey through the vineyards of the Mediterranean at our Mediterranean Wine Tasting event! Experience the charm and elegance of the most prestigious wine regions and countries embracing the Mediterranean sea. \nJamie will take you on a guided tasting tour\, featuring a handpicked selection of Mediterranean fine wines. Savour the rich reds\, crisp whites\, and Rose that capture the essence of the countries adjoing the Mediterranean sea. Learn about the history\, terroir\, and unique grape varieties that make each wine so special. \nWhether you’re a seasoned connoisseur or just beginning to explore the world of Mediterranean wines\, this event is a perfect opportunity to discover new favorites\, enjoy gourmet pairings\, and connect with fellow wine lovers in a warm\, welcoming atmosphere. \nA cheese and charcuterie accompanies this event.
URL:https://www.discoverfrome.co.uk/event/mediterranean-wine-tasting/
LOCATION:Givino\, R18 Marshall Way\, Frome\, BA11 2FE\, United Kingdom
CATEGORIES:Discover Frome,Tastings,Wine
ATTACH;FMTTYPE=image/jpeg:https://www.discoverfrome.co.uk/wp-content/uploads/2025/09/PHOTO-2025-07-02-10-54-47-3.jpg
ORGANIZER;CN="Givino":MAILTO:hello@givino.co.uk
END:VEVENT
END:VCALENDAR