BEGIN:VCALENDAR
VERSION:2.0
PRODID:-//Discover Frome - ECPv6.15.20//NONSGML v1.0//EN
CALSCALE:GREGORIAN
METHOD:PUBLISH
X-WR-CALNAME:Discover Frome
X-ORIGINAL-URL:https://www.discoverfrome.co.uk
X-WR-CALDESC:Events for Discover Frome
REFRESH-INTERVAL;VALUE=DURATION:PT1H
X-Robots-Tag:noindex
X-PUBLISHED-TTL:PT1H
BEGIN:VTIMEZONE
TZID:Europe/London
BEGIN:DAYLIGHT
TZOFFSETFROM:+0000
TZOFFSETTO:+0100
TZNAME:BST
DTSTART:20250330T010000
END:DAYLIGHT
BEGIN:STANDARD
TZOFFSETFROM:+0100
TZOFFSETTO:+0000
TZNAME:GMT
DTSTART:20251026T010000
END:STANDARD
BEGIN:DAYLIGHT
TZOFFSETFROM:+0000
TZOFFSETTO:+0100
TZNAME:BST
DTSTART:20260329T010000
END:DAYLIGHT
BEGIN:STANDARD
TZOFFSETFROM:+0100
TZOFFSETTO:+0000
TZNAME:GMT
DTSTART:20261025T010000
END:STANDARD
BEGIN:DAYLIGHT
TZOFFSETFROM:+0000
TZOFFSETTO:+0100
TZNAME:BST
DTSTART:20270328T010000
END:DAYLIGHT
BEGIN:STANDARD
TZOFFSETFROM:+0100
TZOFFSETTO:+0000
TZNAME:GMT
DTSTART:20271031T010000
END:STANDARD
END:VTIMEZONE
BEGIN:VEVENT
DTSTART;TZID=Europe/London:20260123T184500
DTEND;TZID=Europe/London:20260123T210000
DTSTAMP:20260419T190334
CREATED:20250829T091927Z
LAST-MODIFIED:20250829T091927Z
UID:10018536-1769193900-1769202000@www.discoverfrome.co.uk
SUMMARY:Wine Tasting and Quiz Evening
DESCRIPTION:Join us for an evening of general knowledge rounds and wine tastings! \nWe will be sampling 5 different wines alongside a general knowledge quiz. Teams are welcome to come along and there will be prizes awarded at the end. \nA cheese and charcuterie accompanies this event.
URL:https://www.discoverfrome.co.uk/event/wine-tasting-and-quiz-evening/
LOCATION:Givino\, R18 Marshall Way\, Frome\, BA11 2FE\, United Kingdom
CATEGORIES:Discover Frome,Food and drink,Quiz,Tastings,Wine
ATTACH;FMTTYPE=image/jpeg:https://www.discoverfrome.co.uk/wp-content/uploads/2025/08/PHOTO-2025-07-02-10-54-47-1.jpg
ORGANIZER;CN="Givino":MAILTO:hello@givino.co.uk
END:VEVENT
BEGIN:VEVENT
DTSTART;TZID=Europe/London:20260130T184500
DTEND;TZID=Europe/London:20260130T210000
DTSTAMP:20260419T190334
CREATED:20250829T091005Z
LAST-MODIFIED:20250829T091005Z
UID:10018537-1769798700-1769806800@www.discoverfrome.co.uk
SUMMARY:Portugal's Douro Valley Wine Tasting
DESCRIPTION:Embark on a journey through the vineyards of Portugal’s Douro Valley at our Portuguese Wine & Port event! Experience the charm and elegance of Portugal’s most prestigious wine region\, with some amazing wines and ports. \nJamie will take you on a guided tasting tour\, featuring a handpicked selection of Portuguese fine wines. Savour the rich reds\, crisp whites\, and ports that capture the essence of Portugal’s winemaking heritage. Learn about the history\, terroir\, and unique grape varieties that make each wine so special. \nWhether you’re a seasoned connoisseur or just beginning to explore the world of Portuguese wines\, this event is a perfect opportunity to discover new favorites\, enjoy gourmet pairings\, and connect with fellow wine lovers in a warm\, welcoming atmosphere. \nA Portuguese themed cheese and charcuterie accompanies this event.
URL:https://www.discoverfrome.co.uk/event/portugals-douro-valley-wine-tasting/
LOCATION:Givino\, R18 Marshall Way\, Frome\, BA11 2FE\, United Kingdom
CATEGORIES:Discover Frome,Food and drink,Tastings,Wine
ATTACH;FMTTYPE=image/jpeg:https://www.discoverfrome.co.uk/wp-content/uploads/2025/08/PHOTO-2025-07-02-10-54-47-2.jpg
ORGANIZER;CN="Givino":MAILTO:hello@givino.co.uk
END:VEVENT
BEGIN:VEVENT
DTSTART;TZID=Europe/London:20260220T184500
DTEND;TZID=Europe/London:20260220T210000
DTSTAMP:20260419T190334
CREATED:20250829T090408Z
LAST-MODIFIED:20260130T122442Z
UID:10018538-1771613100-1771621200@www.discoverfrome.co.uk
SUMMARY:Babylonstoren South African Wine Tasting
DESCRIPTION:Join us for an unforgettable evening at our Babylonstoren South African Wine Tasting\, where the vibrant flavors and rich heritage of South African winemaking come to life. This exclusive event showcases the exceptional wines from Babylonstoren\, one of South Africa’s oldest and most celebrated wine estates\, nestled in the breathtaking Cape Winelands. \nDuncan\, from Babylonstoren will guide you through a curated tasting of Babylonstoren’s finest offerings\, from crisp\, refreshing whites to elegant\, full-bodied reds\, all reflecting the unique terroir of this beautiful region. Learn about the estate’s sustainable winemaking practices\, explore the stories behind each bottle\, and experience the distinctive character that makes South African wines truly special. \nWhether you’re a seasoned wine lover or just beginning to explore the world of wine\, this tasting offers a perfect opportunity to discover new favorites\, enjoy expertly paired bites\, and connect with fellow wine enthusiasts in a welcoming atmosphere. \nA cheese & charcuterie board accompanies this event.
URL:https://www.discoverfrome.co.uk/event/babylonstoren-south-african-wine-tasting/
LOCATION:Givino\, R18 Marshall Way\, Frome\, BA11 2FE\, United Kingdom
CATEGORIES:Discover Frome,Food and drink,Tastings,Wine
ATTACH;FMTTYPE=image/jpeg:https://www.discoverfrome.co.uk/wp-content/uploads/2025/08/PHOTO-2025-07-02-10-54-47-3.jpg
ORGANIZER;CN="Givino":MAILTO:hello@givino.co.uk
END:VEVENT
BEGIN:VEVENT
DTSTART;TZID=Europe/London:20260307T190000
DTEND;TZID=Europe/London:20260307T220000
DTSTAMP:20260419T190334
CREATED:20260120T095058Z
LAST-MODIFIED:20260120T095058Z
UID:10019634-1772910000-1772920800@www.discoverfrome.co.uk
SUMMARY:A Tavola: An Italian Supper with Burnt Sugar Collective & The Stores
DESCRIPTION:We gather at Vallis Farm for an Italian supper shaped by season\, place and the pleasure of eating well. \nThe evening centres on a set menu inspired by Italian home cooking\, brought to you by Burnt Sugar Collective\, using seasonal produce sourced with care. Dishes are generous and considered\, served over the course of the evening and designed to be enjoyed at an unhurried pace. \nWine\, beer and soft drinks will be available to purchase on the night\, provided by The Stores\, thoughtfully chosen from independent producers to sit comfortably alongside the food and the setting. \nSet within the rural surroundings of Vallis Farm\, this is a supper to settle into – good food\, good wine\, and time at the table. \nSeasonal\, soulful\, never in a hurry. \nMENU \nA welcome drink & canapés on arrival \nAntipasti \nPuntarelle salad\, smoked anchovy\nPuntarelle salad\, fermented celeriac (v)\nBlack pudding\, pancetta\, potato terrine\, radicchio\, onion agrodolce \nPrimi \nSpaghetti alla chitarra\, bottarga\, raw artichoke\, lemon butter\nSpaghetti alla chitarra\, raw artichoke\, lemon butter (v)\n(Homemade pasta with cured mullet roe\, shaved artichokes & lemon butter) \nSecondi \nSlow-cooked coste di manzo in umido\, creamed polenta\n(A slow-cooked Italian beef rib stew on creamed polenta)\nRotolo di verdure\, porcini cream\, creamed polenta (v)\nRolled vegetables & served with a porcini cream & creamed polenta \nSides \nBroccolini\, pomelo\, brown butter\nSeasonal greens from Vallis Farm \nDolce \nToasted rice panna cotta\, blood orange\, rhubarb\, stem ginger \nSaturday 7th March\, 7pm\nVallis Farm\, Egford Hill\, Frome\, BA11 3JQ\n£60pp – includes a welcome drink\, canapés & a 4-course menu\nTickets must be booked in advance: burntsugarcollective.com
URL:https://www.discoverfrome.co.uk/event/a-tavola-an-italian-supper-with-burnt-sugar-collective-the-stores/
LOCATION:Vallis Farm\, Egford Hill\, Frome\, BA11 3JQ\, United Kingdom
CATEGORIES:Discover Frome,Food and drink,Wine
ATTACH;FMTTYPE=image/jpeg:https://www.discoverfrome.co.uk/wp-content/uploads/2026/01/250623_BurntSugarSupperClub-3206.jpg
ORGANIZER;CN="Burnt Sugar Collective":MAILTO:info@burntsugarcollective.com
END:VEVENT
BEGIN:VEVENT
DTSTART;TZID=Europe/London:20260313T184500
DTEND;TZID=Europe/London:20260313T210000
DTSTAMP:20260419T190334
CREATED:20250924T093337Z
LAST-MODIFIED:20250924T093337Z
UID:10019015-1773427500-1773435600@www.discoverfrome.co.uk
SUMMARY:South America Wine Tasting
DESCRIPTION:Embark on a journey through the vineyards of South America at our South America Wine Tasting event! Experience the charm and elegance of the most prestigious wine regions and countries in South America. \nJamie will take you on a guided tasting tour\, featuring a handpicked selection of South American fine wines. Savour the rich reds\, crisp whites\, and Rose that capture the essence of the continent. Learn about the history\, terroir\, and unique grape varieties that make each wine so special. \nWhether you’re a seasoned connoisseur or just beginning to explore the world of South American wines\, this event is a perfect opportunity to discover new favourites\, enjoy gourmet pairings\, and connect with fellow wine lovers in a warm\, welcoming atmosphere. \nA cheese and charcuterie accompanies this event.
URL:https://www.discoverfrome.co.uk/event/south-america-wine-tasting/
LOCATION:Givino\, R18 Marshall Way\, Frome\, BA11 2FE\, United Kingdom
CATEGORIES:Discover Frome,Tastings,Wine
ATTACH;FMTTYPE=image/jpeg:https://www.discoverfrome.co.uk/wp-content/uploads/2025/09/PHOTO-2025-07-02-10-54-47-1.jpg
ORGANIZER;CN="Givino":MAILTO:hello@givino.co.uk
END:VEVENT
BEGIN:VEVENT
DTSTART;TZID=Europe/London:20260327T184500
DTEND;TZID=Europe/London:20260327T210000
DTSTAMP:20260419T190334
CREATED:20250924T093626Z
LAST-MODIFIED:20260227T104608Z
UID:10019016-1774637100-1774645200@www.discoverfrome.co.uk
SUMMARY:Around the world in 6 wines
DESCRIPTION:Embark on a journey around the worlds visiting 6 of our favourite vineyards at our Around the world in 6 wines event! Experience the charm and elegance of the most prestigious wine regions and countries in the world. \nJamie will take you on a guided tasting tour\, featuring a handpicked selection of fine wines. Savour the rich reds\, crisp whites\, and Rose that capture the essence of great wine making. Learn about the history\, terroir\, and unique grape varieties that make each wine so special. \nWhether you’re a seasoned connoisseur or just beginning to explore the world of wine\, this event is a perfect opportunity to discover new favorites\, enjoy gourmet pairings\, and connect with fellow wine lovers in a warm\, welcoming atmosphere. \nA cheese and charcuterie accompanies this event.
URL:https://www.discoverfrome.co.uk/event/around-the-world-in-6-wines/
LOCATION:Givino\, R18 Marshall Way\, Frome\, BA11 2FE\, United Kingdom
CATEGORIES:Discover Frome,Tastings,Wine
ATTACH;FMTTYPE=image/jpeg:https://www.discoverfrome.co.uk/wp-content/uploads/2025/09/PHOTO-2025-07-02-10-54-47-2.jpg
ORGANIZER;CN="Givino":MAILTO:hello@givino.co.uk
END:VEVENT
BEGIN:VEVENT
DTSTART;TZID=Europe/London:20260410T184500
DTEND;TZID=Europe/London:20260410T210000
DTSTAMP:20260419T190334
CREATED:20250924T093748Z
LAST-MODIFIED:20260330T103807Z
UID:10019017-1775846700-1775854800@www.discoverfrome.co.uk
SUMMARY:Mediterranean Wine Tasting
DESCRIPTION:Embark on a journey through the vineyards of the Mediterranean at our Mediterranean Wine Tasting event! Experience the charm and elegance of the most prestigious wine regions and countries embracing the Mediterranean sea. \nJamie will take you on a guided tasting tour\, featuring a handpicked selection of Mediterranean fine wines. Savour the rich reds\, crisp whites\, and Rose that capture the essence of the countries adjoing the Mediterranean sea. Learn about the history\, terroir\, and unique grape varieties that make each wine so special. \nWhether you’re a seasoned connoisseur or just beginning to explore the world of Mediterranean wines\, this event is a perfect opportunity to discover new favorites\, enjoy gourmet pairings\, and connect with fellow wine lovers in a warm\, welcoming atmosphere. \nA cheese and charcuterie accompanies this event.
URL:https://www.discoverfrome.co.uk/event/mediterranean-wine-tasting/
LOCATION:Givino\, R18 Marshall Way\, Frome\, BA11 2FE\, United Kingdom
CATEGORIES:Discover Frome,Tastings,Wine
ATTACH;FMTTYPE=image/jpeg:https://www.discoverfrome.co.uk/wp-content/uploads/2025/09/PHOTO-2025-07-02-10-54-47-3.jpg
ORGANIZER;CN="Givino":MAILTO:hello@givino.co.uk
END:VEVENT
END:VCALENDAR