BEGIN:VCALENDAR
VERSION:2.0
PRODID:-//Discover Frome - ECPv6.15.20//NONSGML v1.0//EN
CALSCALE:GREGORIAN
METHOD:PUBLISH
X-ORIGINAL-URL:https://www.discoverfrome.co.uk
X-WR-CALDESC:Events for Discover Frome
REFRESH-INTERVAL;VALUE=DURATION:PT1H
X-Robots-Tag:noindex
X-PUBLISHED-TTL:PT1H
BEGIN:VTIMEZONE
TZID:Europe/London
BEGIN:DAYLIGHT
TZOFFSETFROM:+0000
TZOFFSETTO:+0100
TZNAME:BST
DTSTART:20250330T010000
END:DAYLIGHT
BEGIN:STANDARD
TZOFFSETFROM:+0100
TZOFFSETTO:+0000
TZNAME:GMT
DTSTART:20251026T010000
END:STANDARD
BEGIN:DAYLIGHT
TZOFFSETFROM:+0000
TZOFFSETTO:+0100
TZNAME:BST
DTSTART:20260329T010000
END:DAYLIGHT
BEGIN:STANDARD
TZOFFSETFROM:+0100
TZOFFSETTO:+0000
TZNAME:GMT
DTSTART:20261025T010000
END:STANDARD
BEGIN:DAYLIGHT
TZOFFSETFROM:+0000
TZOFFSETTO:+0100
TZNAME:BST
DTSTART:20270328T010000
END:DAYLIGHT
BEGIN:STANDARD
TZOFFSETFROM:+0100
TZOFFSETTO:+0000
TZNAME:GMT
DTSTART:20271031T010000
END:STANDARD
END:VTIMEZONE
BEGIN:VEVENT
DTSTART;TZID=Europe/London:20260415T100000
DTEND;TZID=Europe/London:20260417T150000
DTSTAMP:20260420T135000
CREATED:20260217T163824Z
LAST-MODIFIED:20260325T134822Z
UID:10020110-1776247200-1776438000@www.discoverfrome.co.uk
SUMMARY:Kids Easter Drama Workshop: The Lost City of Atlantis
DESCRIPTION:The City of Atlantis has been lost for centuries. Join a team of scientists\, adventurers and archaeologists on an expedition to uncover its lost treasures. The journey will take you deep down through sea caves and under the ocean floor. There are obstacles\, there will be dangers but we hope to make history together! \nHelp Kevin & Marina create a thrilling Easter adventure! \nThree day workshop: Wednesday 15th- Friday 17th April (10AM-3PM) \nAges: 6-10 \nRode School\, High Street\, Rode\, BA11 6NZ SOMERSET \nPrices (total for 3 days). \nStandard – £100\nSupporter – £100-£130\n(by paying a little more you are helping us to provide concessions)\nSibling discount of 10% \nConcession by arrangement \nContact kevin@dramakarma.co.uk \nhttps://dramakarma.co.uk/
URL:https://www.discoverfrome.co.uk/event/kids-easter-drama-workshop-the-lost-city-of-atlantis/
LOCATION:Rode School\, High Street\, Rode\, BA11 6NZ\, United Kingdom
CATEGORIES:Children,Discover Frome,Half term and holidays,Theatre,Workshop
ATTACH;FMTTYPE=image/jpeg:https://www.discoverfrome.co.uk/wp-content/uploads/2026/02/atlantis.jpg
ORGANIZER;CN="Dramakarma":MAILTO:info@dramakarma.co.uk
END:VEVENT
BEGIN:VEVENT
DTSTART;TZID=Europe/London:20260415T190000
DTEND;TZID=Europe/London:20260415T203000
DTSTAMP:20260420T135000
CREATED:20260211T123027Z
LAST-MODIFIED:20260211T123027Z
UID:10019971-1776279600-1776285000@www.discoverfrome.co.uk
SUMMARY:Improv Lab
DESCRIPTION:Join our upcoming 5-week improv course – perfect for beginners and enthusiasts alike. Adults only. \nNo scripts. No pressure. Just a playful and welcoming space to invent characters\, create stories\, and discover the joy of saying “yes\, and…” to every idea. \nLed by an experienced facilitator\, each session invites you to participate in a mix of improvised scenes and games. It’s a laidback\, hilarious and a genuinely safe place to be totally ridiculous. \nAlong the way\, you will: \n\nReconnect with your sense of playfulness\nCultivate creativity and quick thinking\nBuild confidence as a speaker and perfomer\nStep outside your comfort zone\nJoin a growing\, supportive community
URL:https://www.discoverfrome.co.uk/event/improv-lab/2026-04-15/
LOCATION:The Awesome Studio\, Station Approach\, Frome\, BA11 1RE\, United Kingdom
CATEGORIES:Arts,Courses,Discover Frome,Theatre,Workshop
ATTACH;FMTTYPE=image/jpeg:https://www.discoverfrome.co.uk/wp-content/uploads/2026/02/improv-jam.jpg
END:VEVENT
BEGIN:VEVENT
DTSTART;TZID=Europe/London:20260416T193000
DTEND;TZID=Europe/London:20260416T213000
DTSTAMP:20260420T135000
CREATED:20260219T115521Z
LAST-MODIFIED:20260219T115521Z
UID:10020317-1776367800-1776375000@www.discoverfrome.co.uk
SUMMARY:Frome Drama Club: Jack Absolute Flies Again
DESCRIPTION:Oliver Chris and Richard Bean (One Man\, Two Guv’nors) wrote this hilarious updated version of Sheridan’s The Rivals and set it in 1940 at RAF Fontwell during the Battle of Britain. Fighter pilot Jack Absolute attempts to rekindle his romance with wealthy Flying Auxiliary Lydia Languish\, but she has decided a working-class northerner in the form of mechanic Dudley Scunthorpe is for her (but he has the hots for the maid\, Lucy). \nTwo other pilots (a demented poet and a crazy Australian) are suitors for Lydia\, so Jack resorts to desperately comic measures to convince Lydia that he is the best man. General Absolute\, his father\, has his own agenda for Lydia\, who is the ward of Mrs Malaprop\, who owns Malaprop Hall\, requisitioned by the RAF as the fighter base. The result is farcical mayhem of the funniest kind. \nThis is an amateur performance.
URL:https://www.discoverfrome.co.uk/event/frome-drama-club-jack-absolute-flies-again/2026-04-16/
LOCATION:Merlin Theatre\, Bath Road\, Frome\, BA11 2HG 
CATEGORIES:Comedy,Discover Frome,Theatre
ATTACH;FMTTYPE=image/jpeg:https://www.discoverfrome.co.uk/wp-content/uploads/2026/02/jack-absolute-flies-again.jpg
GEO:51.2412644;-2.3118242
X-APPLE-STRUCTURED-LOCATION;VALUE=URI;X-ADDRESS=Merlin Theatre Bath Road Frome BA11 2HG;X-APPLE-RADIUS=500;X-TITLE=Bath Road:geo:-2.3118242,51.2412644
END:VEVENT
BEGIN:VEVENT
DTSTART;TZID=Europe/London:20260417T193000
DTEND;TZID=Europe/London:20260417T213000
DTSTAMP:20260420T135000
CREATED:20260219T115521Z
LAST-MODIFIED:20260219T115521Z
UID:10020318-1776454200-1776461400@www.discoverfrome.co.uk
SUMMARY:Frome Drama Club: Jack Absolute Flies Again
DESCRIPTION:Oliver Chris and Richard Bean (One Man\, Two Guv’nors) wrote this hilarious updated version of Sheridan’s The Rivals and set it in 1940 at RAF Fontwell during the Battle of Britain. Fighter pilot Jack Absolute attempts to rekindle his romance with wealthy Flying Auxiliary Lydia Languish\, but she has decided a working-class northerner in the form of mechanic Dudley Scunthorpe is for her (but he has the hots for the maid\, Lucy). \nTwo other pilots (a demented poet and a crazy Australian) are suitors for Lydia\, so Jack resorts to desperately comic measures to convince Lydia that he is the best man. General Absolute\, his father\, has his own agenda for Lydia\, who is the ward of Mrs Malaprop\, who owns Malaprop Hall\, requisitioned by the RAF as the fighter base. The result is farcical mayhem of the funniest kind. \nThis is an amateur performance.
URL:https://www.discoverfrome.co.uk/event/frome-drama-club-jack-absolute-flies-again/2026-04-17/
LOCATION:Merlin Theatre\, Bath Road\, Frome\, BA11 2HG 
CATEGORIES:Comedy,Discover Frome,Theatre
ATTACH;FMTTYPE=image/jpeg:https://www.discoverfrome.co.uk/wp-content/uploads/2026/02/jack-absolute-flies-again.jpg
GEO:51.2412644;-2.3118242
X-APPLE-STRUCTURED-LOCATION;VALUE=URI;X-ADDRESS=Merlin Theatre Bath Road Frome BA11 2HG;X-APPLE-RADIUS=500;X-TITLE=Bath Road:geo:-2.3118242,51.2412644
END:VEVENT
BEGIN:VEVENT
DTSTART;TZID=Europe/London:20260418T193000
DTEND;TZID=Europe/London:20260418T213000
DTSTAMP:20260420T135000
CREATED:20260219T115521Z
LAST-MODIFIED:20260219T115521Z
UID:10020319-1776540600-1776547800@www.discoverfrome.co.uk
SUMMARY:Frome Drama Club: Jack Absolute Flies Again
DESCRIPTION:Oliver Chris and Richard Bean (One Man\, Two Guv’nors) wrote this hilarious updated version of Sheridan’s The Rivals and set it in 1940 at RAF Fontwell during the Battle of Britain. Fighter pilot Jack Absolute attempts to rekindle his romance with wealthy Flying Auxiliary Lydia Languish\, but she has decided a working-class northerner in the form of mechanic Dudley Scunthorpe is for her (but he has the hots for the maid\, Lucy). \nTwo other pilots (a demented poet and a crazy Australian) are suitors for Lydia\, so Jack resorts to desperately comic measures to convince Lydia that he is the best man. General Absolute\, his father\, has his own agenda for Lydia\, who is the ward of Mrs Malaprop\, who owns Malaprop Hall\, requisitioned by the RAF as the fighter base. The result is farcical mayhem of the funniest kind. \nThis is an amateur performance.
URL:https://www.discoverfrome.co.uk/event/frome-drama-club-jack-absolute-flies-again/2026-04-18/
LOCATION:Merlin Theatre\, Bath Road\, Frome\, BA11 2HG 
CATEGORIES:Comedy,Discover Frome,Theatre
ATTACH;FMTTYPE=image/jpeg:https://www.discoverfrome.co.uk/wp-content/uploads/2026/02/jack-absolute-flies-again.jpg
GEO:51.2412644;-2.3118242
X-APPLE-STRUCTURED-LOCATION;VALUE=URI;X-ADDRESS=Merlin Theatre Bath Road Frome BA11 2HG;X-APPLE-RADIUS=500;X-TITLE=Bath Road:geo:-2.3118242,51.2412644
END:VEVENT
BEGIN:VEVENT
DTSTART;TZID=Europe/London:20260419T113000
DTEND;TZID=Europe/London:20260419T123000
DTSTAMP:20260420T135000
CREATED:20260219T115910Z
LAST-MODIFIED:20260325T141629Z
UID:10020320-1776598200-1776601800@www.discoverfrome.co.uk
SUMMARY:The Littlest Yak
DESCRIPTION:This musical adaptation of the award-winning children’s book by Lu Fraser and Kate Hindley will delight audiences young and old with beautiful puppets\, catchy tunes and an uplifting tale of self-acceptance for all the family. Gertie is great at being THE LITTLEST YAK\, with the CURLIEST\, WHIRLIEST wool and the GRIPPIEST of hooves for clip-clopping up cliffs. Only\, Gertie doesn’t want to be the littlest.\nShe’s in a rush to grow up and be just like THE BIG YAKS. But what if there are some things that only a GERTIE can do? \nA gorgeous story celebrating YOU being perfect…just the way you are!\nNominated for a whopping 4 OffWestEnd Awards\, including Best Script\, Music\, Performance and Design\, LAStheatre brings The Littlest Yak to the stage in spectacular fashion. \nJoin them this Easter for a dazzling adventure into the heart of the Himalayas.
URL:https://www.discoverfrome.co.uk/event/the-littlest-yak/2026-04-19/1/
LOCATION:Merlin Theatre\, Bath Road\, Frome\, BA11 2HG 
CATEGORIES:Children,Discover Frome,Family,Half term and holidays,Musical,Theatre
ATTACH;FMTTYPE=image/jpeg:https://www.discoverfrome.co.uk/wp-content/uploads/2026/02/the-littlest-yak.jpg
GEO:51.2412644;-2.3118242
X-APPLE-STRUCTURED-LOCATION;VALUE=URI;X-ADDRESS=Merlin Theatre Bath Road Frome BA11 2HG;X-APPLE-RADIUS=500;X-TITLE=Bath Road:geo:-2.3118242,51.2412644
END:VEVENT
BEGIN:VEVENT
DTSTART;TZID=Europe/London:20260419T143000
DTEND;TZID=Europe/London:20260419T153000
DTSTAMP:20260420T135000
CREATED:20260219T115910Z
LAST-MODIFIED:20260325T141629Z
UID:10020321-1776609000-1776612600@www.discoverfrome.co.uk
SUMMARY:The Littlest Yak
DESCRIPTION:This musical adaptation of the award-winning children’s book by Lu Fraser and Kate Hindley will delight audiences young and old with beautiful puppets\, catchy tunes and an uplifting tale of self-acceptance for all the family. Gertie is great at being THE LITTLEST YAK\, with the CURLIEST\, WHIRLIEST wool and the GRIPPIEST of hooves for clip-clopping up cliffs. Only\, Gertie doesn’t want to be the littlest.\nShe’s in a rush to grow up and be just like THE BIG YAKS. But what if there are some things that only a GERTIE can do? \nA gorgeous story celebrating YOU being perfect…just the way you are!\nNominated for a whopping 4 OffWestEnd Awards\, including Best Script\, Music\, Performance and Design\, LAStheatre brings The Littlest Yak to the stage in spectacular fashion. \nJoin them this Easter for a dazzling adventure into the heart of the Himalayas.
URL:https://www.discoverfrome.co.uk/event/the-littlest-yak/2026-04-19/2/
LOCATION:Merlin Theatre\, Bath Road\, Frome\, BA11 2HG 
CATEGORIES:Children,Discover Frome,Family,Half term and holidays,Musical,Theatre
ATTACH;FMTTYPE=image/jpeg:https://www.discoverfrome.co.uk/wp-content/uploads/2026/02/the-littlest-yak.jpg
GEO:51.2412644;-2.3118242
X-APPLE-STRUCTURED-LOCATION;VALUE=URI;X-ADDRESS=Merlin Theatre Bath Road Frome BA11 2HG;X-APPLE-RADIUS=500;X-TITLE=Bath Road:geo:-2.3118242,51.2412644
END:VEVENT
END:VCALENDAR