BEGIN:VCALENDAR
VERSION:2.0
PRODID:-//Discover Frome - ECPv6.15.20//NONSGML v1.0//EN
CALSCALE:GREGORIAN
METHOD:PUBLISH
X-WR-CALNAME:Discover Frome
X-ORIGINAL-URL:https://www.discoverfrome.co.uk
X-WR-CALDESC:Events for Discover Frome
REFRESH-INTERVAL;VALUE=DURATION:PT1H
X-Robots-Tag:noindex
X-PUBLISHED-TTL:PT1H
BEGIN:VTIMEZONE
TZID:Europe/London
BEGIN:DAYLIGHT
TZOFFSETFROM:+0000
TZOFFSETTO:+0100
TZNAME:BST
DTSTART:20250330T010000
END:DAYLIGHT
BEGIN:STANDARD
TZOFFSETFROM:+0100
TZOFFSETTO:+0000
TZNAME:GMT
DTSTART:20251026T010000
END:STANDARD
BEGIN:DAYLIGHT
TZOFFSETFROM:+0000
TZOFFSETTO:+0100
TZNAME:BST
DTSTART:20260329T010000
END:DAYLIGHT
BEGIN:STANDARD
TZOFFSETFROM:+0100
TZOFFSETTO:+0000
TZNAME:GMT
DTSTART:20261025T010000
END:STANDARD
BEGIN:DAYLIGHT
TZOFFSETFROM:+0000
TZOFFSETTO:+0100
TZNAME:BST
DTSTART:20270328T010000
END:DAYLIGHT
BEGIN:STANDARD
TZOFFSETFROM:+0100
TZOFFSETTO:+0000
TZNAME:GMT
DTSTART:20271031T010000
END:STANDARD
END:VTIMEZONE
BEGIN:VEVENT
DTSTART;TZID=Europe/London:20260401T190000
DTEND;TZID=Europe/London:20260401T203000
DTSTAMP:20260420T135951
CREATED:20260211T123027Z
LAST-MODIFIED:20260211T123027Z
UID:10019969-1775070000-1775075400@www.discoverfrome.co.uk
SUMMARY:Improv Lab
DESCRIPTION:Join our upcoming 5-week improv course – perfect for beginners and enthusiasts alike. Adults only. \nNo scripts. No pressure. Just a playful and welcoming space to invent characters\, create stories\, and discover the joy of saying “yes\, and…” to every idea. \nLed by an experienced facilitator\, each session invites you to participate in a mix of improvised scenes and games. It’s a laidback\, hilarious and a genuinely safe place to be totally ridiculous. \nAlong the way\, you will: \n\nReconnect with your sense of playfulness\nCultivate creativity and quick thinking\nBuild confidence as a speaker and perfomer\nStep outside your comfort zone\nJoin a growing\, supportive community
URL:https://www.discoverfrome.co.uk/event/improv-lab/2026-04-01/
LOCATION:The Awesome Studio\, Station Approach\, Frome\, BA11 1RE\, United Kingdom
CATEGORIES:Arts,Courses,Discover Frome,Theatre,Workshop
ATTACH;FMTTYPE=image/jpeg:https://www.discoverfrome.co.uk/wp-content/uploads/2026/02/improv-jam.jpg
END:VEVENT
BEGIN:VEVENT
DTSTART;TZID=Europe/London:20260405T140000
DTEND;TZID=Europe/London:20260405T160000
DTSTAMP:20260420T135951
CREATED:20260219T112809Z
LAST-MODIFIED:20260219T112809Z
UID:10020314-1775397600-1775404800@www.discoverfrome.co.uk
SUMMARY:Royal Opera: Siegfried
DESCRIPTION:Raised by a scheming dwarf and unaware of his true family origins\, a young man embarks on an epic journey. Soon\, destiny brings him face-to-face with a shattered sword\, a fearsome dragon and the cursed ring it guards\, and a Valkyrie forced into enchanted slumber… \nMoments of transcendent beauty and heroic triumph sparkle in the third chapter of Wagner’s Ring cycle\, brought to life under Barrie Kosky’s inspired eye following his spectacular Das Rheingold (2023) and Die Walküre (2025). Andreas Schager\, in his much-anticipated debut with The Royal Opera\, stars as Siegfried’s titular hero\, alongside Christopher Maltman’s towering Wanderer\, Peter Hoare’s treacherous Mime and Elisabet Strid’s radiant Brünnhilde. Antonio Pappano conducts\, drawing out the unspoken tensions and ethereal mysticism of Wagner’s dynamic score.
URL:https://www.discoverfrome.co.uk/event/royal-opera-siegfried/
LOCATION:Merlin Theatre\, Bath Road\, Frome\, BA11 2HG 
CATEGORIES:Arts,Discover Frome,Film,Opera,Theatre
ATTACH;FMTTYPE=image/jpeg:https://www.discoverfrome.co.uk/wp-content/uploads/2026/02/siegfried.jpg
GEO:51.2412644;-2.3118242
X-APPLE-STRUCTURED-LOCATION;VALUE=URI;X-ADDRESS=Merlin Theatre Bath Road Frome BA11 2HG;X-APPLE-RADIUS=500;X-TITLE=Bath Road:geo:-2.3118242,51.2412644
END:VEVENT
END:VCALENDAR