BEGIN:VCALENDAR
VERSION:2.0
PRODID:-//Discover Frome - ECPv6.15.20//NONSGML v1.0//EN
CALSCALE:GREGORIAN
METHOD:PUBLISH
X-WR-CALNAME:Discover Frome
X-ORIGINAL-URL:https://www.discoverfrome.co.uk
X-WR-CALDESC:Events for Discover Frome
REFRESH-INTERVAL;VALUE=DURATION:PT1H
X-Robots-Tag:noindex
X-PUBLISHED-TTL:PT1H
BEGIN:VTIMEZONE
TZID:Europe/London
BEGIN:DAYLIGHT
TZOFFSETFROM:+0000
TZOFFSETTO:+0100
TZNAME:BST
DTSTART:20250330T010000
END:DAYLIGHT
BEGIN:STANDARD
TZOFFSETFROM:+0100
TZOFFSETTO:+0000
TZNAME:GMT
DTSTART:20251026T010000
END:STANDARD
BEGIN:DAYLIGHT
TZOFFSETFROM:+0000
TZOFFSETTO:+0100
TZNAME:BST
DTSTART:20260329T010000
END:DAYLIGHT
BEGIN:STANDARD
TZOFFSETFROM:+0100
TZOFFSETTO:+0000
TZNAME:GMT
DTSTART:20261025T010000
END:STANDARD
BEGIN:DAYLIGHT
TZOFFSETFROM:+0000
TZOFFSETTO:+0100
TZNAME:BST
DTSTART:20270328T010000
END:DAYLIGHT
BEGIN:STANDARD
TZOFFSETFROM:+0100
TZOFFSETTO:+0000
TZNAME:GMT
DTSTART:20271031T010000
END:STANDARD
END:VTIMEZONE
BEGIN:VEVENT
DTSTART;VALUE=DATE:20260314
DTEND;VALUE=DATE:20260322
DTSTAMP:20260423T044438
CREATED:20260216T152934Z
LAST-MODIFIED:20260227T104424Z
UID:10020266-1773446400-1774137599@www.discoverfrome.co.uk
SUMMARY:Frome Kindness Festival
DESCRIPTION:“The world is full of kind people. If you can’t find one\, be one.” \nCelebrated annually\, The Frome Kindness Festival is a unique celebration of the transformative power of kindness. \nFrome Kindness Festival 2026 will take place from the 14th – 21st March. The town will come alive to celebrate the contribution that kindness makes to our relationships\, to our mental and physical health and to our marvellous community. Co-ordinated by The Good Heart\, the 2026 festival will offer something for everyone; bringing local people together in fun\, magical and uplifting ways. \nImage credit: Dave Sherwood
URL:https://www.discoverfrome.co.uk/event/frome-kindness-festival/
CATEGORIES:Arts,Charity event,Children,Comedy,Community,Concert,Crafts,Dance,Discover Frome,Environment,Film,Health and wellbeing,Literature,Live band,Market,Music,Nature,Opera,Support,Talk,Theatre,Workshop
ATTACH;FMTTYPE=image/png:https://www.discoverfrome.co.uk/wp-content/uploads/2025/02/Kindness-Hat-credit-Dave-Sherwood.png
ORGANIZER;CN="The Good Heart":MAILTO:welcome@thegoodheart.uk
END:VEVENT
BEGIN:VEVENT
DTSTART;TZID=Europe/London:20260316T190000
DTEND;TZID=Europe/London:20260316T200000
DTSTAMP:20260423T044438
CREATED:20260304T105837Z
LAST-MODIFIED:20260304T105837Z
UID:10020398-1773687600-1773691200@www.discoverfrome.co.uk
SUMMARY:Menkind video screening
DESCRIPTION:Another chance to see a short video with men in Frome talking about what kindness means to them\, followed by discussion. For men only. \nSometimes kindness can be perceived as a feminine virtue and we set out to challenge this by asking six men in Frome what kindness means to them. The results are surprising and highlight that “kindness” can take many forms and may be called by other names. Last year’s screening to a packed room in The Crown led to an amazing group dialogue in which men shared stories about unexpected act of kindness they had experienced. This is another chance to see the film and hopefully be part of a similar conversation between men.
URL:https://www.discoverfrome.co.uk/event/menkind-video-screening/
LOCATION:The Crown Inn\, 24 Keyford\, Frome\, Somerset\, BA11 1JW\, United Kingdom
CATEGORIES:Discover Frome,Film,Health and wellbeing,Support
ATTACH;FMTTYPE=image/jpeg:https://www.discoverfrome.co.uk/wp-content/uploads/2026/03/menkind.jpg
ORGANIZER;CN="The Good Heart":MAILTO:welcome@thegoodheart.uk
END:VEVENT
END:VCALENDAR