BEGIN:VCALENDAR
VERSION:2.0
PRODID:-//Discover Frome - ECPv6.15.20//NONSGML v1.0//EN
CALSCALE:GREGORIAN
METHOD:PUBLISH
X-WR-CALNAME:Discover Frome
X-ORIGINAL-URL:https://www.discoverfrome.co.uk
X-WR-CALDESC:Events for Discover Frome
REFRESH-INTERVAL;VALUE=DURATION:PT1H
X-Robots-Tag:noindex
X-PUBLISHED-TTL:PT1H
BEGIN:VTIMEZONE
TZID:Europe/London
BEGIN:DAYLIGHT
TZOFFSETFROM:+0000
TZOFFSETTO:+0100
TZNAME:BST
DTSTART:20250330T010000
END:DAYLIGHT
BEGIN:STANDARD
TZOFFSETFROM:+0100
TZOFFSETTO:+0000
TZNAME:GMT
DTSTART:20251026T010000
END:STANDARD
BEGIN:DAYLIGHT
TZOFFSETFROM:+0000
TZOFFSETTO:+0100
TZNAME:BST
DTSTART:20260329T010000
END:DAYLIGHT
BEGIN:STANDARD
TZOFFSETFROM:+0100
TZOFFSETTO:+0000
TZNAME:GMT
DTSTART:20261025T010000
END:STANDARD
BEGIN:DAYLIGHT
TZOFFSETFROM:+0000
TZOFFSETTO:+0100
TZNAME:BST
DTSTART:20270328T010000
END:DAYLIGHT
BEGIN:STANDARD
TZOFFSETFROM:+0100
TZOFFSETTO:+0000
TZNAME:GMT
DTSTART:20271031T010000
END:STANDARD
END:VTIMEZONE
BEGIN:VEVENT
DTSTART;TZID=Europe/London:20260415T090000
DTEND;TZID=Europe/London:20260415T140000
DTSTAMP:20260420T191313
CREATED:20260216T131856Z
LAST-MODIFIED:20260216T131856Z
UID:10020119-1776243600-1776261600@www.discoverfrome.co.uk
SUMMARY:Flea and Collectables Market
DESCRIPTION:Quality second hand goods including a selection of antiques and collectables as well as a mixture of bric-a-brac and jewellery with even the chance of some hidden treasure. \nAlways worth a rummage! \nGrain bar/café – also serving food.
URL:https://www.discoverfrome.co.uk/event/flea-and-collectables-market-2/2026-04-15/
LOCATION:Cheese and Grain\, Market Yard\, Frome\, BA11 1BE
CATEGORIES:Discover Frome,Market,Shopping
ATTACH;FMTTYPE=image/jpeg:https://www.discoverfrome.co.uk/wp-content/uploads/2025/10/flea-and-collectables-market.jpg
GEO:51.2318708;-2.3202807
X-APPLE-STRUCTURED-LOCATION;VALUE=URI;X-ADDRESS=Cheese and Grain Market Yard Frome BA11 1BE;X-APPLE-RADIUS=500;X-TITLE=Market Yard:geo:-2.3202807,51.2318708
END:VEVENT
BEGIN:VEVENT
DTSTART;TZID=Europe/London:20260415T090000
DTEND;TZID=Europe/London:20260415T150000
DTSTAMP:20260420T191313
CREATED:20260212T122309Z
LAST-MODIFIED:20260212T122731Z
UID:10019601-1776243600-1776265200@www.discoverfrome.co.uk
SUMMARY:Frome Wednesday Market
DESCRIPTION:Frome has a market every Wednesday\, 9am – 3pm\, with stalls in the Cattle Market Car Park. Here you’ll find fresh produce\, sweet treats\, homeware\, jewellery\, gifts\, pet supplies and more.
URL:https://www.discoverfrome.co.uk/event/frome-wednesday-market-2-2/2026-04-15/
LOCATION:Cattle Market Car Park\, Bridge Street Somerset Frome\, BA11 1BE
CATEGORIES:Clothing and textiles,Discover Frome,Market,Shopping
ATTACH;FMTTYPE=image/jpeg:https://www.discoverfrome.co.uk/wp-content/uploads/2025/07/IMG_5959.jpg
ORGANIZER;CN="Frome Weekly Market":MAILTO:info@fromeweeklymarkets.co.uk
GEO:51.2323461;-2.3198961
X-APPLE-STRUCTURED-LOCATION;VALUE=URI;X-ADDRESS=Cattle Market Car Park Bridge Street Somerset Frome BA11 1BE;X-APPLE-RADIUS=500;X-TITLE=Bridge Street Somerset Frome:geo:-2.3198961,51.2323461
END:VEVENT
BEGIN:VEVENT
DTSTART;TZID=Europe/London:20260418T090000
DTEND;TZID=Europe/London:20260418T150000
DTSTAMP:20260420T191313
CREATED:20260212T120341Z
LAST-MODIFIED:20260212T120341Z
UID:10019119-1776502800-1776524400@www.discoverfrome.co.uk
SUMMARY:Frome Saturday Market
DESCRIPTION:Frome has a market every Saturday\, 9am – 3pm\, with stalls in the Cattle Market Car Park. Here you’ll find fresh produce\, sweet treats\, homeware\, jewellery\, gifts\, pet supplies and more.
URL:https://www.discoverfrome.co.uk/event/frome-saturday-market-2/2026-04-18/
LOCATION:Cattle Market Car Park\, Bridge Street Somerset Frome\, BA11 1BE
CATEGORIES:Clothing and textiles,Discover Frome,Market,Shopping
ATTACH;FMTTYPE=image/jpeg:https://www.discoverfrome.co.uk/wp-content/uploads/2025/07/IMG_5959.jpg
ORGANIZER;CN="Frome Weekly Market":MAILTO:info@fromeweeklymarkets.co.uk
GEO:51.2323461;-2.3198961
X-APPLE-STRUCTURED-LOCATION;VALUE=URI;X-ADDRESS=Cattle Market Car Park Bridge Street Somerset Frome BA11 1BE;X-APPLE-RADIUS=500;X-TITLE=Bridge Street Somerset Frome:geo:-2.3198961,51.2323461
END:VEVENT
BEGIN:VEVENT
DTSTART;TZID=Europe/London:20260419T083000
DTEND;TZID=Europe/London:20260419T150000
DTSTAMP:20260420T191313
CREATED:20260326T103343Z
LAST-MODIFIED:20260326T103343Z
UID:10020507-1776587400-1776610800@www.discoverfrome.co.uk
SUMMARY:Frome Wessex Camera & Photographic Fair
DESCRIPTION:Frome Wessex Camera & Photographic Fair at the Cheese and Grain\, Frome \nEarly Bird Admission £10 At 8.30am\nGeneral Admission £5 at 10.00am \nBuy\, Sell and Part Exchange\, Digital & Film Cameras\, Lenses\, books and allied photographic equipment. \nThis is the South West’s Largest Camera & Photographic Fair. Cameras (Digital\, Modern & Collectable) Lenses\, Filters\, Flashguns\, Film\, Paper\, Books and Old Prints. Over 30 stands selling everything camera and photographic related only! \nIf you want buy a good Camera to use\, or you just want to collect Cameras then make a date in your diary not to miss the Frome Wessex camera & photographic fair. Camera fairs are very friendly places and the stallholders will only be to pleased to give help and technical assistance on the cameras & photographic equipment. If you have cameras or lenses to sell then please bring them along with you as the stallholders are always looking to buy fine used equipment as well. \nIf you’ve never been to a photographic camera fair your missing a treat. The prices are low and you’ll find cameras\, lens and lots of other photographic accessories that you’ve been searching for.
URL:https://www.discoverfrome.co.uk/event/frome-wessex-camera-photographic-fair/
LOCATION:Cheese and Grain\, Market Yard\, Frome\, BA11 1BE
CATEGORIES:Discover Frome,Market,Shopping
ATTACH;FMTTYPE=image/jpeg:https://www.discoverfrome.co.uk/wp-content/uploads/2025/10/camera-fair.jpg
GEO:51.2318708;-2.3202807
X-APPLE-STRUCTURED-LOCATION;VALUE=URI;X-ADDRESS=Cheese and Grain Market Yard Frome BA11 1BE;X-APPLE-RADIUS=500;X-TITLE=Market Yard:geo:-2.3202807,51.2318708
END:VEVENT
END:VCALENDAR