BEGIN:VCALENDAR
VERSION:2.0
PRODID:-//Discover Frome - ECPv6.15.20//NONSGML v1.0//EN
CALSCALE:GREGORIAN
METHOD:PUBLISH
X-ORIGINAL-URL:https://www.discoverfrome.co.uk
X-WR-CALDESC:Events for Discover Frome
REFRESH-INTERVAL;VALUE=DURATION:PT1H
X-Robots-Tag:noindex
X-PUBLISHED-TTL:PT1H
BEGIN:VTIMEZONE
TZID:Europe/London
BEGIN:DAYLIGHT
TZOFFSETFROM:+0000
TZOFFSETTO:+0100
TZNAME:BST
DTSTART:20250330T010000
END:DAYLIGHT
BEGIN:STANDARD
TZOFFSETFROM:+0100
TZOFFSETTO:+0000
TZNAME:GMT
DTSTART:20251026T010000
END:STANDARD
BEGIN:DAYLIGHT
TZOFFSETFROM:+0000
TZOFFSETTO:+0100
TZNAME:BST
DTSTART:20260329T010000
END:DAYLIGHT
BEGIN:STANDARD
TZOFFSETFROM:+0100
TZOFFSETTO:+0000
TZNAME:GMT
DTSTART:20261025T010000
END:STANDARD
BEGIN:DAYLIGHT
TZOFFSETFROM:+0000
TZOFFSETTO:+0100
TZNAME:BST
DTSTART:20270328T010000
END:DAYLIGHT
BEGIN:STANDARD
TZOFFSETFROM:+0100
TZOFFSETTO:+0000
TZNAME:GMT
DTSTART:20271031T010000
END:STANDARD
END:VTIMEZONE
BEGIN:VEVENT
DTSTART;TZID=Europe/London:20260318T090000
DTEND;TZID=Europe/London:20260318T140000
DTSTAMP:20260420T203655
CREATED:20260216T131856Z
LAST-MODIFIED:20260216T131856Z
UID:10020115-1773824400-1773842400@www.discoverfrome.co.uk
SUMMARY:Flea and Collectables Market
DESCRIPTION:Quality second hand goods including a selection of antiques and collectables as well as a mixture of bric-a-brac and jewellery with even the chance of some hidden treasure. \nAlways worth a rummage! \nGrain bar/café – also serving food.
URL:https://www.discoverfrome.co.uk/event/flea-and-collectables-market-2/2026-03-18/
LOCATION:Cheese and Grain\, Market Yard\, Frome\, BA11 1BE
CATEGORIES:Discover Frome,Market,Shopping
ATTACH;FMTTYPE=image/jpeg:https://www.discoverfrome.co.uk/wp-content/uploads/2025/10/flea-and-collectables-market.jpg
GEO:51.2318708;-2.3202807
X-APPLE-STRUCTURED-LOCATION;VALUE=URI;X-ADDRESS=Cheese and Grain Market Yard Frome BA11 1BE;X-APPLE-RADIUS=500;X-TITLE=Market Yard:geo:-2.3202807,51.2318708
END:VEVENT
BEGIN:VEVENT
DTSTART;TZID=Europe/London:20260314T100000
DTEND;TZID=Europe/London:20260314T120000
DTSTAMP:20260420T203655
CREATED:20251003T134911Z
LAST-MODIFIED:20251003T134911Z
UID:10019155-1773482400-1773489600@www.discoverfrome.co.uk
SUMMARY:Little Pickles Market
DESCRIPTION:What will be on offer to buy\, every market is unique and offers a great selection of items from prams to babygros\, books to play gyms\, bouncy chairs to wooden toys\, toddler clothes to baby carriers\, welly boots to swimwear\, the list goes on and on.
URL:https://www.discoverfrome.co.uk/event/little-pickles-market-2/2026-03-14/
LOCATION:Cheese and Grain\, Market Yard\, Frome\, BA11 1BE
CATEGORIES:Children,Clothing and textiles,Discover Frome,Family,Market,Shopping
ATTACH;FMTTYPE=image/jpeg:https://www.discoverfrome.co.uk/wp-content/uploads/2025/06/little-pickles-market.jpg
GEO:51.2318708;-2.3202807
X-APPLE-STRUCTURED-LOCATION;VALUE=URI;X-ADDRESS=Cheese and Grain Market Yard Frome BA11 1BE;X-APPLE-RADIUS=500;X-TITLE=Market Yard:geo:-2.3202807,51.2318708
END:VEVENT
BEGIN:VEVENT
DTSTART;TZID=Europe/London:20260314T090000
DTEND;TZID=Europe/London:20260314T150000
DTSTAMP:20260420T203655
CREATED:20260212T120341Z
LAST-MODIFIED:20260212T120341Z
UID:10019114-1773478800-1773500400@www.discoverfrome.co.uk
SUMMARY:Frome Saturday Market
DESCRIPTION:Frome has a market every Saturday\, 9am – 3pm\, with stalls in the Cattle Market Car Park. Here you’ll find fresh produce\, sweet treats\, homeware\, jewellery\, gifts\, pet supplies and more.
URL:https://www.discoverfrome.co.uk/event/frome-saturday-market-2/2026-03-14/
LOCATION:Cattle Market Car Park\, Bridge Street Somerset Frome\, BA11 1BE
CATEGORIES:Clothing and textiles,Discover Frome,Market,Shopping
ATTACH;FMTTYPE=image/jpeg:https://www.discoverfrome.co.uk/wp-content/uploads/2025/07/IMG_5959.jpg
ORGANIZER;CN="Frome Weekly Market":MAILTO:info@fromeweeklymarkets.co.uk
GEO:51.2323461;-2.3198961
X-APPLE-STRUCTURED-LOCATION;VALUE=URI;X-ADDRESS=Cattle Market Car Park Bridge Street Somerset Frome BA11 1BE;X-APPLE-RADIUS=500;X-TITLE=Bridge Street Somerset Frome:geo:-2.3198961,51.2323461
END:VEVENT
BEGIN:VEVENT
DTSTART;TZID=Europe/London:20260314T090000
DTEND;TZID=Europe/London:20260314T130000
DTSTAMP:20260420T203655
CREATED:20260121T122022Z
LAST-MODIFIED:20260121T122022Z
UID:10019648-1773478800-1773493200@www.discoverfrome.co.uk
SUMMARY:Frome Farmers' Market
DESCRIPTION:Since October 2022\, Frome’s farmers’ market has taken place at Boyle Cross – the town’s original market venue\, and where we also hold a market on the first Sunday of the month as part of The Frome Independent.\n\nFrome Boyle Cross market runs every second Saturday of the month\, from February to December 9am – 1pm.\n\nSituated close to Cheap Street and Catherine Hill\, it’s a great destination to meet and buy from local farmers\, cheesemakers\, market gardeners\, and bakers. \n\nBoyle Cross itself has plenty of seating and you can collect a takeaway coffee at one of the nearby cafes and come and enjoy watching the market life!
URL:https://www.discoverfrome.co.uk/event/frome-farmers-market-2/2026-03-14/
LOCATION:Boyle Cross
CATEGORIES:Discover Frome,Food and drink,Market,Shopping
ATTACH;FMTTYPE=image/jpeg:https://www.discoverfrome.co.uk/wp-content/uploads/2024/08/264A1273c.jpg
ORGANIZER;CN="Somerset Farmers Markets":MAILTO:info@somersetfarmersmarkets.co.uk
END:VEVENT
BEGIN:VEVENT
DTSTART;TZID=Europe/London:20260311T090000
DTEND;TZID=Europe/London:20260311T150000
DTSTAMP:20260420T203655
CREATED:20260212T122309Z
LAST-MODIFIED:20260212T122731Z
UID:10019150-1773219600-1773241200@www.discoverfrome.co.uk
SUMMARY:Frome Wednesday Market
DESCRIPTION:Frome has a market every Wednesday\, 9am – 3pm\, with stalls in the Cattle Market Car Park. Here you’ll find fresh produce\, sweet treats\, homeware\, jewellery\, gifts\, pet supplies and more.
URL:https://www.discoverfrome.co.uk/event/frome-wednesday-market-2-2/2026-03-11/
LOCATION:Cattle Market Car Park\, Bridge Street Somerset Frome\, BA11 1BE
CATEGORIES:Clothing and textiles,Discover Frome,Market,Shopping
ATTACH;FMTTYPE=image/jpeg:https://www.discoverfrome.co.uk/wp-content/uploads/2025/07/IMG_5959.jpg
ORGANIZER;CN="Frome Weekly Market":MAILTO:info@fromeweeklymarkets.co.uk
GEO:51.2323461;-2.3198961
X-APPLE-STRUCTURED-LOCATION;VALUE=URI;X-ADDRESS=Cattle Market Car Park Bridge Street Somerset Frome BA11 1BE;X-APPLE-RADIUS=500;X-TITLE=Bridge Street Somerset Frome:geo:-2.3198961,51.2323461
END:VEVENT
BEGIN:VEVENT
DTSTART;TZID=Europe/London:20260311T090000
DTEND;TZID=Europe/London:20260311T140000
DTSTAMP:20260420T203655
CREATED:20260216T131856Z
LAST-MODIFIED:20260216T131856Z
UID:10020114-1773219600-1773237600@www.discoverfrome.co.uk
SUMMARY:Flea and Collectables Market
DESCRIPTION:Quality second hand goods including a selection of antiques and collectables as well as a mixture of bric-a-brac and jewellery with even the chance of some hidden treasure. \nAlways worth a rummage! \nGrain bar/café – also serving food.
URL:https://www.discoverfrome.co.uk/event/flea-and-collectables-market-2/2026-03-11/
LOCATION:Cheese and Grain\, Market Yard\, Frome\, BA11 1BE
CATEGORIES:Discover Frome,Market,Shopping
ATTACH;FMTTYPE=image/jpeg:https://www.discoverfrome.co.uk/wp-content/uploads/2025/10/flea-and-collectables-market.jpg
GEO:51.2318708;-2.3202807
X-APPLE-STRUCTURED-LOCATION;VALUE=URI;X-ADDRESS=Cheese and Grain Market Yard Frome BA11 1BE;X-APPLE-RADIUS=500;X-TITLE=Market Yard:geo:-2.3202807,51.2318708
END:VEVENT
BEGIN:VEVENT
DTSTART;TZID=Europe/London:20260307T090000
DTEND;TZID=Europe/London:20260307T150000
DTSTAMP:20260420T203655
CREATED:20260212T120341Z
LAST-MODIFIED:20260212T120341Z
UID:10019113-1772874000-1772895600@www.discoverfrome.co.uk
SUMMARY:Frome Saturday Market
DESCRIPTION:Frome has a market every Saturday\, 9am – 3pm\, with stalls in the Cattle Market Car Park. Here you’ll find fresh produce\, sweet treats\, homeware\, jewellery\, gifts\, pet supplies and more.
URL:https://www.discoverfrome.co.uk/event/frome-saturday-market-2/2026-03-07/
LOCATION:Cattle Market Car Park\, Bridge Street Somerset Frome\, BA11 1BE
CATEGORIES:Clothing and textiles,Discover Frome,Market,Shopping
ATTACH;FMTTYPE=image/jpeg:https://www.discoverfrome.co.uk/wp-content/uploads/2025/07/IMG_5959.jpg
ORGANIZER;CN="Frome Weekly Market":MAILTO:info@fromeweeklymarkets.co.uk
GEO:51.2323461;-2.3198961
X-APPLE-STRUCTURED-LOCATION;VALUE=URI;X-ADDRESS=Cattle Market Car Park Bridge Street Somerset Frome BA11 1BE;X-APPLE-RADIUS=500;X-TITLE=Bridge Street Somerset Frome:geo:-2.3198961,51.2323461
END:VEVENT
BEGIN:VEVENT
DTSTART;TZID=Europe/London:20260304T090000
DTEND;TZID=Europe/London:20260304T150000
DTSTAMP:20260420T203655
CREATED:20260212T122309Z
LAST-MODIFIED:20260212T122731Z
UID:10019149-1772614800-1772636400@www.discoverfrome.co.uk
SUMMARY:Frome Wednesday Market
DESCRIPTION:Frome has a market every Wednesday\, 9am – 3pm\, with stalls in the Cattle Market Car Park. Here you’ll find fresh produce\, sweet treats\, homeware\, jewellery\, gifts\, pet supplies and more.
URL:https://www.discoverfrome.co.uk/event/frome-wednesday-market-2-2/2026-03-04/
LOCATION:Cattle Market Car Park\, Bridge Street Somerset Frome\, BA11 1BE
CATEGORIES:Clothing and textiles,Discover Frome,Market,Shopping
ATTACH;FMTTYPE=image/jpeg:https://www.discoverfrome.co.uk/wp-content/uploads/2025/07/IMG_5959.jpg
ORGANIZER;CN="Frome Weekly Market":MAILTO:info@fromeweeklymarkets.co.uk
GEO:51.2323461;-2.3198961
X-APPLE-STRUCTURED-LOCATION;VALUE=URI;X-ADDRESS=Cattle Market Car Park Bridge Street Somerset Frome BA11 1BE;X-APPLE-RADIUS=500;X-TITLE=Bridge Street Somerset Frome:geo:-2.3198961,51.2323461
END:VEVENT
BEGIN:VEVENT
DTSTART;TZID=Europe/London:20260304T090000
DTEND;TZID=Europe/London:20260304T140000
DTSTAMP:20260420T203655
CREATED:20260216T131856Z
LAST-MODIFIED:20260216T131856Z
UID:10020113-1772614800-1772632800@www.discoverfrome.co.uk
SUMMARY:Flea and Collectables Market
DESCRIPTION:Quality second hand goods including a selection of antiques and collectables as well as a mixture of bric-a-brac and jewellery with even the chance of some hidden treasure. \nAlways worth a rummage! \nGrain bar/café – also serving food.
URL:https://www.discoverfrome.co.uk/event/flea-and-collectables-market-2/2026-03-04/
LOCATION:Cheese and Grain\, Market Yard\, Frome\, BA11 1BE
CATEGORIES:Discover Frome,Market,Shopping
ATTACH;FMTTYPE=image/jpeg:https://www.discoverfrome.co.uk/wp-content/uploads/2025/10/flea-and-collectables-market.jpg
GEO:51.2318708;-2.3202807
X-APPLE-STRUCTURED-LOCATION;VALUE=URI;X-ADDRESS=Cheese and Grain Market Yard Frome BA11 1BE;X-APPLE-RADIUS=500;X-TITLE=Market Yard:geo:-2.3202807,51.2318708
END:VEVENT
BEGIN:VEVENT
DTSTART;TZID=Europe/London:20260301T090000
DTEND;TZID=Europe/London:20260301T140000
DTSTAMP:20260420T203655
CREATED:20260216T132840Z
LAST-MODIFIED:20260216T132840Z
UID:10020208-1772355600-1772373600@www.discoverfrome.co.uk
SUMMARY:Magpie Market
DESCRIPTION:The popular Magpie market is back. This market runs alongside the Independent market in the town\, at the Cheese & Grain from 9am – 2pm.\nA market for crafts\, jewellery\, vintage & contemporary gifts and produce… lots of wonderful things…\nFor stalls contact olivia.dimery@cheeseandgrain.com
URL:https://www.discoverfrome.co.uk/event/magpie-market/2026-03-01/
LOCATION:Cheese and Grain\, Market Yard\, Frome\, BA11 1BE
CATEGORIES:Discover Frome,Market,Shopping
ATTACH;FMTTYPE=image/jpeg:https://www.discoverfrome.co.uk/wp-content/uploads/2026/02/magpie-market.jpg
GEO:51.2318708;-2.3202807
X-APPLE-STRUCTURED-LOCATION;VALUE=URI;X-ADDRESS=Cheese and Grain Market Yard Frome BA11 1BE;X-APPLE-RADIUS=500;X-TITLE=Market Yard:geo:-2.3202807,51.2318708
END:VEVENT
BEGIN:VEVENT
DTSTART;TZID=Europe/London:20260228T100000
DTEND;TZID=Europe/London:20260228T150000
DTSTAMP:20260420T203655
CREATED:20260126T131330Z
LAST-MODIFIED:20260227T094738Z
UID:10019659-1772272800-1772290800@www.discoverfrome.co.uk
SUMMARY:Frome Faerie Fair
DESCRIPTION:Come in from the cold and warm your spirit… wander our artisan stalls\, join our workshop\, be amazed by our bubble display. Fill your belly with handcrafted artisan pastries and let our spell bound fairy paint your face!\nCome join our fun and dress up if you wish\, wings\, crowns\, cloaks and tails are all welcome!
URL:https://www.discoverfrome.co.uk/event/frome-faerie-fair/
LOCATION:The Bennett Centre\, Vicarage St\, Frome\, BA11 1PX\, United Kingdom
CATEGORIES:Arts,Children,Crafts,Discover Frome,Family,Market,Shopping,Spirituality,Workshop
ATTACH;FMTTYPE=image/jpeg:https://www.discoverfrome.co.uk/wp-content/uploads/2025/08/frome-faerie-fair.jpg
ORGANIZER;CN="Toni Rumens":MAILTO:fromefaeriefair@outlook.com
END:VEVENT
BEGIN:VEVENT
DTSTART;TZID=Europe/London:20260228T090000
DTEND;TZID=Europe/London:20260228T150000
DTSTAMP:20260420T203655
CREATED:20260212T120341Z
LAST-MODIFIED:20260212T120341Z
UID:10019112-1772269200-1772290800@www.discoverfrome.co.uk
SUMMARY:Frome Saturday Market
DESCRIPTION:Frome has a market every Saturday\, 9am – 3pm\, with stalls in the Cattle Market Car Park. Here you’ll find fresh produce\, sweet treats\, homeware\, jewellery\, gifts\, pet supplies and more.
URL:https://www.discoverfrome.co.uk/event/frome-saturday-market-2/2026-02-28/
LOCATION:Cattle Market Car Park\, Bridge Street Somerset Frome\, BA11 1BE
CATEGORIES:Clothing and textiles,Discover Frome,Market,Shopping
ATTACH;FMTTYPE=image/jpeg:https://www.discoverfrome.co.uk/wp-content/uploads/2025/07/IMG_5959.jpg
ORGANIZER;CN="Frome Weekly Market":MAILTO:info@fromeweeklymarkets.co.uk
GEO:51.2323461;-2.3198961
X-APPLE-STRUCTURED-LOCATION;VALUE=URI;X-ADDRESS=Cattle Market Car Park Bridge Street Somerset Frome BA11 1BE;X-APPLE-RADIUS=500;X-TITLE=Bridge Street Somerset Frome:geo:-2.3198961,51.2323461
END:VEVENT
BEGIN:VEVENT
DTSTART;TZID=Europe/London:20260225T090000
DTEND;TZID=Europe/London:20260225T150000
DTSTAMP:20260420T203655
CREATED:20260212T122309Z
LAST-MODIFIED:20260212T122731Z
UID:10019148-1772010000-1772031600@www.discoverfrome.co.uk
SUMMARY:Frome Wednesday Market
DESCRIPTION:Frome has a market every Wednesday\, 9am – 3pm\, with stalls in the Cattle Market Car Park. Here you’ll find fresh produce\, sweet treats\, homeware\, jewellery\, gifts\, pet supplies and more.
URL:https://www.discoverfrome.co.uk/event/frome-wednesday-market-2-2/2026-02-25/
LOCATION:Cattle Market Car Park\, Bridge Street Somerset Frome\, BA11 1BE
CATEGORIES:Clothing and textiles,Discover Frome,Market,Shopping
ATTACH;FMTTYPE=image/jpeg:https://www.discoverfrome.co.uk/wp-content/uploads/2025/07/IMG_5959.jpg
ORGANIZER;CN="Frome Weekly Market":MAILTO:info@fromeweeklymarkets.co.uk
GEO:51.2323461;-2.3198961
X-APPLE-STRUCTURED-LOCATION;VALUE=URI;X-ADDRESS=Cattle Market Car Park Bridge Street Somerset Frome BA11 1BE;X-APPLE-RADIUS=500;X-TITLE=Bridge Street Somerset Frome:geo:-2.3198961,51.2323461
END:VEVENT
BEGIN:VEVENT
DTSTART;TZID=Europe/London:20260225T090000
DTEND;TZID=Europe/London:20260225T140000
DTSTAMP:20260420T203655
CREATED:20260216T131856Z
LAST-MODIFIED:20260216T131856Z
UID:10020112-1772010000-1772028000@www.discoverfrome.co.uk
SUMMARY:Flea and Collectables Market
DESCRIPTION:Quality second hand goods including a selection of antiques and collectables as well as a mixture of bric-a-brac and jewellery with even the chance of some hidden treasure. \nAlways worth a rummage! \nGrain bar/café – also serving food.
URL:https://www.discoverfrome.co.uk/event/flea-and-collectables-market-2/2026-02-25/
LOCATION:Cheese and Grain\, Market Yard\, Frome\, BA11 1BE
CATEGORIES:Discover Frome,Market,Shopping
ATTACH;FMTTYPE=image/jpeg:https://www.discoverfrome.co.uk/wp-content/uploads/2025/10/flea-and-collectables-market.jpg
GEO:51.2318708;-2.3202807
X-APPLE-STRUCTURED-LOCATION;VALUE=URI;X-ADDRESS=Cheese and Grain Market Yard Frome BA11 1BE;X-APPLE-RADIUS=500;X-TITLE=Market Yard:geo:-2.3202807,51.2318708
END:VEVENT
BEGIN:VEVENT
DTSTART;TZID=Europe/London:20260222T073000
DTEND;TZID=Europe/London:20260222T130000
DTSTAMP:20260420T203655
CREATED:20260211T162538Z
LAST-MODIFIED:20260211T162538Z
UID:10020069-1771745400-1771765200@www.discoverfrome.co.uk
SUMMARY:Frome Car Boot
DESCRIPTION:Every last Sunday of the month in the Cheese and Grain car park. Turn up from 7:30am\, £5 a boot. Come along and find some treasure!
URL:https://www.discoverfrome.co.uk/event/frome-car-boot/2026-02-22/
LOCATION:Cheese and Grain Car Park\, Market Yard\, Frome\, BA111BE
CATEGORIES:Discover Frome,Market,Shopping
ATTACH;FMTTYPE=image/jpeg:https://www.discoverfrome.co.uk/wp-content/uploads/2019/01/frome-car-boot-sale.jpg
ORGANIZER;CN="Frome Car Boot":MAILTO:quirkycollectables@gmail.com
GEO:51.2313518;-2.3213087
X-APPLE-STRUCTURED-LOCATION;VALUE=URI;X-ADDRESS=Cheese and Grain Car Park Market Yard Frome BA111BE;X-APPLE-RADIUS=500;X-TITLE=Market Yard:geo:-2.3213087,51.2313518
END:VEVENT
BEGIN:VEVENT
DTSTART;TZID=Europe/London:20260221T090000
DTEND;TZID=Europe/London:20260221T150000
DTSTAMP:20260420T203655
CREATED:20260212T120341Z
LAST-MODIFIED:20260212T120341Z
UID:10019111-1771664400-1771686000@www.discoverfrome.co.uk
SUMMARY:Frome Saturday Market
DESCRIPTION:Frome has a market every Saturday\, 9am – 3pm\, with stalls in the Cattle Market Car Park. Here you’ll find fresh produce\, sweet treats\, homeware\, jewellery\, gifts\, pet supplies and more.
URL:https://www.discoverfrome.co.uk/event/frome-saturday-market-2/2026-02-21/
LOCATION:Cattle Market Car Park\, Bridge Street Somerset Frome\, BA11 1BE
CATEGORIES:Clothing and textiles,Discover Frome,Market,Shopping
ATTACH;FMTTYPE=image/jpeg:https://www.discoverfrome.co.uk/wp-content/uploads/2025/07/IMG_5959.jpg
ORGANIZER;CN="Frome Weekly Market":MAILTO:info@fromeweeklymarkets.co.uk
GEO:51.2323461;-2.3198961
X-APPLE-STRUCTURED-LOCATION;VALUE=URI;X-ADDRESS=Cattle Market Car Park Bridge Street Somerset Frome BA11 1BE;X-APPLE-RADIUS=500;X-TITLE=Bridge Street Somerset Frome:geo:-2.3198961,51.2323461
END:VEVENT
BEGIN:VEVENT
DTSTART;TZID=Europe/London:20260218T090000
DTEND;TZID=Europe/London:20260218T150000
DTSTAMP:20260420T203655
CREATED:20260212T122309Z
LAST-MODIFIED:20260212T122731Z
UID:10019147-1771405200-1771426800@www.discoverfrome.co.uk
SUMMARY:Frome Wednesday Market
DESCRIPTION:Frome has a market every Wednesday\, 9am – 3pm\, with stalls in the Cattle Market Car Park. Here you’ll find fresh produce\, sweet treats\, homeware\, jewellery\, gifts\, pet supplies and more.
URL:https://www.discoverfrome.co.uk/event/frome-wednesday-market-2-2/2026-02-18/
LOCATION:Cattle Market Car Park\, Bridge Street Somerset Frome\, BA11 1BE
CATEGORIES:Clothing and textiles,Discover Frome,Market,Shopping
ATTACH;FMTTYPE=image/jpeg:https://www.discoverfrome.co.uk/wp-content/uploads/2025/07/IMG_5959.jpg
ORGANIZER;CN="Frome Weekly Market":MAILTO:info@fromeweeklymarkets.co.uk
GEO:51.2323461;-2.3198961
X-APPLE-STRUCTURED-LOCATION;VALUE=URI;X-ADDRESS=Cattle Market Car Park Bridge Street Somerset Frome BA11 1BE;X-APPLE-RADIUS=500;X-TITLE=Bridge Street Somerset Frome:geo:-2.3198961,51.2323461
END:VEVENT
BEGIN:VEVENT
DTSTART;TZID=Europe/London:20260218T090000
DTEND;TZID=Europe/London:20260218T140000
DTSTAMP:20260420T203655
CREATED:20260216T131856Z
LAST-MODIFIED:20260216T131856Z
UID:10020111-1771405200-1771423200@www.discoverfrome.co.uk
SUMMARY:Flea and Collectables Market
DESCRIPTION:Quality second hand goods including a selection of antiques and collectables as well as a mixture of bric-a-brac and jewellery with even the chance of some hidden treasure. \nAlways worth a rummage! \nGrain bar/café – also serving food.
URL:https://www.discoverfrome.co.uk/event/flea-and-collectables-market-2/2026-02-18/
LOCATION:Cheese and Grain\, Market Yard\, Frome\, BA11 1BE
CATEGORIES:Discover Frome,Market,Shopping
ATTACH;FMTTYPE=image/jpeg:https://www.discoverfrome.co.uk/wp-content/uploads/2025/10/flea-and-collectables-market.jpg
GEO:51.2318708;-2.3202807
X-APPLE-STRUCTURED-LOCATION;VALUE=URI;X-ADDRESS=Cheese and Grain Market Yard Frome BA11 1BE;X-APPLE-RADIUS=500;X-TITLE=Market Yard:geo:-2.3202807,51.2318708
END:VEVENT
BEGIN:VEVENT
DTSTART;TZID=Europe/London:20260214T100000
DTEND;TZID=Europe/London:20260214T120000
DTSTAMP:20260420T203655
CREATED:20251003T134911Z
LAST-MODIFIED:20251003T134911Z
UID:10019154-1771063200-1771070400@www.discoverfrome.co.uk
SUMMARY:Little Pickles Market
DESCRIPTION:What will be on offer to buy\, every market is unique and offers a great selection of items from prams to babygros\, books to play gyms\, bouncy chairs to wooden toys\, toddler clothes to baby carriers\, welly boots to swimwear\, the list goes on and on.
URL:https://www.discoverfrome.co.uk/event/little-pickles-market-2/2026-02-14/
LOCATION:Cheese and Grain\, Market Yard\, Frome\, BA11 1BE
CATEGORIES:Children,Clothing and textiles,Discover Frome,Family,Market,Shopping
ATTACH;FMTTYPE=image/jpeg:https://www.discoverfrome.co.uk/wp-content/uploads/2025/06/little-pickles-market.jpg
GEO:51.2318708;-2.3202807
X-APPLE-STRUCTURED-LOCATION;VALUE=URI;X-ADDRESS=Cheese and Grain Market Yard Frome BA11 1BE;X-APPLE-RADIUS=500;X-TITLE=Market Yard:geo:-2.3202807,51.2318708
END:VEVENT
BEGIN:VEVENT
DTSTART;TZID=Europe/London:20260214T090000
DTEND;TZID=Europe/London:20260214T150000
DTSTAMP:20260420T203655
CREATED:20260212T120341Z
LAST-MODIFIED:20260212T120341Z
UID:10019110-1771059600-1771081200@www.discoverfrome.co.uk
SUMMARY:Frome Saturday Market
DESCRIPTION:Frome has a market every Saturday\, 9am – 3pm\, with stalls in the Cattle Market Car Park. Here you’ll find fresh produce\, sweet treats\, homeware\, jewellery\, gifts\, pet supplies and more.
URL:https://www.discoverfrome.co.uk/event/frome-saturday-market-2/2026-02-14/
LOCATION:Cattle Market Car Park\, Bridge Street Somerset Frome\, BA11 1BE
CATEGORIES:Clothing and textiles,Discover Frome,Market,Shopping
ATTACH;FMTTYPE=image/jpeg:https://www.discoverfrome.co.uk/wp-content/uploads/2025/07/IMG_5959.jpg
ORGANIZER;CN="Frome Weekly Market":MAILTO:info@fromeweeklymarkets.co.uk
GEO:51.2323461;-2.3198961
X-APPLE-STRUCTURED-LOCATION;VALUE=URI;X-ADDRESS=Cattle Market Car Park Bridge Street Somerset Frome BA11 1BE;X-APPLE-RADIUS=500;X-TITLE=Bridge Street Somerset Frome:geo:-2.3198961,51.2323461
END:VEVENT
BEGIN:VEVENT
DTSTART;TZID=Europe/London:20260214T090000
DTEND;TZID=Europe/London:20260214T130000
DTSTAMP:20260420T203655
CREATED:20260211T105955Z
LAST-MODIFIED:20260211T110627Z
UID:10019647-1771059600-1771074000@www.discoverfrome.co.uk
SUMMARY:Frome Farmers' Market
DESCRIPTION:* Please note: the Farmers’ Market on Saturday 14th February will take place in the Market Yard car park\, alongside the Weekly Saturday market.\n\nSince October 2022\, Frome’s farmers’ market has taken place at Boyle Cross – the town’s original market venue\, and where we also hold a market on the first Sunday of the month as part of The Frome Independent.\n\nFrome Boyle Cross market runs every second Saturday of the month\, from February to December 9am – 1pm.\n\nSituated close to Cheap Street and Catherine Hill\, it’s a great destination to meet and buy from local farmers\, cheesemakers\, market gardeners\, and bakers. \n\nBoyle Cross itself has plenty of seating and you can collect a takeaway coffee at one of the nearby cafes and come and enjoy watching the market life!
URL:https://www.discoverfrome.co.uk/event/frome-farmers-market/
LOCATION:Boyle Cross
CATEGORIES:Discover Frome,Food and drink,Market,Shopping
ATTACH;FMTTYPE=image/jpeg:https://www.discoverfrome.co.uk/wp-content/uploads/2024/08/264A1273c.jpg
ORGANIZER;CN="Somerset Farmers Markets":MAILTO:info@somersetfarmersmarkets.co.uk
END:VEVENT
BEGIN:VEVENT
DTSTART;TZID=Europe/London:20260207T090000
DTEND;TZID=Europe/London:20260207T150000
DTSTAMP:20260420T203655
CREATED:20251003T134047Z
LAST-MODIFIED:20251003T134217Z
UID:10019109-1770454800-1770476400@www.discoverfrome.co.uk
SUMMARY:Frome Saturday Market
DESCRIPTION:Frome has a market every Saturday\, 9am – 3pm\, with stalls in the Cattle Market Car Park. Here you’ll find fresh produce\, sweet treats\, homeware\, jewellery\, gifts\, pet supplies and more.
URL:https://www.discoverfrome.co.uk/event/frome-saturday-market/2026-02-07/
LOCATION:Cattle Market Car Park\, Bridge Street Somerset Frome\, BA11 1BE
CATEGORIES:Clothing and textiles,Discover Frome,Market,Shopping
ATTACH;FMTTYPE=image/jpeg:https://www.discoverfrome.co.uk/wp-content/uploads/2025/07/IMG_5959.jpg
ORGANIZER;CN="Frome Weekly Market":MAILTO:info@fromeweeklymarkets.co.uk
GEO:51.2323461;-2.3198961
X-APPLE-STRUCTURED-LOCATION;VALUE=URI;X-ADDRESS=Cattle Market Car Park Bridge Street Somerset Frome BA11 1BE;X-APPLE-RADIUS=500;X-TITLE=Bridge Street Somerset Frome:geo:-2.3198961,51.2323461
END:VEVENT
BEGIN:VEVENT
DTSTART;TZID=Europe/London:20260131T090000
DTEND;TZID=Europe/London:20260131T150000
DTSTAMP:20260420T203655
CREATED:20251003T134047Z
LAST-MODIFIED:20251003T134217Z
UID:10019108-1769850000-1769871600@www.discoverfrome.co.uk
SUMMARY:Frome Saturday Market
DESCRIPTION:Frome has a market every Saturday\, 9am – 3pm\, with stalls in the Cattle Market Car Park. Here you’ll find fresh produce\, sweet treats\, homeware\, jewellery\, gifts\, pet supplies and more.
URL:https://www.discoverfrome.co.uk/event/frome-saturday-market/2026-01-31/
LOCATION:Cattle Market Car Park\, Bridge Street Somerset Frome\, BA11 1BE
CATEGORIES:Clothing and textiles,Discover Frome,Market,Shopping
ATTACH;FMTTYPE=image/jpeg:https://www.discoverfrome.co.uk/wp-content/uploads/2025/07/IMG_5959.jpg
ORGANIZER;CN="Frome Weekly Market":MAILTO:info@fromeweeklymarkets.co.uk
GEO:51.2323461;-2.3198961
X-APPLE-STRUCTURED-LOCATION;VALUE=URI;X-ADDRESS=Cattle Market Car Park Bridge Street Somerset Frome BA11 1BE;X-APPLE-RADIUS=500;X-TITLE=Bridge Street Somerset Frome:geo:-2.3198961,51.2323461
END:VEVENT
BEGIN:VEVENT
DTSTART;TZID=Europe/London:20260124T090000
DTEND;TZID=Europe/London:20260124T150000
DTSTAMP:20260420T203655
CREATED:20251003T134047Z
LAST-MODIFIED:20251003T134217Z
UID:10019107-1769245200-1769266800@www.discoverfrome.co.uk
SUMMARY:Frome Saturday Market
DESCRIPTION:Frome has a market every Saturday\, 9am – 3pm\, with stalls in the Cattle Market Car Park. Here you’ll find fresh produce\, sweet treats\, homeware\, jewellery\, gifts\, pet supplies and more.
URL:https://www.discoverfrome.co.uk/event/frome-saturday-market/2026-01-24/
LOCATION:Cattle Market Car Park\, Bridge Street Somerset Frome\, BA11 1BE
CATEGORIES:Clothing and textiles,Discover Frome,Market,Shopping
ATTACH;FMTTYPE=image/jpeg:https://www.discoverfrome.co.uk/wp-content/uploads/2025/07/IMG_5959.jpg
ORGANIZER;CN="Frome Weekly Market":MAILTO:info@fromeweeklymarkets.co.uk
GEO:51.2323461;-2.3198961
X-APPLE-STRUCTURED-LOCATION;VALUE=URI;X-ADDRESS=Cattle Market Car Park Bridge Street Somerset Frome BA11 1BE;X-APPLE-RADIUS=500;X-TITLE=Bridge Street Somerset Frome:geo:-2.3198961,51.2323461
END:VEVENT
END:VCALENDAR