BEGIN:VCALENDAR
VERSION:2.0
PRODID:-//Discover Frome - ECPv6.15.20//NONSGML v1.0//EN
CALSCALE:GREGORIAN
METHOD:PUBLISH
X-ORIGINAL-URL:https://www.discoverfrome.co.uk
X-WR-CALDESC:Events for Discover Frome
REFRESH-INTERVAL;VALUE=DURATION:PT1H
X-Robots-Tag:noindex
X-PUBLISHED-TTL:PT1H
BEGIN:VTIMEZONE
TZID:Europe/London
BEGIN:DAYLIGHT
TZOFFSETFROM:+0000
TZOFFSETTO:+0100
TZNAME:BST
DTSTART:20250330T010000
END:DAYLIGHT
BEGIN:STANDARD
TZOFFSETFROM:+0100
TZOFFSETTO:+0000
TZNAME:GMT
DTSTART:20251026T010000
END:STANDARD
BEGIN:DAYLIGHT
TZOFFSETFROM:+0000
TZOFFSETTO:+0100
TZNAME:BST
DTSTART:20260329T010000
END:DAYLIGHT
BEGIN:STANDARD
TZOFFSETFROM:+0100
TZOFFSETTO:+0000
TZNAME:GMT
DTSTART:20261025T010000
END:STANDARD
BEGIN:DAYLIGHT
TZOFFSETFROM:+0000
TZOFFSETTO:+0100
TZNAME:BST
DTSTART:20270328T010000
END:DAYLIGHT
BEGIN:STANDARD
TZOFFSETFROM:+0100
TZOFFSETTO:+0000
TZNAME:GMT
DTSTART:20271031T010000
END:STANDARD
END:VTIMEZONE
BEGIN:VEVENT
DTSTART;TZID=Europe/London:20260228T110000
DTEND;TZID=Europe/London:20260228T130000
DTSTAMP:20260421T004146
CREATED:20260206T115535Z
LAST-MODIFIED:20260206T115535Z
UID:10019788-1772276400-1772283600@www.discoverfrome.co.uk
SUMMARY:Better Birding (online)
DESCRIPTION:Join expert wildlife guide Nick Patel for this engaging and informative online workshop. This session will be perfect for anyone interested in learning how to spot and identify birds\, whether you’re a complete beginner or simply looking to refresh your birding skills. \nFocusing on birds commonly seen in early spring\, the session will begin with essential tips and techniques from Nick for identifying birds by their calls\, flight patterns\, habitats\, and behaviour. \nThrough a step-by-step approach\, Nick will help you build your birdwatching confidence\, including practical advice on making the most of binoculars and other equipment. \nTowards the end of the session we will take a 20 min break for participants to apply their new skills with some garden and street spotting. We’ll then come back together to share sightings and discuss further. \nAbout your workshop leader\, Nick Patel: \nNick is a tour guide\, conservationist\, naturalist and birder and is passionate about helping to protect\, create and maintain British wildlife. A lifelong Birdwatcher\, and former Nature reserve Warden\, Nick has devoted his life to shouting about how amazing our native biodiversity is and just why we should care for it. \nNick says “Having led tours here at Heal Somerset for two years now\, I’ve witnessed first-hand the speed at which nature has already made a comeback. I’m super passionate about showing everyone who visits the site the wealth of wildlife bouncing back\, including some really beautiful species and fabulous rewilding habitats.”
URL:https://www.discoverfrome.co.uk/event/better-birding-online/
LOCATION:Heal Somerset\, Lower West Barn Farm\, Bindon Lane\, Frome\, Somerset\, BA11 5HH\, United Kingdom
CATEGORIES:Discover Frome,Environment,Gardens,Nature,Online,Talk,Workshop
ATTACH;FMTTYPE=image/jpeg:https://www.discoverfrome.co.uk/wp-content/uploads/2026/02/Linnet-male-scaled.jpg
ORGANIZER;CN="Heal Somerset":MAILTO:katie.ross@healrewilding.org.uk
END:VEVENT
BEGIN:VEVENT
DTSTART;TZID=Europe/London:20260407T193000
DTEND;TZID=Europe/London:20260407T203000
DTSTAMP:20260421T004146
CREATED:20260206T120712Z
LAST-MODIFIED:20260330T103630Z
UID:10019798-1775590200-1775593800@www.discoverfrome.co.uk
SUMMARY:Hope for Nature: Why Rewilding Matters (online)
DESCRIPTION:Already think of yourself as an avid rewilder — or not even sure what rewilding means? Either way\, you’re welcome to join this engaging introduction to rewilding with Jan Stannard\, co-founder and CEO of Heal. \nWe know that we need rewilding. England is one of the most nature-depleted countries ranking 234th in the world for its state of nature and one in six species are threatened with extinction. For us\, rewilding means giving nature what it needs to heal. Trees and wildflowers flourish\, wildlife comes back in abundance and vulnerable species begin to recover. \nIn this session Jan will talk about the key principles of rewilding\, discuss the approach taken by Heal and consider the very real impact upon nature\, climate change and our own wellbeing. She will also look at how these principles can translate into smaller spaces including gardens. \nAbout Jan Stannard \nJan Stannard is the co-founder and CEO of Heal. She moved into the charity sector after 40 years’ experience in business\, having served on company boards in the strategic communications and digital marketing sectors. She has led the charity since its launch in 2020 through a phase of rapid growth\, including the acquisition of the Heal Somerset site\, and is now starting to look at funding options for the next site.
URL:https://www.discoverfrome.co.uk/event/hope-for-nature-why-rewilding-matters-online/
LOCATION:Somerset
CATEGORIES:Charity event,Discover Frome,Environment,Nature,Online,Talk
ATTACH;FMTTYPE=image/jpeg:https://www.discoverfrome.co.uk/wp-content/uploads/2026/02/Volucella-inanis-male-1a.jpg
ORGANIZER;CN="Heal Somerset":MAILTO:katie.ross@healrewilding.org.uk
END:VEVENT
END:VCALENDAR