BEGIN:VCALENDAR
VERSION:2.0
PRODID:-//Discover Frome - ECPv6.15.20//NONSGML v1.0//EN
CALSCALE:GREGORIAN
METHOD:PUBLISH
X-ORIGINAL-URL:https://www.discoverfrome.co.uk
X-WR-CALDESC:Events for Discover Frome
REFRESH-INTERVAL;VALUE=DURATION:PT1H
X-Robots-Tag:noindex
X-PUBLISHED-TTL:PT1H
BEGIN:VTIMEZONE
TZID:Europe/London
BEGIN:DAYLIGHT
TZOFFSETFROM:+0000
TZOFFSETTO:+0100
TZNAME:BST
DTSTART:20250330T010000
END:DAYLIGHT
BEGIN:STANDARD
TZOFFSETFROM:+0100
TZOFFSETTO:+0000
TZNAME:GMT
DTSTART:20251026T010000
END:STANDARD
BEGIN:DAYLIGHT
TZOFFSETFROM:+0000
TZOFFSETTO:+0100
TZNAME:BST
DTSTART:20260329T010000
END:DAYLIGHT
BEGIN:STANDARD
TZOFFSETFROM:+0100
TZOFFSETTO:+0000
TZNAME:GMT
DTSTART:20261025T010000
END:STANDARD
BEGIN:DAYLIGHT
TZOFFSETFROM:+0000
TZOFFSETTO:+0100
TZNAME:BST
DTSTART:20270328T010000
END:DAYLIGHT
BEGIN:STANDARD
TZOFFSETFROM:+0100
TZOFFSETTO:+0000
TZNAME:GMT
DTSTART:20271031T010000
END:STANDARD
END:VTIMEZONE
BEGIN:VEVENT
DTSTART;TZID=Europe/London:20260611T190000
DTEND;TZID=Europe/London:20260611T210000
DTSTAMP:20260421T063701
CREATED:20260205T103755Z
LAST-MODIFIED:20260205T103755Z
UID:10019755-1781204400-1781211600@www.discoverfrome.co.uk
SUMMARY:Newton Faulkner
DESCRIPTION:See Newton up close and personal. A limited number of VIP tickets and special Guitar Workshop tickets are available \nNewton Faulkner is continually adjusting to a music landscape dominated by flux\, he’s moved from the phenomenal success of his debut album ‘Hand Built By Robots’ to the surging triumph of ‘Write It On Your Skin’; from ‘Studio Zoo’ – which was the first album ever to be live streamed online while being recorded\, and was also recorded and released in just five weeks – to the sumptuous ‘Human Love’ plus multiple other records over his incredible 15 year career so far. \nNew Album ‘Octopus’ is out now \nUpgrade to VIP and enjoy exclusive early access to the venue! Meet Newton in person before the show\, and take home a signed souvenir package. VIP tickets are strictly limited for each date\, book early to avoid missing out. The ticket includes access to the gig.\n(VIP Customers should arrive at the venue 1hr 15mins before advertised door times) \nGuitar Workshop Tickets\nA unique guitar workshop experience with Newton – very limited in number\, plus everything included in the VIP package and access to the concert. Please bring your instrument. The ticket includes access to the gig & VIP. (Guitar Workshop Customers should arrive at the venue 3hr’s before advertised door times
URL:https://www.discoverfrome.co.uk/event/newton-faulkner/
LOCATION:Cheese and Grain\, Market Yard\, Frome\, BA11 1BE
CATEGORIES:Concert,Discover Frome,Live band,Music
ATTACH;FMTTYPE=image/jpeg:https://www.discoverfrome.co.uk/wp-content/uploads/2026/02/newton-faulkner-scaled.jpg
GEO:51.2318708;-2.3202807
X-APPLE-STRUCTURED-LOCATION;VALUE=URI;X-ADDRESS=Cheese and Grain Market Yard Frome BA11 1BE;X-APPLE-RADIUS=500;X-TITLE=Market Yard:geo:-2.3202807,51.2318708
END:VEVENT
BEGIN:VEVENT
DTSTART;TZID=Europe/London:20260611T193000
DTEND;TZID=Europe/London:20260611T213000
DTSTAMP:20260421T063701
CREATED:20260205T103902Z
LAST-MODIFIED:20260205T103902Z
UID:10019756-1781206200-1781213400@www.discoverfrome.co.uk
SUMMARY:The Blues Rock Roadshow
DESCRIPTION:The Blues Rock Roadshow \nExperience the electrifying sounds of the 60s and 70s with acclaimed guitarist Remi Harris and his band. This unforgettable show pays tribute to blues rock legends such as Led Zeppelin\, Jimi Hendrix\, Rory Gallagher\, Free and Peter Green’s Fleetwood Mac. Witness some of the UK’s most talented musicians deliver a world-class celebration of this iconic musical era. \nPlease note this is an 18+ all standing event\, and the venue is accessed by stairs with no lift. If you have any enquiries please email thetreehouse@cheeseandgrain.com
URL:https://www.discoverfrome.co.uk/event/the-blues-rock-roadshow/
LOCATION:Cheese and Grain\, Market Yard\, Frome\, BA11 1BE
CATEGORIES:Concert,Discover Frome,Live band,Music
ATTACH;FMTTYPE=image/jpeg:https://www.discoverfrome.co.uk/wp-content/uploads/2026/02/brban-e1770287937852.jpg
GEO:51.2318708;-2.3202807
X-APPLE-STRUCTURED-LOCATION;VALUE=URI;X-ADDRESS=Cheese and Grain Market Yard Frome BA11 1BE;X-APPLE-RADIUS=500;X-TITLE=Market Yard:geo:-2.3202807,51.2318708
END:VEVENT
BEGIN:VEVENT
DTSTART;TZID=Europe/London:20260613T150000
DTEND;TZID=Europe/London:20260613T170000
DTSTAMP:20260421T063701
CREATED:20251106T125530Z
LAST-MODIFIED:20260114T115535Z
UID:10019317-1781362800-1781370000@www.discoverfrome.co.uk
SUMMARY:Stolen Moments - What I'm Talking About
DESCRIPTION:Laura Jurd (trumpet) & Henrik Jensen (double bass). Folk-influenced original compositions and lesser-played tunes from the jazz canon.
URL:https://www.discoverfrome.co.uk/event/stolen-moments-what-im-talking-about/
LOCATION:Christ Church\, Christchurch Street West\, Frome\, BA11 1EH
CATEGORIES:Concert,Discover Frome,Live band,Music
ATTACH;FMTTYPE=image/jpeg:https://www.discoverfrome.co.uk/wp-content/uploads/2026/01/Laura-Jurd-Henrik-Jensen-scaled.jpg
GEO:51.2292735;-2.3282901
X-APPLE-STRUCTURED-LOCATION;VALUE=URI;X-ADDRESS=Christ Church Christchurch Street West Frome BA11 1EH;X-APPLE-RADIUS=500;X-TITLE=Christchurch Street West:geo:-2.3282901,51.2292735
END:VEVENT
BEGIN:VEVENT
DTSTART;TZID=Europe/London:20260613T190000
DTEND;TZID=Europe/London:20260613T210000
DTSTAMP:20260421T063701
CREATED:20260205T104421Z
LAST-MODIFIED:20260205T104421Z
UID:10019758-1781377200-1781384400@www.discoverfrome.co.uk
SUMMARY:Class of 79 – Live At The Tree House
DESCRIPTION:CLASS OF ’79 is a powerhouse band made up of four musicians who still play or have played in some of the most iconic UK Punk\, New Wave and Ska bands that helped shape the original punk revolution. \nFollowing a hugely successful 2025\, CLASS OF ’79 return with an electrifying live show performing the classic hits of their legendary affiliated bands: Eddie & the Hot Rods\, The Rezillos\, UK Subs\, The Selecter\, The Vapors\, Department S and The Godfathers. \nThe band also pay tribute to the explosive U.S. punk and new wave scene\, celebrating one of the most famous venues on the planet CBGB’s with music from artists such as Television\, Blondie\, Ramones\, Talking Heads\, Iggy Pop\, Johnny Thunders\, Dead Boys\, The Dictators\, New York Dolls and more. \nThis is a must-see show for every Punk Rock and New Wave fan. \nPlease note this is an 18+ all standing event\, and the venue is accessed by stairs with no lift. If you have any enquiries please email thetreehouse@cheeseandgrain.com
URL:https://www.discoverfrome.co.uk/event/class-of-79-live-at-the-tree-house/
LOCATION:The Tree House\, 35 Berkley Road\, Frome\, Somerset\, BA11 2EH\, United Kingdom
CATEGORIES:Concert,Discover Frome,Live band,Music
ATTACH;FMTTYPE=image/jpeg:https://www.discoverfrome.co.uk/wp-content/uploads/2026/02/ChatGPT-Image-Jan-25-2026-09_44_51-PM-e1770288253595.jpg
END:VEVENT
BEGIN:VEVENT
DTSTART;TZID=Europe/London:20260614T090000
DTEND;TZID=Europe/London:20260614T150000
DTSTAMP:20260421T063701
CREATED:20260226T113408Z
LAST-MODIFIED:20260226T113408Z
UID:10020342-1781427600-1781449200@www.discoverfrome.co.uk
SUMMARY:Frome Flea Market & Craft Fair
DESCRIPTION:A vibrant indoor and outdoor Flea Market & Craft Fair with over 250 individual and independent traders. From flea market stalls selling antiques\, collectables\, vintage and retro items to talented designer makers\, artisans and crafters showcasing their work. \n\nEntry £3 per adult (under 16’s free)\nFree entry to all classic vehicles (No need to pre-book)\nLive music\nChildren’s fun rides / inflatables\nOn-site catering and bar\nFree parking\nInside stands – from £20 – please pre-book\nOutside pitches – all £20 – cash only on the day\n\nTo book a stall call Claire on 07722752404\nWebsite – https://www.fromefleaandcraft.com/
URL:https://www.discoverfrome.co.uk/event/frome-flea-market-craft-fair/2026-06-14/
LOCATION:West Woodlands Showground\, Bunns Lane\, Near Frome\, Somerset\,\, Frome\, BA11 5ES
CATEGORIES:Crafts,Discover Frome,Family,Food and drink,Live band,Market,Music,Shopping
ATTACH;FMTTYPE=image/jpeg:https://www.discoverfrome.co.uk/wp-content/uploads/2026/02/Picture3.jpg
GEO:51.1800893;-2.326666
X-APPLE-STRUCTURED-LOCATION;VALUE=URI;X-ADDRESS=West Woodlands Showground Bunns Lane Near Frome Somerset Frome BA11 5ES;X-APPLE-RADIUS=500;X-TITLE=Bunns Lane\, Near Frome\, Somerset\,:geo:-2.326666,51.1800893
END:VEVENT
BEGIN:VEVENT
DTSTART;TZID=Europe/London:20260614T190000
DTEND;TZID=Europe/London:20260614T210000
DTSTAMP:20260421T063701
CREATED:20260205T105216Z
LAST-MODIFIED:20260205T105216Z
UID:10019760-1781463600-1781470800@www.discoverfrome.co.uk
SUMMARY:Drowning Pool + SNOT
DESCRIPTION:Drowning Pool\, a name etched in the score of modern rock history\, roars back into the spotlight with thunderous energy and uncompromising power. The band’s unmistakable sound\,\nsynonymous with raw energy and unapologetic attitude\, returns to captivate audiences once again. Known for their iconic anthem “Bodies\,” Drowning Pool needs no introduction. This breakout single propelled them to international recognition\, leaving an indelible mark on the nu-metal landscape. The song’s relentless energy and defiant spirit resonated with a generation\, becoming an anthem for moshers\, metalheads\, and fans of electrifying live performances. \nRyan McCombs played a pivotal role in the band’s evolution\, joining their ranks in the aftermath of the tragic loss of beloved frontman Dave Williams. His powerful vocals and charismatic stage presence breathed new life into Drowning Pool\, solidifying their status as metal titans. Songs like “37 Stitches\,” “Feel Like I Do\,”and “Turn So Cold” catapulted them to new heights\, earning them a place among the genre’s heavyweights. Yet\, Drowning Pool’s story is not just about music; it’s a testament to enduring friendships and a shared passion for their craft. Ryan’s return to the band in 2023 marks a reunion of kindred spirits\, a return to the roots of their musical journey. As he succinctly puts it\, “Just being back in the same room together after so many years… was a quick reminder as to why I considered them to be my best friends in the business back in the day.” \nTheir path has not been without its challenges. “Bodies” faced misinterpretations and controversy\, with its lyrics taken out of context. Nevertheless\, their music has persisted\, embraced by the very culture that birthed it. “Bodies” remains an enduring anthem\, not just for Drowning Pool but for metal culture as a whole. Its legacy lives on\, inspiring new generations of fans. Guitarist C.J. Pierce captures the essence of their dedication: “I’d play ‘Bodies’ five times a night if people really wanted it that bad!” The song’s timeless appeal transcends generations\, resonating with both the seasoned and the fresh-faced. \nDrowning Pool’s return is a testament to the enduring power of their music\, a reminder that their unapologetic spirit continues to strike chords with audiences worldwide. The band experienced a triumphant resurgence in 2023 and with new music on the horizon\, a 2024/25 calendar proving that the demand for the band isn’t about to slow down..\, Drowning Pool has a white knuckle grip on their present and future with no plans to slow down. \nSNOT \nSNOT is an American punk band from Santa Barbara\, California\, originally formed in 1995. Known for blending punk rock\, hardcore\, and funk influences\, featured Lynn Strait as the charismatic lead vocalist\, along with the lead guitarist Mikey Doling\, bassist John Fahnestock\, drummer Jamie Miller\, and later\, Sonny Mayo on guitar. SNOT brought an edgy\, high-energy sound to the late ’90s music scene. The first full-length album\, Get Some\, released in 1997\, became iconic for its aggressive sound and Strait’s raw\, confrontational lyrics. The album received praise for its energy and distinctive fusion of punk and metal elements\, positioning SNOT as part of the emerging nu-metal scene\, alongside bands like Korn and Limp Bizkit\, with whom they often shared the stage. Unfortunately\, the band’s career was cut short in 1998 when Lynn Strait tragically died in a car accident\, along with his dog\, Dobbs\, who was featured on the cover of Get Some. \nFollowing Strait’s death\, the band dissolved\, but SNOT’s impact continued\, and SNOT developed a devoted cult following. In 2000\, Mikey Doling produced Strait Up\, a tribute album that featured guest vocalists from various bands performing unreleased SNOT tracks as a tribute to Strait’s memory. Over the years\, SNOT’s music has maintained its influence within the punk and metal communities as the legendary punk band. In 2025\, SNOT decided to return to the scene with the new singer. SNOT will appear the festivals and shows for the royal fans and the new generation. GET SOME\, SNOT IS BACK!
URL:https://www.discoverfrome.co.uk/event/drowning-pool-snot/
LOCATION:Cheese and Grain\, Market Yard\, Frome\, BA11 1BE
CATEGORIES:Concert,Discover Frome,Live band,Music
ATTACH;FMTTYPE=image/jpeg:https://www.discoverfrome.co.uk/wp-content/uploads/2026/02/Drowning-Pool-FB-Frome-e1770288731521.jpg
GEO:51.2318708;-2.3202807
X-APPLE-STRUCTURED-LOCATION;VALUE=URI;X-ADDRESS=Cheese and Grain Market Yard Frome BA11 1BE;X-APPLE-RADIUS=500;X-TITLE=Market Yard:geo:-2.3202807,51.2318708
END:VEVENT
BEGIN:VEVENT
DTSTART;TZID=Europe/London:20260614T190000
DTEND;TZID=Europe/London:20260614T210000
DTSTAMP:20260421T063701
CREATED:20260326T104318Z
LAST-MODIFIED:20260326T104318Z
UID:10020511-1781463600-1781470800@www.discoverfrome.co.uk
SUMMARY:Ben Ottewell – Live at The Tree House
DESCRIPTION:Ben Ottewell is a British musician best known as the gravelly-voiced frontman of the indie rock band Gomez. Born on June 23\, 1976\, in Chesterfield\, England\, Ottewell began his musical journey at a young age\, inspired by his father’s eclectic record collection. In 1996\, he co-founded Gomez with Ian Ball\, Tom Gray\, Paul Blackburn\, and Olly Peacock while studying at university in Sheffield. \nGomez quickly gained attention with their debut album\, “Bring It On\,” released in 1998\,which won the Mercury Music Prize. Ottewell’s distinctive vocals and songwriting contributed to the band’s unique sound\, characterized by a blend of blues\, folk\, and rock elements. The band went on to release several critically acclaimed albums\, including”Liquid Skin” (1999) and “In Our Gun” (2002) . Throughout Gomez’s career\, Ottewell’s soulful voice and introspective lyrics resonated with fans\, earning him a dedicated following. \nHis solo career saw him exploring a more stripped-down acoustic sound\, showcasing his raw talent and emotive storytelling. In 2011\, Ottewell released his debut solo album\, “Shapes & Shadows\,” followed by”Rattlebag” in 2014 and ‘A Man Apart’ in 2017. With a career spanning over 26 years\, Ben Ottewell continues to captivate audiences with his powerful performances and evocative songwriting\, cementing his legacy as one of the most distinctive voices in British rock music. \nPlease note this is an 18+ all standing event\, and the venue is accessed by stairs with no lift. If you have any enquiries please email thetreehouse@cheeseandgrain.com
URL:https://www.discoverfrome.co.uk/event/ben-ottewell-live-at-the-tree-house/
LOCATION:The Tree House\, 35 Berkley Road\, Frome\, Somerset\, BA11 2EH\, United Kingdom
CATEGORIES:Concert,Discover Frome,Live band,Music
ATTACH;FMTTYPE=image/jpeg:https://www.discoverfrome.co.uk/wp-content/uploads/2026/03/Ben-O-Website-Banner-e1774521793446.jpg
END:VEVENT
END:VCALENDAR