BEGIN:VCALENDAR
VERSION:2.0
PRODID:-//Discover Frome - ECPv6.15.20//NONSGML v1.0//EN
CALSCALE:GREGORIAN
METHOD:PUBLISH
X-ORIGINAL-URL:https://www.discoverfrome.co.uk
X-WR-CALDESC:Events for Discover Frome
REFRESH-INTERVAL;VALUE=DURATION:PT1H
X-Robots-Tag:noindex
X-PUBLISHED-TTL:PT1H
BEGIN:VTIMEZONE
TZID:Europe/London
BEGIN:DAYLIGHT
TZOFFSETFROM:+0000
TZOFFSETTO:+0100
TZNAME:BST
DTSTART:20250330T010000
END:DAYLIGHT
BEGIN:STANDARD
TZOFFSETFROM:+0100
TZOFFSETTO:+0000
TZNAME:GMT
DTSTART:20251026T010000
END:STANDARD
BEGIN:DAYLIGHT
TZOFFSETFROM:+0000
TZOFFSETTO:+0100
TZNAME:BST
DTSTART:20260329T010000
END:DAYLIGHT
BEGIN:STANDARD
TZOFFSETFROM:+0100
TZOFFSETTO:+0000
TZNAME:GMT
DTSTART:20261025T010000
END:STANDARD
BEGIN:DAYLIGHT
TZOFFSETFROM:+0000
TZOFFSETTO:+0100
TZNAME:BST
DTSTART:20270328T010000
END:DAYLIGHT
BEGIN:STANDARD
TZOFFSETFROM:+0100
TZOFFSETTO:+0000
TZNAME:GMT
DTSTART:20271031T010000
END:STANDARD
END:VTIMEZONE
BEGIN:VEVENT
DTSTART;TZID=Europe/London:20260604T131500
DTEND;TZID=Europe/London:20260604T140000
DTSTAMP:20260421T045457
CREATED:20260126T134315Z
LAST-MODIFIED:20260126T134315Z
UID:10019680-1780578900-1780581600@www.discoverfrome.co.uk
SUMMARY:Trio Paradis: Iberia
DESCRIPTION:Trio Paradis (Jacquelyn Bevan – piano\, Ruth O’Shea – violin & Linda Stocks – cello) play a Café Concert on the first Thursday of each month (Feb-Dec) at 1.15pm at Christ Church: informal feel-good music events with a pop-up café open from c12.45pm where you can meet friends and make new ones over tea/coffee and home-made cakes and listen to live music. \nJune’s programme is Iberia. \nConcerts last c45mins and entrance is by donation. An RSVP via our website is appreciated\, but you can just turn up – maybe bring a cushion for the pew! \nMore information at www.trioparadis.com.
URL:https://www.discoverfrome.co.uk/event/trio-paradis-iberia/
LOCATION:Christ Church\, Christchurch Street West\, Frome\, BA11 1EH
CATEGORIES:Concert,Discover Frome,Live band,Music
ATTACH;FMTTYPE=image/jpeg:https://www.discoverfrome.co.uk/wp-content/uploads/2026/01/iberia.jpg
ORGANIZER;CN="Trio Paradis":MAILTO:trioparadis@icloud.com
GEO:51.2292735;-2.3282901
X-APPLE-STRUCTURED-LOCATION;VALUE=URI;X-ADDRESS=Christ Church Christchurch Street West Frome BA11 1EH;X-APPLE-RADIUS=500;X-TITLE=Christchurch Street West:geo:-2.3282901,51.2292735
END:VEVENT
BEGIN:VEVENT
DTSTART;TZID=Europe/London:20260605T193000
DTEND;TZID=Europe/London:20260605T213000
DTSTAMP:20260421T045457
CREATED:20260205T103223Z
LAST-MODIFIED:20260205T103223Z
UID:10019753-1780687800-1780695000@www.discoverfrome.co.uk
SUMMARY:Limehouse Lizzy
DESCRIPTION:Limehouse Lizzy: Celebrating Over Three Decades of Celtic Rock Excellence \nNow entering their third decade as a premier touring act\, Limehouse Lizzy continues to dominate stages worldwide\, keeping the legacy of Celtic rock icon Philip Lynott and his legendary band\, Thin Lizzy\, alive. Known for their electrifying performances and unwavering attention to detail\, Limehouse Lizzy has become an equally dominant force on the live Classic Rock circuit. \nRecognised with an official PRS/Billboard award as Britain’s Hardest Working Act in their category\, and featured in the BBC’s critically acclaimed ‘Arena’ documentary series\, Limehouse Lizzy’s influence extends beyond the stage. Lead singer and bassist Wayne Ellis has further left his mark as a former member of the recording and touring band The Clan\, alongside none other than original Thin Lizzy and Motörhead member\, Brian Robertson. \n2023/24 has marked a period of unprecedented results for Limehouse Lizzy\, with a record number of sold-out performances (41 in 2023 alone) on their highly celebrated Anniversary Tour. The band’s stellar production and accomplished lineup have garnered widespread acclaim\, solidifying this period as the most successful in their history so far. This is in addition to international tours (USA\, UAE\, Caribbean\, Scandinavia\, NL)\, corporate client engagements (Virgin Atlantic\, Mitsubishi\, and Silverstone)\, and features in renowned magazine (Guitarist\, Bass Player\, Loaded)and book publications (The Rocker\, and Send In The Clones). \nAs they march irrepressibly into 2026\, Limehouse Lizzy continues to deliver their unique and irresistible tribute to Philip Lynott and Thin Lizzy\, ensuring the band’s timeless hits remain a staple in rock music for years to come
URL:https://www.discoverfrome.co.uk/event/limehouse-lizzy/
LOCATION:Cheese and Grain\, Market Yard\, Frome\, BA11 1BE
CATEGORIES:Concert,Discover Frome,Live band,Music
ATTACH;FMTTYPE=image/jpeg:https://www.discoverfrome.co.uk/wp-content/uploads/2026/02/limehouse-lizzy.jpeg
GEO:51.2318708;-2.3202807
X-APPLE-STRUCTURED-LOCATION;VALUE=URI;X-ADDRESS=Cheese and Grain Market Yard Frome BA11 1BE;X-APPLE-RADIUS=500;X-TITLE=Market Yard:geo:-2.3202807,51.2318708
END:VEVENT
BEGIN:VEVENT
DTSTART;TZID=Europe/London:20260606T190000
DTEND;TZID=Europe/London:20260606T210000
DTSTAMP:20260421T045457
CREATED:20260205T103548Z
LAST-MODIFIED:20260205T103548Z
UID:10019754-1780772400-1780779600@www.discoverfrome.co.uk
SUMMARY:Next Stop Nashville – Live At The Tree House
DESCRIPTION:If you’ve ever dreamed of two-stepping through Tennessee honky-tonks or singing your heart out at a Nashville dive bar\, we’ve got you covered. Next Stop Nashville isn’t just a band\, we’re a full-throttle country experience\, bringing the sound\, energy\, and heart of Music City straight to the UK. \nFrom boot-stomping anthems to soulful ballads\, we deliver modern country at its finest\, blending rich harmonies\, powerhouse vocals\, and the kind of musicianship that makes you wanna raise your glass and sing along. Whether you’re a lifelong country fan or just discovering the magic of Luke Combs\, Morgan Wallen\, and Carrie Underwood\, we guarantee one hell of a good time. \nSo grab your cowboy boots\, Stetson\, and best drinking arm\, and let’s bring a little bit of the USA to the UK\, because this train’s rolling\, and Next Stop is Nashville! \nPlease note this is an 18+ all standing event\, and the venue is accessed by stairs with no lift. If you have any enquiries please email thetreehouse@cheeseandgrain.com
URL:https://www.discoverfrome.co.uk/event/next-stop-nashville-live-at-the-tree-house/
LOCATION:The Tree House\, 35 Berkley Road\, Frome\, Somerset\, BA11 2EH\, United Kingdom
CATEGORIES:Concert,Discover Frome,Live band,Music
ATTACH;FMTTYPE=image/jpeg:https://www.discoverfrome.co.uk/wp-content/uploads/2026/02/NSN-Collage-Cover-e1770287742249.jpg
END:VEVENT
BEGIN:VEVENT
DTSTART;TZID=Europe/London:20260607T100000
DTEND;TZID=Europe/London:20260607T150000
DTSTAMP:20260421T045457
CREATED:20260211T164120Z
LAST-MODIFIED:20260330T103000Z
UID:10020083-1780826400-1780844400@www.discoverfrome.co.uk
SUMMARY:The Frome Independent Market
DESCRIPTION:The Frome Independent is an award winning\, destination street market. We reclaim Frome’s high street once a month to showcase the best independent craftspeople\, designers\, makers\, food producers and vintage traders in the South West. \nThe market takes place on the first Sunday of the month from March to December and strives to be ‘more than a market’\, incorporating live music\, DJs\, street performance\, workshops and activities for children and adults alike on market days. \nThe market is a free event for visitors and has quickly grown to be one of the most significant elements in the region’s calendar attracting over 80\,000 visitors each year. \nVisitors to the market can find contemporary craft\, designer-made homewares\, ethical clothing and jewellery in our Designer-Maker section\, discover fledgling design start-ups in our Suitcase Sale\, have a rummage through vintage nostalgia in our Flea Market or browse indoor plants\, gardenalia and homewares in our Homes & Gardens section. Food lovers can discover local produce from cheese and cider to vegan cakes and kimchi. We work with Somerset Farmers Markets who curate a section for farmers\, growers and producers. There’s also a huge and vibrant range of street food to choose from.
URL:https://www.discoverfrome.co.uk/event/the-frome-independent-market/2026-06-07/
LOCATION:Frome Town Centre
CATEGORIES:Arts,Children,Clothing and textiles,Crafts,Dance,Discover Frome,DJ set,Family,Food and drink,Live band,Market,Music,Shopping,Sustainability
ATTACH;FMTTYPE=image/jpeg:https://www.discoverfrome.co.uk/wp-content/uploads/2025/02/the-frome-independent.jpg
GEO:51.231623663092;-2.3206995621115
END:VEVENT
END:VCALENDAR