BEGIN:VCALENDAR
VERSION:2.0
PRODID:-//Discover Frome - ECPv6.15.20//NONSGML v1.0//EN
CALSCALE:GREGORIAN
METHOD:PUBLISH
X-WR-CALNAME:Discover Frome
X-ORIGINAL-URL:https://www.discoverfrome.co.uk
X-WR-CALDESC:Events for Discover Frome
REFRESH-INTERVAL;VALUE=DURATION:PT1H
X-Robots-Tag:noindex
X-PUBLISHED-TTL:PT1H
BEGIN:VTIMEZONE
TZID:Europe/London
BEGIN:DAYLIGHT
TZOFFSETFROM:+0000
TZOFFSETTO:+0100
TZNAME:BST
DTSTART:20250330T010000
END:DAYLIGHT
BEGIN:STANDARD
TZOFFSETFROM:+0100
TZOFFSETTO:+0000
TZNAME:GMT
DTSTART:20251026T010000
END:STANDARD
BEGIN:DAYLIGHT
TZOFFSETFROM:+0000
TZOFFSETTO:+0100
TZNAME:BST
DTSTART:20260329T010000
END:DAYLIGHT
BEGIN:STANDARD
TZOFFSETFROM:+0100
TZOFFSETTO:+0000
TZNAME:GMT
DTSTART:20261025T010000
END:STANDARD
BEGIN:DAYLIGHT
TZOFFSETFROM:+0000
TZOFFSETTO:+0100
TZNAME:BST
DTSTART:20270328T010000
END:DAYLIGHT
BEGIN:STANDARD
TZOFFSETFROM:+0100
TZOFFSETTO:+0000
TZNAME:GMT
DTSTART:20271031T010000
END:STANDARD
END:VTIMEZONE
BEGIN:VEVENT
DTSTART;TZID=Europe/London:20260513T193000
DTEND;TZID=Europe/London:20260513T213000
DTSTAMP:20260420T203030
CREATED:20260416T091225Z
LAST-MODIFIED:20260416T091225Z
UID:10020601-1778700600-1778707800@www.discoverfrome.co.uk
SUMMARY:Country Hits Live
DESCRIPTION:A musical celebration of the best country songs of all time\, Country Hits Live\, with its world class singers and award-winning musicians\, will transport audiences direct to Nashville. \nJampacked with songs from some of the biggest musical icons of all time\, the show takes audiences on a journey through the history of country music\, from the 50s and 60s hits of Johnny Cash\, to the wide-reaching music of Dolly Parton\, all the way to the country-pop songs of Shania Twain and Taylor Swift. \nA show fit for cowboys and honky-tonk queens everywhere\, audiences will be treated to the biggest hits in country music\, including ‘Jolene’\, ‘Ring of Fire’\, ‘Islands in the Stream’\, ‘Man I Feel Like A Woman’ and ‘Love Story’. \nCountry Hits Live is fronted by Jade Helliwell and Lars Pluto\, alongside an award-winning 6-piece band. Born in West Yorkshire\, Jade Helliwell has established herself as one of the UK’s leading Country musicians\, winning the British Country Music Association’s Female Vocalist of the Year award three times. \nHaving performed at the likes of Country2Country and The Long Road\, Jade’s powerful vocals will captivate audiences. Garnering widespread acclaim whilst starring in international smash hits such as the Everly Brothers tribute show Walk Right Back\, Lars Pluto encapsulates the essence of country music\, his vocals transporting audiences to Nashville.
URL:https://www.discoverfrome.co.uk/event/country-hits-live/
LOCATION:Frome Memorial Theatre\, Christchurch Street West\, Frome\, BA11 1EB
CATEGORIES:Concert,Discover Frome,Live band,Music
ATTACH;FMTTYPE=image/jpeg:https://www.discoverfrome.co.uk/wp-content/uploads/2026/04/country-hits-web.jpg
GEO:51.2291809;-2.3240101
X-APPLE-STRUCTURED-LOCATION;VALUE=URI;X-ADDRESS=Frome Memorial Theatre Christchurch Street West Frome BA11 1EB;X-APPLE-RADIUS=500;X-TITLE=Christchurch Street West:geo:-2.3240101,51.2291809
END:VEVENT
BEGIN:VEVENT
DTSTART;TZID=Europe/London:20260515T190000
DTEND;TZID=Europe/London:20260515T210000
DTSTAMP:20260420T203030
CREATED:20260326T104132Z
LAST-MODIFIED:20260326T104132Z
UID:10020510-1778871600-1778878800@www.discoverfrome.co.uk
SUMMARY:Ghosts of Seattle – Live At The Tree House
DESCRIPTION:90s Grunge Tribute\, Ghosts of Seattle\, brings the best of Nirvana\, Pearl Jam\, Soundgarden\, Alice in Chains\, Stone Temple Pilots\, and more. Every song is a banger\, no filler\, no fluff\, just 2 hours of the grunge anthems you know and love. Plus\, they even throw in a deep cut or two for the true fans.  This isn’t just a gig – it’s a celebration of an era. \nPlease note this is an 18+ all standing event\, and the venue is accessed by stairs with no lift. If you have any enquiries please email thetreehouse@cheeseandgrain.com
URL:https://www.discoverfrome.co.uk/event/ghosts-of-seattle-live-at-the-tree-house/
LOCATION:The Tree House\, 35 Berkley Road\, Frome\, Somerset\, BA11 2EH\, United Kingdom
CATEGORIES:Concert,Discover Frome,Live band,Music
ATTACH;FMTTYPE=image/jpeg:https://www.discoverfrome.co.uk/wp-content/uploads/2026/03/540268112_122255225534218653_3398840382836744695_n-e1774521681699.jpg
END:VEVENT
BEGIN:VEVENT
DTSTART;TZID=Europe/London:20260515T193000
DTEND;TZID=Europe/London:20260515T220000
DTSTAMP:20260420T203030
CREATED:20251217T122203Z
LAST-MODIFIED:20251217T122203Z
UID:10019542-1778873400-1778882400@www.discoverfrome.co.uk
SUMMARY:China Crisis
DESCRIPTION:The early 1980s saw a second Liverpool music renaissance\, with China Crisis emerging in 1981 from Kirkby as the songwriting duo Gary Daly (vocals/keyboards) and Eddie Lundon (guitar/vocals). Influenced by Bowie\, Stevie Wonder\, Eric Satie and Brian Eno\, they quickly developed a unique sound—blending synthpop with reggae\, country\, horns\, strings\, and more—working with producers like Mike Howlett\, Langer/Winstanley and Steely Dan’s Walter Becker. \nThe band achieved three UK Top 40 albums and eleven UK Top 50 singles\, including “Wishful Thinking\,” “Christian\,” “Black Man Ray\,” and “King in a Catholic Style\,” while building a loyal fanbase that endures today. Their music continues to reach new audiences\, sampled by artists like French Montana and Action Bronson\, and featured in films and TV such as Gone Girl and Sex Education. \nChina Crisis have toured worldwide for over four decades. Their 2015 fan-funded album Autumn in the Neighbourhood marked a celebrated return to form and will be relaunched in 2025. In 2024\, they released China Greatness\, a reimagined collection of songs from their 42-year catalogue\, produced with Grammy-winner Mark Phythian and featuring new orchestral arrangements\, earning their highest-ever chart position at No. 5 on the UK Vinyl Album Chart. \nRenowned for engaging live shows that mix music with trademark Scouse humour\, China Crisis remain a cherished and relevant band\, still connecting with fans old and new.
URL:https://www.discoverfrome.co.uk/event/china-crisis/
LOCATION:Cheese and Grain\, Market Yard\, Frome\, BA11 1BE
CATEGORIES:Concert,Discover Frome,Live band,Music
ATTACH;FMTTYPE=image/jpeg:https://www.discoverfrome.co.uk/wp-content/uploads/2025/12/china_crisis-7386838105.jpg
GEO:51.2318708;-2.3202807
X-APPLE-STRUCTURED-LOCATION;VALUE=URI;X-ADDRESS=Cheese and Grain Market Yard Frome BA11 1BE;X-APPLE-RADIUS=500;X-TITLE=Market Yard:geo:-2.3202807,51.2318708
END:VEVENT
BEGIN:VEVENT
DTSTART;TZID=Europe/London:20260516T190000
DTEND;TZID=Europe/London:20260516T220000
DTSTAMP:20260420T203030
CREATED:20251217T122311Z
LAST-MODIFIED:20251217T122311Z
UID:10019543-1778958000-1778968800@www.discoverfrome.co.uk
SUMMARY:Doreen Doreen
DESCRIPTION:Step into the vibrant world of Doreen Doreen\, where every performance is a kaleidoscope of glitter\, glamour\, and unbridled entertainment. Born in the heart of Bristol’s eclectic music scene\, Doreen Doreen emerged in 1982 as a dynamic force of creativity and flair. \nForget everything you know about typical 10-piece cover bands; Doreen Doreen is a breed apart. Our lineup boasts some of Bristol’s finest musical talent\, delivering a red-hot backline that sets the stage on fire. Upfront\, a cacophony of voices—ranging from angelic to rock god—takes you on a wild ride of harmonies that teeter on the edge of chaos\, but always land squarely on fabulous. \nBut it’s not just about the music—it’s the unexpected twists and turns that define a Doreen Doreen performance. We’re the masters of incongruity\, seamlessly blending Abba with Queen\, Eurythmics with Erasure\, and even Adele with The Beatles. It’s a musical journey you won’t find anywhere else. \nPrepare to be swept away by the sheer fun\, mayhem\, and frivolity of a night in our company. From start to finish\, we guarantee you’ll be on your feet\, dancing like there’s no tomorrow. And when the music finally fades\, you’ll find yourself craving more\, already planning your next Doreen Doreen experience. \nWith Doreen Doreen\, seeing is believing. Join us for a spectacle like no other\, and discover why our fans keep coming back for more.
URL:https://www.discoverfrome.co.uk/event/doreen-doreen/
LOCATION:Cheese and Grain\, Market Yard\, Frome\, BA11 1BE
CATEGORIES:Concert,Discover Frome,Live band,Music
ATTACH;FMTTYPE=image/jpeg:https://www.discoverfrome.co.uk/wp-content/uploads/2025/12/image2-3-e1765974186319.jpeg
GEO:51.2318708;-2.3202807
X-APPLE-STRUCTURED-LOCATION;VALUE=URI;X-ADDRESS=Cheese and Grain Market Yard Frome BA11 1BE;X-APPLE-RADIUS=500;X-TITLE=Market Yard:geo:-2.3202807,51.2318708
END:VEVENT
BEGIN:VEVENT
DTSTART;TZID=Europe/London:20260517T093000
DTEND;TZID=Europe/London:20260517T170000
DTSTAMP:20260420T203030
CREATED:20260325T163151Z
LAST-MODIFIED:20260325T163151Z
UID:10020499-1779010200-1779037200@www.discoverfrome.co.uk
SUMMARY:Frome International Climate Film Festival 2026
DESCRIPTION:The Frome International Climate Film Festival\, now in its 5th year\, is back at the Cheese & Grain on the 17th May 2026 after receiving over 1000 entries from around the world. Please join us as we come together to connect\, share\, support and inspire each other as a community while watching positive films from around the world on nature. the environment and action being taken to protect our future. \nAlso come and meet local activists\, passionate people and groups helping change like Somerset Wildlife Trust. The event will also include a ‘Climate Circle’ with speakers\, a forum where people can have their voice\, we also have local artists Peatland Project\, local live music and the Climate Awards. \nBe inspired and take action. Doors open at 9:30am.
URL:https://www.discoverfrome.co.uk/event/frome-international-climate-film-festival-2026/
LOCATION:Cheese and Grain\, Market Yard\, Frome\, BA11 1BE
CATEGORIES:Arts,Children,Community,Discover Frome,Environment,Family,Film,Live band,Music,Nature,Sustainability
ATTACH;FMTTYPE=image/jpeg:https://www.discoverfrome.co.uk/wp-content/uploads/2025/06/Climate-action-group.jpg
ORGANIZER;CN="Frome International Climate Film Festival":MAILTO:fromeclimatefilmfestival@gmail.com
GEO:51.2318708;-2.3202807
X-APPLE-STRUCTURED-LOCATION;VALUE=URI;X-ADDRESS=Cheese and Grain Market Yard Frome BA11 1BE;X-APPLE-RADIUS=500;X-TITLE=Market Yard:geo:-2.3202807,51.2318708
END:VEVENT
BEGIN:VEVENT
DTSTART;TZID=Europe/London:20260517T190000
DTEND;TZID=Europe/London:20260517T210000
DTSTAMP:20260420T203030
CREATED:20260205T101658Z
LAST-MODIFIED:20260205T101658Z
UID:10019749-1779044400-1779051600@www.discoverfrome.co.uk
SUMMARY:Pop Will Eat Itself
DESCRIPTION:Pop Will Eat Itself released critically acclaimed album Delete Everything – their first for 10 years – in October 2025 and smashed through a huge tour to celebrate its release. Still riding that wave\, they’re back with a run of dates in May 2026 playing a mix of old and new favourites. \nRenowned for their energetic and rebellious live shows\, inflamed with incendiary passion and sonic noise pollution\, the 2026 PWEI line-up features original 1986 members Graham Crabb (vocals/samples) and Adam Mole (guitar/keys/samples) plus long-time comrades Mary Byker (vocals)\, Davey Bennett (bass) and Cliff Hewitt (drums). \nPresented by FORM \nwww.popwilleatitself.net \n@popwilleatitself
URL:https://www.discoverfrome.co.uk/event/pop-will-eat-itself/
LOCATION:Cheese and Grain\, Market Yard\, Frome\, BA11 1BE
CATEGORIES:Concert,Discover Frome,Live band,Music
ATTACH;FMTTYPE=image/jpeg:https://www.discoverfrome.co.uk/wp-content/uploads/2026/02/500577200_1230499188445939_2620551557045658774_n.jpg
GEO:51.2318708;-2.3202807
X-APPLE-STRUCTURED-LOCATION;VALUE=URI;X-ADDRESS=Cheese and Grain Market Yard Frome BA11 1BE;X-APPLE-RADIUS=500;X-TITLE=Market Yard:geo:-2.3202807,51.2318708
END:VEVENT
BEGIN:VEVENT
DTSTART;TZID=Europe/London:20260517T190000
DTEND;TZID=Europe/London:20260517T210000
DTSTAMP:20260420T203030
CREATED:20260205T102226Z
LAST-MODIFIED:20260205T102226Z
UID:10019750-1779044400-1779051600@www.discoverfrome.co.uk
SUMMARY:The Bob Villains – Live At The Tree House
DESCRIPTION:In 1966\, Bob Dylan toured the UK. Each night began with a solo acoustic set\, before Dylan returned to the stage backed by a full electric band. Some in the audience loved the change; others did not. At the Free Trade Hall in Manchester\, one voice rang out above the rest\, famously shouting “Judas!” Dylan’s response was immediate and legendary: “I don’t believe you!”\,  before instructing the band to play louder. \nExactly years to the day\, The Bob Villains mark this iconic moment in music history\, with a special show at The Tree House\, Frome. This is truly one not to miss. \nCovering Dylan’s career from his early 1960s acoustic work\, through the electric years and his many stylistic reinventions\, The Bob Villains have spent over a decade presenting his music with the respect and depth it deserves. These five musicians capture the spirit\, power\, and poetry of Dylan’s songs without gimmicks or imitation. \nTheir extensive repertoire includes favourites such as Mr Tambourine Man\, All Along the Watchtower\, Forever Young\, Like a Rolling Stone\, Hurricane\, One More Cup of Coffee\, Knockin’ on Heaven’s Door\, Quinn the Eskimo\, Lay Lady Lay and You’re a Big Girl Now\, alongside deeper cuts from the Dylan songbook including It’s Alright Ma (I’m Only Bleeding)\, Chimes of Freedom and Silvio. \nThis year also marks 60 years since the release of the iconic double album Blonde on Blonde\, with a selection of songs from that record featured in the show. \nWith Dylan still touring in his 80s\, we are proud to celebrate the man and his music. The Bob Villains are a tribute\, not a tribute act\, no wigs\, no funny voices\, just 100% Bob Dylan’s music\, played with passion and authenticity. \nFor more information\, photos and videos\, visit\nwww.thebobvillains.com \n“Truly amazing – when you closed your eyes it could have been Bob singing.” \n“This band interprets the music with an obvious deep respect for the source material.” \n“Thanks for an amazing night. I’ll make sure I see you again in the not-too-distant future.” \nPlease note this is an 18+ all standing event\, and the venue is accessed by stairs with no lift. If you have any enquiries please email thetreehouse@cheeseandgrain.com
URL:https://www.discoverfrome.co.uk/event/the-bob-villains-live-at-the-tree-house/
LOCATION:The Tree House\, 35 Berkley Road\, Frome\, Somerset\, BA11 2EH\, United Kingdom
CATEGORIES:Concert,Discover Frome,Live band,Music
ATTACH;FMTTYPE=image/jpeg:https://www.discoverfrome.co.uk/wp-content/uploads/2026/02/the-bob-villains.jpg
END:VEVENT
END:VCALENDAR