BEGIN:VCALENDAR
VERSION:2.0
PRODID:-//Discover Frome - ECPv6.15.20//NONSGML v1.0//EN
CALSCALE:GREGORIAN
METHOD:PUBLISH
X-ORIGINAL-URL:https://www.discoverfrome.co.uk
X-WR-CALDESC:Events for Discover Frome
REFRESH-INTERVAL;VALUE=DURATION:PT1H
X-Robots-Tag:noindex
X-PUBLISHED-TTL:PT1H
BEGIN:VTIMEZONE
TZID:Europe/London
BEGIN:DAYLIGHT
TZOFFSETFROM:+0000
TZOFFSETTO:+0100
TZNAME:BST
DTSTART:20250330T010000
END:DAYLIGHT
BEGIN:STANDARD
TZOFFSETFROM:+0100
TZOFFSETTO:+0000
TZNAME:GMT
DTSTART:20251026T010000
END:STANDARD
BEGIN:DAYLIGHT
TZOFFSETFROM:+0000
TZOFFSETTO:+0100
TZNAME:BST
DTSTART:20260329T010000
END:DAYLIGHT
BEGIN:STANDARD
TZOFFSETFROM:+0100
TZOFFSETTO:+0000
TZNAME:GMT
DTSTART:20261025T010000
END:STANDARD
BEGIN:DAYLIGHT
TZOFFSETFROM:+0000
TZOFFSETTO:+0100
TZNAME:BST
DTSTART:20270328T010000
END:DAYLIGHT
BEGIN:STANDARD
TZOFFSETFROM:+0100
TZOFFSETTO:+0000
TZNAME:GMT
DTSTART:20271031T010000
END:STANDARD
END:VTIMEZONE
BEGIN:VEVENT
DTSTART;TZID=Europe/London:20260305T131500
DTEND;TZID=Europe/London:20260305T140000
DTSTAMP:20260421T025807
CREATED:20260126T133608Z
LAST-MODIFIED:20260227T103153Z
UID:10019677-1772716500-1772719200@www.discoverfrome.co.uk
SUMMARY:Trio Paradis: Daughters of the Muse
DESCRIPTION:Trio Paradis (Jacquelyn Bevan – piano\, Ruth O’Shea – violin & Linda Stocks – cello) play a Café Concert on the first Thursday of each month (Feb-Dec) at 1.15pm at Christ Church: informal feel-good music events with a pop-up café open from c12.45pm where you can meet friends and make new ones over tea/coffee and home-made cakes and listen to live music. \nMarch’s programme is Daughters of the Muse. \nConcerts last c45mins and entrance is by donation. An RSVP via our website is appreciated\, but you can just turn up – maybe bring a cushion for the pew! \nMore information at www.trioparadis.com.
URL:https://www.discoverfrome.co.uk/event/trio-paradis-daughters-of-the-muse/
LOCATION:Christ Church\, Christchurch Street West\, Frome\, BA11 1EH
CATEGORIES:Concert,Discover Frome,Live band,Music
ATTACH;FMTTYPE=image/jpeg:https://www.discoverfrome.co.uk/wp-content/uploads/2025/01/daughters-of-the-muse.jpg
ORGANIZER;CN="Trio Paradis":MAILTO:trioparadis@icloud.com
GEO:51.2292735;-2.3282901
X-APPLE-STRUCTURED-LOCATION;VALUE=URI;X-ADDRESS=Christ Church Christchurch Street West Frome BA11 1EH;X-APPLE-RADIUS=500;X-TITLE=Christchurch Street West:geo:-2.3282901,51.2292735
END:VEVENT
BEGIN:VEVENT
DTSTART;TZID=Europe/London:20260305T190000
DTEND;TZID=Europe/London:20260305T230000
DTSTAMP:20260421T025807
CREATED:20251203T150039Z
LAST-MODIFIED:20251203T150039Z
UID:10019389-1772737200-1772751600@www.discoverfrome.co.uk
SUMMARY:Andy Fairweather Low
DESCRIPTION:Andy Fairweather Low came to prominence as the lead singer in Amen Corner. The 60s saw them clock up hit after pop hit. Songs such as ‘Bend Me Shape Me’\, ‘Hello Suzy’\, ‘( If Paradise is ) Half As Nice’ are internationally remembered to this day. But if you were paying close attention\, you might have picked up a clue in their first single the magnificent ‘Gin House’ as to Andy’s future musical collaborations. \nSince the early days Andy has gone on to work with Eric Clapton\, George Harrison\, Bob Dylan\, Jimi Hendrix\, David Crosby\, The Band\, Elton John\, Roger Waters\, David Gilmour\, The Who\, BB King\, Joe Cocker\, Steve Winwood\, Linda Ronstadt\, Emmylou Harris\, Joe Satriani\,\, Jeff Beck\, The Impressions\, Lonnie Donegan\, Mary J. Blige\, Georgie Fame\, Bonnie Raitt\, Otis Rush\, Van Morrison\, Chris Barber\, Jackson Browne\, Bill Wyman\, Sheryl Crow\, Pete Townshend\, Kate Bush…… and literally hundreds more. \nNow following a solo path\, his first solo album in 24 years Sweet Soulful Music was released late in 2007 followed by The Very Best Of Andy Fairweather Low which was released in the UK in June 2008 with a Live DVD following hot on it’s heels. \nIn fact Andy has been touring and releasing CD Albums ever since and has built a strong following having now released 10 Albums including Two Live DVD shows and a Three disc Box Set DVD / Double Live CD which debuted in the Amazon Box Set Top 50 in it’s first week of release. A double live vinyl “Lockdown” Internet concert followed and his CD & Vinyl release Flang Dang recently debuted which in February 2025 was superseded by The Invisible Bluesman on Blue Vinyl\, CD & Download. \nEric Clapton invited Andy to perform as a featured artist at the 2023 Crossroads Guitar Festival in Los Angeles and again with his band The Low Riders to open the UK & Ireland leg of his 2024 tour & now the UK / European dates on his 2025 tour. \nA remarkable front man\, a remarkable band. Following them into 2025 Andy’s The Invisble Bluesman Album entered the Official UK charts at Number 1 and the Spring tour broke all records selling 99% across the whole tour. \nAndy Fairweather Low – Guitar & Vocals\, Ian Jennings – Bass\, Paul Beavis – Drums\, Nick Pentelow – Tenor Sax / Baritone sax & Clarinet.\, Richard Milner – Hammond Organ & Backing Vocals\, Pete Cook – Baritone Sax.
URL:https://www.discoverfrome.co.uk/event/andy-fairweather-low/
LOCATION:Cheese and Grain\, Market Yard\, Frome\, BA11 1BE
CATEGORIES:Concert,Discover Frome,Live band,Music
ATTACH;FMTTYPE=image/jpeg:https://www.discoverfrome.co.uk/wp-content/uploads/2025/12/AFL-Facebook-Event-e1764774032474.jpg
GEO:51.2318708;-2.3202807
X-APPLE-STRUCTURED-LOCATION;VALUE=URI;X-ADDRESS=Cheese and Grain Market Yard Frome BA11 1BE;X-APPLE-RADIUS=500;X-TITLE=Market Yard:geo:-2.3202807,51.2318708
END:VEVENT
BEGIN:VEVENT
DTSTART;TZID=Europe/London:20260306T193000
DTEND;TZID=Europe/London:20260306T193000
DTSTAMP:20260421T025807
CREATED:20250602T174924Z
LAST-MODIFIED:20250729T142505Z
UID:10015302-1772825400-1772825400@www.discoverfrome.co.uk
SUMMARY:An Evening With Denise Van Outen - Songs\, Stories and all That Jazz
DESCRIPTION:Join the fabulous Denise Van Outen for an unforgettable night of music\, laughter and stories from her dazzling career. With timeless songs and behind-the-scenes tales\, this is Denise as you’ve never seen her before — up close\, unfiltered and utterly unforgettable. \nActress\, singer\, dancer and presenter\, Denise Van Outen became a household name presenting The Big Breakfast on Channel 4. Since then\, she has starred in a host of TV series and on the West End stage and has presented numerous documentaries. \nWest End roles include ‘Roxie Hart’ in Chicago (a role she also played on Broadway)\, ‘Maureen’ in Rent Remixed\, ‘Paulette’ in Legally Blonde and in Andrew Lloyd Webber’s one-woman show Tell Me on a Sunday. \nOn television she has starred in Where The Heart Is\, EastEnders and Neighbours. Recently\, she’s presented the Channel 4 documentaries Secrets of the Supermarket Own-Brands\, How to Heat Your Home for Less This Winter and Alcohol-Free Booze: Is It Worth It? and was a regular presenter on Steph’s Packed Lunch. \nOn radio\, Denise co-presented the Capital Radio Breakfast Show with Johnny Vaughan and had her own show on Magic FM. \nDuring her TV career\, Denise has also featured on The Masked Singer\, Strictly Come Dancing\, Dancing on Ice and Celebrity Gogglebox. \nAn Evening with Denise Van Outen is produced by Sisco Entertainment and Sweeney Entertainments.
URL:https://www.discoverfrome.co.uk/event/an-evening-with-denise-van-outen-songs-stories-and-all-that-jazz/
LOCATION:Frome Memorial Theatre\, Christchurch Street West\, Frome\, BA11 1EB
CATEGORIES:Concert,Discover Frome,Live band,Music,Musical,Theatre
ATTACH;FMTTYPE=image/jpeg:https://www.discoverfrome.co.uk/wp-content/uploads/2025/06/denise-van-outen.jpg
GEO:51.2291809;-2.3240101
X-APPLE-STRUCTURED-LOCATION;VALUE=URI;X-ADDRESS=Frome Memorial Theatre Christchurch Street West Frome BA11 1EB;X-APPLE-RADIUS=500;X-TITLE=Christchurch Street West:geo:-2.3240101,51.2291809
END:VEVENT
BEGIN:VEVENT
DTSTART;TZID=Europe/London:20260307T193000
DTEND;TZID=Europe/London:20260307T193000
DTSTAMP:20260421T025807
CREATED:20250602T175302Z
LAST-MODIFIED:20250624T153732Z
UID:10015303-1772911800-1772911800@www.discoverfrome.co.uk
SUMMARY:Huey Morgan - The Fun Lovin' Criminal
DESCRIPTION:Huey Morgan will be back on the road with his popular Q&A tour next spring. \nThe musician\, TV broadcaster\, author and DJ\, is adding 39 more dates to his Huey Morgan: The Fun Lovin’ Criminal spoken word tour after a successful run in autumn 2024. \nIt kicks off at The Hub\, St Mary’s\, Lichfield on March 4\, taking in intimate venues across England and Wales\, concluding at Waterside Arts Centre in Sale on April 26. \nYou may have encountered the dynamic personality of Huey Morgan in many ways. Frontman\, radio and television broadcaster\, author and DJ\, Huey is many things at once. Coming to prominence as the frontman and driving force of the eclectic American Rap/Rock outfit Fun Lovin’ Criminals\, Morgan led the band from 1993 – 2021. Best known for the hit record Scooby Snacks\, Fun Lovin’ Criminals released six albums between 1996 and 2010 and sold over 10 million records. \nAs host of The Huey Show on BBC Radio 6 since 2008\, Morgan is a cherished voice on national radio in the UK\, where he hosts a mix of Hip Hop\, Soul\, Punk\, Funk\, Rock and everything in between to his listeners. \nA charismatic\, authentic\, passionate\, and popular renegade himself\, Huey’s groove is infectious. And now he’s heading out again on a solo tour – mixing music and chat – so fans can get up close and personal with Huey Morgan – The Fun Lovin’ Criminal. \nHuey said: “I had such an awesome time with this tour last autumn that when the chance to go back out again came up\, I couldn’t resist. So come along y’all\, and enjoy a night of music and chat.”
URL:https://www.discoverfrome.co.uk/event/huey-morgan-the-fun-lovin-criminal/
LOCATION:Frome Memorial Theatre\, Christchurch Street West\, Frome\, BA11 1EB
CATEGORIES:Discover Frome,Live band,Music,Theatre
ATTACH;FMTTYPE=image/jpeg:https://www.discoverfrome.co.uk/wp-content/uploads/2025/06/Huey-Morgan-Brochure-pic-1.jpg
GEO:51.2291809;-2.3240101
X-APPLE-STRUCTURED-LOCATION;VALUE=URI;X-ADDRESS=Frome Memorial Theatre Christchurch Street West Frome BA11 1EB;X-APPLE-RADIUS=500;X-TITLE=Christchurch Street West:geo:-2.3240101,51.2291809
END:VEVENT
END:VCALENDAR