BEGIN:VCALENDAR
VERSION:2.0
PRODID:-//Discover Frome - ECPv6.15.20//NONSGML v1.0//EN
CALSCALE:GREGORIAN
METHOD:PUBLISH
X-ORIGINAL-URL:https://www.discoverfrome.co.uk
X-WR-CALDESC:Events for Discover Frome
REFRESH-INTERVAL;VALUE=DURATION:PT1H
X-Robots-Tag:noindex
X-PUBLISHED-TTL:PT1H
BEGIN:VTIMEZONE
TZID:Europe/London
BEGIN:DAYLIGHT
TZOFFSETFROM:+0000
TZOFFSETTO:+0100
TZNAME:BST
DTSTART:20250330T010000
END:DAYLIGHT
BEGIN:STANDARD
TZOFFSETFROM:+0100
TZOFFSETTO:+0000
TZNAME:GMT
DTSTART:20251026T010000
END:STANDARD
BEGIN:DAYLIGHT
TZOFFSETFROM:+0000
TZOFFSETTO:+0100
TZNAME:BST
DTSTART:20260329T010000
END:DAYLIGHT
BEGIN:STANDARD
TZOFFSETFROM:+0100
TZOFFSETTO:+0000
TZNAME:GMT
DTSTART:20261025T010000
END:STANDARD
BEGIN:DAYLIGHT
TZOFFSETFROM:+0000
TZOFFSETTO:+0100
TZNAME:BST
DTSTART:20270328T010000
END:DAYLIGHT
BEGIN:STANDARD
TZOFFSETFROM:+0100
TZOFFSETTO:+0000
TZNAME:GMT
DTSTART:20271031T010000
END:STANDARD
END:VTIMEZONE
BEGIN:VEVENT
DTSTART;TZID=Europe/London:20260220T190000
DTEND;TZID=Europe/London:20260220T230000
DTSTAMP:20260421T062225
CREATED:20251203T142232Z
LAST-MODIFIED:20251203T142232Z
UID:10019384-1771614000-1771628400@www.discoverfrome.co.uk
SUMMARY:Coldplace
DESCRIPTION:Coldplace\, the world’s leading tribute to Coldplay\, burst onto the tribute scene over 20 years ago\, and during that time they’ve toured around the globe\, filling arenas with their iconic sound. Built on a passion for music\, performance and of course Coldplay\, the band have developed their highly accurate show through years of hard work and perfection. \nTaking you right back to the start\, their show will spiral you into the Coldplay realm\, dancing with your emotions as you follow their journey right up to the present day. \nWith flawless imagery of a Coldplay show\, Music of the Spheres delivers true authenticity\, not just in the music\, but with costumes and stage set including the full Coldplay laser show\, video wall\, confetti canons and Xyloband™ LED wristbands\, so you can truly immerse yourself in the show. \nBeing the only tribute to have worked with Coldplay themselves\, their show leads you through all your favourite Coldplay hits from their very first album through to their latest\, Moon Music. \nTighten your belt and prepare to be taken into the world of Coldplay. \nwww.coldplace.co.uk
URL:https://www.discoverfrome.co.uk/event/coldplace/
LOCATION:Cheese and Grain\, Market Yard\, Frome\, BA11 1BE
CATEGORIES:Concert,Discover Frome,Live band,Music
ATTACH;FMTTYPE=image/jpeg:https://www.discoverfrome.co.uk/wp-content/uploads/2025/12/coldplace.jpg
GEO:51.2318708;-2.3202807
X-APPLE-STRUCTURED-LOCATION;VALUE=URI;X-ADDRESS=Cheese and Grain Market Yard Frome BA11 1BE;X-APPLE-RADIUS=500;X-TITLE=Market Yard:geo:-2.3202807,51.2318708
END:VEVENT
END:VCALENDAR