BEGIN:VCALENDAR
VERSION:2.0
PRODID:-//Discover Frome - ECPv6.15.20//NONSGML v1.0//EN
CALSCALE:GREGORIAN
METHOD:PUBLISH
X-ORIGINAL-URL:https://www.discoverfrome.co.uk
X-WR-CALDESC:Events for Discover Frome
REFRESH-INTERVAL;VALUE=DURATION:PT1H
X-Robots-Tag:noindex
X-PUBLISHED-TTL:PT1H
BEGIN:VTIMEZONE
TZID:Europe/London
BEGIN:DAYLIGHT
TZOFFSETFROM:+0000
TZOFFSETTO:+0100
TZNAME:BST
DTSTART:20250330T010000
END:DAYLIGHT
BEGIN:STANDARD
TZOFFSETFROM:+0100
TZOFFSETTO:+0000
TZNAME:GMT
DTSTART:20251026T010000
END:STANDARD
BEGIN:DAYLIGHT
TZOFFSETFROM:+0000
TZOFFSETTO:+0100
TZNAME:BST
DTSTART:20260329T010000
END:DAYLIGHT
BEGIN:STANDARD
TZOFFSETFROM:+0100
TZOFFSETTO:+0000
TZNAME:GMT
DTSTART:20261025T010000
END:STANDARD
BEGIN:DAYLIGHT
TZOFFSETFROM:+0000
TZOFFSETTO:+0100
TZNAME:BST
DTSTART:20270328T010000
END:DAYLIGHT
BEGIN:STANDARD
TZOFFSETFROM:+0100
TZOFFSETTO:+0000
TZNAME:GMT
DTSTART:20271031T010000
END:STANDARD
END:VTIMEZONE
BEGIN:VEVENT
DTSTART;TZID=Europe/London:20261128T193000
DTEND;TZID=Europe/London:20261128T213000
DTSTAMP:20260421T091527
CREATED:20260417T140837Z
LAST-MODIFIED:20260417T140837Z
UID:10020609-1795894200-1795901400@www.discoverfrome.co.uk
SUMMARY:Showaddywaddy
DESCRIPTION:‘The Greatest Rock & Roll Band In The World’ is a bold statement but Showaddywaddy has lived up to that title for the last 5 decades! \nFormed in the 1970s in Leicester from several local bands\, they have sold more than 20 million records and have toured all corners of the World extensively. \nTheir live show is dynamic and uplifting featuring all of their biggest\nhits\, many of which reached number one in the pop charts of Europe. \n‘Under The Moon of Love’\, ‘Three Steps to Heaven’\, ‘Hey Rock & Roll’\, ‘When’\, ‘Blue Moon’\, ‘Pretty Little Angel Eyes’ and many\, many more. \nSo come and join the ‘Dancin’ Party’… ‘You’ve Got What It Takes’!
URL:https://www.discoverfrome.co.uk/event/showaddywaddy/
LOCATION:Frome Memorial Theatre\, Christchurch Street West\, Frome\, BA11 1EB
CATEGORIES:Concert,Discover Frome,Live band,Music
ATTACH;FMTTYPE=image/jpeg:https://www.discoverfrome.co.uk/wp-content/uploads/2026/04/showaddywaddy-2025.jpg
GEO:51.2291809;-2.3240101
X-APPLE-STRUCTURED-LOCATION;VALUE=URI;X-ADDRESS=Frome Memorial Theatre Christchurch Street West Frome BA11 1EB;X-APPLE-RADIUS=500;X-TITLE=Christchurch Street West:geo:-2.3240101,51.2291809
END:VEVENT
BEGIN:VEVENT
DTSTART;TZID=Europe/London:20261205T193000
DTEND;TZID=Europe/London:20261205T213000
DTSTAMP:20260421T091527
CREATED:20260417T141020Z
LAST-MODIFIED:20260417T141020Z
UID:10020610-1796499000-1796506200@www.discoverfrome.co.uk
SUMMARY:The Hits of Abba
DESCRIPTION:50 years since ABBA’s iconic ‘Arrival’ album first lit up the charts\, the multi-award-winning show that shares the same name\, Arrival – The Hits of ABBA\, is back with a brand-new production! \nThis year\, the show is more immersive than ever. Alongside even more songs from the landmark ‘Arrival’ album and the addition of interactive video projection\, you can sing along to the lyrics on screen at the top of your lungs and become part of the performance! \nWith sensational vocals\, expert musicianship\, dazzling costumes\, and breathtaking visuals\, Arrival – The Hits of ABBA takes you on an unforgettable journey through the timeless music that changed pop history. From the Eurovision-winning ‘Waterloo’ to infectious disco anthems like ‘Gimme! Gimme! Gimme!’\, ‘Mamma Mia’\, ‘Voulez-Vous’\, and ‘Fernando’\, every song will have you dancing in the aisles and singing along with pure joy and nostalgia! \nWhether you’ve been a fan since day one or are discovering their magic for the first time\, this is the ultimate celebration of a legendary band and the ‘Arrival’ album that helped define an era.
URL:https://www.discoverfrome.co.uk/event/the-hits-of-abba/
LOCATION:Frome Memorial Theatre\, Christchurch Street West\, Frome\, BA11 1EB
CATEGORIES:Concert,Discover Frome,Live band,Music
ATTACH;FMTTYPE=image/jpeg:https://www.discoverfrome.co.uk/wp-content/uploads/2026/04/ABBA-50-WEB.jpg
GEO:51.2291809;-2.3240101
X-APPLE-STRUCTURED-LOCATION;VALUE=URI;X-ADDRESS=Frome Memorial Theatre Christchurch Street West Frome BA11 1EB;X-APPLE-RADIUS=500;X-TITLE=Christchurch Street West:geo:-2.3240101,51.2291809
END:VEVENT
BEGIN:VEVENT
DTSTART;TZID=Europe/London:20261206T100000
DTEND;TZID=Europe/London:20261206T150000
DTSTAMP:20260421T091527
CREATED:20260211T164120Z
LAST-MODIFIED:20260330T103000Z
UID:10020089-1796551200-1796569200@www.discoverfrome.co.uk
SUMMARY:The Frome Independent Market
DESCRIPTION:The Frome Independent is an award winning\, destination street market. We reclaim Frome’s high street once a month to showcase the best independent craftspeople\, designers\, makers\, food producers and vintage traders in the South West. \nThe market takes place on the first Sunday of the month from March to December and strives to be ‘more than a market’\, incorporating live music\, DJs\, street performance\, workshops and activities for children and adults alike on market days. \nThe market is a free event for visitors and has quickly grown to be one of the most significant elements in the region’s calendar attracting over 80\,000 visitors each year. \nVisitors to the market can find contemporary craft\, designer-made homewares\, ethical clothing and jewellery in our Designer-Maker section\, discover fledgling design start-ups in our Suitcase Sale\, have a rummage through vintage nostalgia in our Flea Market or browse indoor plants\, gardenalia and homewares in our Homes & Gardens section. Food lovers can discover local produce from cheese and cider to vegan cakes and kimchi. We work with Somerset Farmers Markets who curate a section for farmers\, growers and producers. There’s also a huge and vibrant range of street food to choose from.
URL:https://www.discoverfrome.co.uk/event/the-frome-independent-market/2026-12-06/
LOCATION:Frome Town Centre
CATEGORIES:Arts,Children,Clothing and textiles,Crafts,Dance,Discover Frome,DJ set,Family,Food and drink,Live band,Market,Music,Shopping,Sustainability
ATTACH;FMTTYPE=image/jpeg:https://www.discoverfrome.co.uk/wp-content/uploads/2025/02/the-frome-independent.jpg
GEO:51.231623663092;-2.3206995621115
END:VEVENT
BEGIN:VEVENT
DTSTART;TZID=Europe/London:20261212T180000
DTEND;TZID=Europe/London:20261212T200000
DTSTAMP:20260421T091527
CREATED:20260206T114501Z
LAST-MODIFIED:20260206T114501Z
UID:10019786-1797098400-1797105600@www.discoverfrome.co.uk
SUMMARY:Henge\, The Orb & System 7
DESCRIPTION:HENGE\nExtra-terrestrial joymongers HENGE have been thrilling audiences across the UK and Europe for over a decade. Renowned for their explosive live shows\, they won Best Live Act at the Independent Festival Awards and have built a devoted following through four acclaimed albums\, extensive touring and major festival appearances. \nTheir latest release\, Journey to Voltus B\, expands HENGE’s intergalactic mythology with a bold concept album featuring a double-groove vinyl that offers two possible endings. The album has earned glowing reviews\, sold-out headline shows\, and strong BBC 6 Music support from tastemakers including Stuart Maconie\, Deb Grant and Craig Charles. \nBlending rave energy with prog-rock eccentricity\, HENGE’s music is playful\, subversive and joyfully unclassifiable\, delivering a hopeful message that leaves audiences uplifted and amused. \nTHE ORB\nFor 35 years\, Alex Paterson has kept The Orb evolving\, avoiding nostalgia while launching fresh projects. Their 18th studio album\, Prism (2023)\, was hailed as their best in years\, followed by extensive tours. They reunited with David Gilmour for Metallic Spheres In Colour and released a Best of The Orb set in 2025. From their 1988 acid house roots to today\, Paterson—now working with Michael Rendall—continues to push ambient and dance music into new realms. \nSYSTEM 7\nSystem 7’s Steve Hillage and Miquette Giraudy have had a strong influence on the birth of psychedelic dance music and it’s journey up to the present\, forging a unique and bang up-to-date identity on the genre map\, in a space where techno\, ambient and trance meet. With the added ingredient of Steve’s celebrated psychedelic techno guitar\, System 7 reach into their rich ambient and dance catalogue\, blended with some new tunes\, to create a powerful and exhilarating live set that will take everyone to a higher level. Prepare for lift-off to Planet 7!
URL:https://www.discoverfrome.co.uk/event/henge-the-orb-system-7/
LOCATION:Cheese and Grain\, Market Yard\, Frome\, BA11 1BE
CATEGORIES:Concert,Discover Frome,Live band,Music
ATTACH;FMTTYPE=image/jpeg:https://www.discoverfrome.co.uk/wp-content/uploads/2026/02/Henge-Website-Banner-e1770378297732.jpg
GEO:51.2318708;-2.3202807
X-APPLE-STRUCTURED-LOCATION;VALUE=URI;X-ADDRESS=Cheese and Grain Market Yard Frome BA11 1BE;X-APPLE-RADIUS=500;X-TITLE=Market Yard:geo:-2.3202807,51.2318708
END:VEVENT
END:VCALENDAR