BEGIN:VCALENDAR
VERSION:2.0
PRODID:-//Discover Frome - ECPv6.15.20//NONSGML v1.0//EN
CALSCALE:GREGORIAN
METHOD:PUBLISH
X-WR-CALNAME:Discover Frome
X-ORIGINAL-URL:https://www.discoverfrome.co.uk
X-WR-CALDESC:Events for Discover Frome
REFRESH-INTERVAL;VALUE=DURATION:PT1H
X-Robots-Tag:noindex
X-PUBLISHED-TTL:PT1H
BEGIN:VTIMEZONE
TZID:Europe/London
BEGIN:DAYLIGHT
TZOFFSETFROM:+0000
TZOFFSETTO:+0100
TZNAME:BST
DTSTART:20250330T010000
END:DAYLIGHT
BEGIN:STANDARD
TZOFFSETFROM:+0100
TZOFFSETTO:+0000
TZNAME:GMT
DTSTART:20251026T010000
END:STANDARD
BEGIN:DAYLIGHT
TZOFFSETFROM:+0000
TZOFFSETTO:+0100
TZNAME:BST
DTSTART:20260329T010000
END:DAYLIGHT
BEGIN:STANDARD
TZOFFSETFROM:+0100
TZOFFSETTO:+0000
TZNAME:GMT
DTSTART:20261025T010000
END:STANDARD
BEGIN:DAYLIGHT
TZOFFSETFROM:+0000
TZOFFSETTO:+0100
TZNAME:BST
DTSTART:20270328T010000
END:DAYLIGHT
BEGIN:STANDARD
TZOFFSETFROM:+0100
TZOFFSETTO:+0000
TZNAME:GMT
DTSTART:20271031T010000
END:STANDARD
END:VTIMEZONE
BEGIN:VEVENT
DTSTART;TZID=Europe/London:20260707T180000
DTEND;TZID=Europe/London:20260707T220000
DTSTAMP:20260422T104016
CREATED:20260416T142011Z
LAST-MODIFIED:20260416T142011Z
UID:10020628-1783447200-1783461600@www.discoverfrome.co.uk
SUMMARY:Frome Festival: Frome Fashion Show 2026
DESCRIPTION:On sale to Friends of Frome Festival Fri 15 May\nGeneral on sale Sun 17 May \nThis year we will be celebrating 50 years of Dorothy House Hospice Care with a Carnival of Fashion.\nThe models who are local people\, will be modelling favourite designs through the modern ages from the 1960’s through to the present day. \nYou will be able to purchase outfits modelled on the catwalk at the end of the show\, when we will bring the clothes onto the stage for you to peruse and try on. \nBefore and after the show\, we will have clothes for sale in the foyer\, and while you are shopping\, you could treat yourself to a cheeky Prosecco from the bar. There will also be a raffle and entertainment. \nWe very much hope you will support this wonderful\, fun event and encourage you to ‘dress to impress and wear your favourite charity shop finds.\nDoors open 6pm with clothes presale & refreshments in foyer with the catwalk starting at 7pm. \nRunning time: 180 minutes plus interval\nRecommended: All ages\nTickets: £12 | Students: £8
URL:https://www.discoverfrome.co.uk/event/frome-festival-frome-fashion-show-2026/
LOCATION:Merlin Theatre\, Bath Road\, Frome\, BA11 2HG 
CATEGORIES:Charity event,Clothing and textiles,Community,Discover Frome,Frome Festival,Shopping
ATTACH;FMTTYPE=image/jpeg:https://www.discoverfrome.co.uk/wp-content/uploads/2026/04/Fashion-show.jpg
ORGANIZER;CN="Merlin Theatre":MAILTO:merlintheatremarketing@gmail.com
GEO:51.2412644;-2.3118242
X-APPLE-STRUCTURED-LOCATION;VALUE=URI;X-ADDRESS=Merlin Theatre Bath Road Frome BA11 2HG;X-APPLE-RADIUS=500;X-TITLE=Bath Road:geo:-2.3118242,51.2412644
END:VEVENT
BEGIN:VEVENT
DTSTART;TZID=Europe/London:20260711T193000
DTEND;TZID=Europe/London:20260711T213000
DTSTAMP:20260422T104016
CREATED:20260417T093408Z
LAST-MODIFIED:20260417T093408Z
UID:10020632-1783798200-1783805400@www.discoverfrome.co.uk
SUMMARY:Cara Dillon and Sam Lakeman: a Frome Festival Special
DESCRIPTION:On sale to Friends of Frome Festival Fri 15 May\nGeneral on sale Sun 17 May \nJoin Cara Dillon and Sam Lakeman as they perform songs from across her celebrated catalogue and celebrate the town they call home in this special Frome Festival programme. Cara’s stunning\, emotive voice has bridged tradition and innovation\, earning countless prestigious awards and accolades over a 30-year career. She remains a towering figure in Irish music. \nRunning time: 120 minutes plus interval\nTickets: £23
URL:https://www.discoverfrome.co.uk/event/cara-dillon-and-sam-lakeman-a-frome-festival-special/
LOCATION:Merlin Theatre\, Bath Road\, Frome\, BA11 2HG 
CATEGORIES:Concert,Discover Frome,Frome Festival,Live band,Music
ATTACH;FMTTYPE=image/jpeg:https://www.discoverfrome.co.uk/wp-content/uploads/2026/04/Cara-Dillon.jpg
ORGANIZER;CN="Merlin Theatre":MAILTO:merlintheatremarketing@gmail.com
GEO:51.2412644;-2.3118242
X-APPLE-STRUCTURED-LOCATION;VALUE=URI;X-ADDRESS=Merlin Theatre Bath Road Frome BA11 2HG;X-APPLE-RADIUS=500;X-TITLE=Bath Road:geo:-2.3118242,51.2412644
END:VEVENT
BEGIN:VEVENT
DTSTART;TZID=Europe/London:20260712T110000
DTEND;TZID=Europe/London:20260712T130000
DTSTAMP:20260422T104016
CREATED:20260417T102226Z
LAST-MODIFIED:20260417T102226Z
UID:10020633-1783854000-1783861200@www.discoverfrome.co.uk
SUMMARY:Frome Writers’ Collective: Frome Short Story Competition Awards
DESCRIPTION:On sale to Friends of Frome Festival Fri 15 May\nGeneral on sale Sun 17 May \nCelebrate writers of all ages as the winners of the Young Writer Competition and the Writers in Residence contest are announced\, and author Claire Fuller reveals the winning entries in the Frome Festival Short Story Competition. \nWriters in Residence is an annual local competition in which participants write a story to a given prompt\, while temporarily ‘residing’ in a Frome shop or café. \nThe Young Writer Competition for writers aged 7 -18 is sponsored by author Kerry Wilkinson (an ex-Frome College student) and judged by author and UK Patron of Reading\, Joffre White.\nClaire Fuller\, this year’s guest judge for the Frome Festival Short Story Competition is the author of six novels\, including the Costa Prize-winning ‘Unsettled Ground’\, with the latest\, ‘Hunger and Thirst’\, being published in May this year. \nRunning time: 120 minutes plus interval\nTickets are free for this event
URL:https://www.discoverfrome.co.uk/event/frome-writers-collective-frome-short-story-competition-awards/
LOCATION:Merlin Theatre\, Bath Road\, Frome\, BA11 2HG 
CATEGORIES:Arts,Children,Discover Frome,Family,Frome Festival,Literature
ATTACH;FMTTYPE=image/jpeg:https://www.discoverfrome.co.uk/wp-content/uploads/2026/04/xFWC.png.pagespeed.ic_.Y_Z1T5JxC9.jpg
ORGANIZER;CN="Merlin Theatre":MAILTO:merlintheatremarketing@gmail.com
GEO:51.2412644;-2.3118242
X-APPLE-STRUCTURED-LOCATION;VALUE=URI;X-ADDRESS=Merlin Theatre Bath Road Frome BA11 2HG;X-APPLE-RADIUS=500;X-TITLE=Bath Road:geo:-2.3118242,51.2412644
END:VEVENT
END:VCALENDAR