BEGIN:VCALENDAR
VERSION:2.0
PRODID:-//Discover Frome - ECPv6.15.20//NONSGML v1.0//EN
CALSCALE:GREGORIAN
METHOD:PUBLISH
X-ORIGINAL-URL:https://www.discoverfrome.co.uk
X-WR-CALDESC:Events for Discover Frome
REFRESH-INTERVAL;VALUE=DURATION:PT1H
X-Robots-Tag:noindex
X-PUBLISHED-TTL:PT1H
BEGIN:VTIMEZONE
TZID:Europe/London
BEGIN:DAYLIGHT
TZOFFSETFROM:+0000
TZOFFSETTO:+0100
TZNAME:BST
DTSTART:20250330T010000
END:DAYLIGHT
BEGIN:STANDARD
TZOFFSETFROM:+0100
TZOFFSETTO:+0000
TZNAME:GMT
DTSTART:20251026T010000
END:STANDARD
BEGIN:DAYLIGHT
TZOFFSETFROM:+0000
TZOFFSETTO:+0100
TZNAME:BST
DTSTART:20260329T010000
END:DAYLIGHT
BEGIN:STANDARD
TZOFFSETFROM:+0100
TZOFFSETTO:+0000
TZNAME:GMT
DTSTART:20261025T010000
END:STANDARD
BEGIN:DAYLIGHT
TZOFFSETFROM:+0000
TZOFFSETTO:+0100
TZNAME:BST
DTSTART:20270328T010000
END:DAYLIGHT
BEGIN:STANDARD
TZOFFSETFROM:+0100
TZOFFSETTO:+0000
TZNAME:GMT
DTSTART:20271031T010000
END:STANDARD
END:VTIMEZONE
BEGIN:VEVENT
DTSTART;TZID=Europe/London:20260214T100000
DTEND;TZID=Europe/London:20260222T160000
DTSTAMP:20260419T192230
CREATED:20260203T121729Z
LAST-MODIFIED:20260203T121729Z
UID:10019722-1771063200-1771776000@www.discoverfrome.co.uk
SUMMARY:Lamb Feeding and Animal Farm tours
DESCRIPTION:Join us for an enjoyable experience lamb feeding at Palette & Pasture\, followed by an exciting farm tour where you can meet our other delightful farm animals\, and get to hand feed the goats. \nThis engaging activity lasts for up to 60 minutes\, allowing each group to spend quality time feeding and petting three adorable lambs in their own pen. \nAfter this you will embark on a tour to encounter the other charming farm animals\, including the highland cows\, and have the chance to enjoy hand feeding the goats. \nA farmer will be on hand to answer any of your questions you might hand during your visit. \nPlease note that bookings can only made for groups of 6 people. Please dress appropriately and wear wellies.
URL:https://www.discoverfrome.co.uk/event/lamb-feeding-and-animal-farm-tours/
LOCATION:Palette and Pasture\, Pyle Farm\, Trudoxhill\, Somerset\, BA11 5DL\, United Kingdom
CATEGORIES:Animals,Children,Discover Frome,Family,Half term and holidays,Nature
ATTACH;FMTTYPE=image/jpeg:https://www.discoverfrome.co.uk/wp-content/uploads/2026/02/lamb-feeding.jpg
ORGANIZER;CN="Palette and Pasture":MAILTO:hello@paletteandpasture.co.uk 
END:VEVENT
BEGIN:VEVENT
DTSTART;TZID=Europe/London:20260216T100000
DTEND;TZID=Europe/London:20260222T180000
DTSTAMP:20260419T192230
CREATED:20260203T134352Z
LAST-MODIFIED:20260203T134352Z
UID:10019725-1771236000-1771783200@www.discoverfrome.co.uk
SUMMARY:Frome Boulder Rooms half term sessions
DESCRIPTION:Got kids that love to climb anything and everything? Why not take them to Frome Boulder Rooms for a session during half term\, where they can climb in a safe environment with support from experienced staff. Frome Boulder Rooms open at 10am on Monday 16th – keep an eye on their social media for updates and timings.
URL:https://www.discoverfrome.co.uk/event/frome-boulder-rooms-half-term-sessions/
LOCATION:Frome Boulder Rooms\, Unit 3 & 4\, The Cotton Works\, Vallis Road\, Frome\, BA11 3EN\, United Kingdom
CATEGORIES:Children,Discover Frome,Family,Half term and holidays,Health and wellbeing,Sport
END:VEVENT
BEGIN:VEVENT
DTSTART;TZID=Europe/London:20260217T100000
DTEND;TZID=Europe/London:20260217T103000
DTSTAMP:20260419T192230
CREATED:20260211T115159Z
LAST-MODIFIED:20260211T115159Z
UID:10019916-1771322400-1771324200@www.discoverfrome.co.uk
SUMMARY:Toddler Time Tuesday
DESCRIPTION:Songs and a story for children aged 1 – 3 and their parents/carers\, at Frome Library every Tuesday. Takes place from 10am – 10:30am and is free to attend with your little ones. \nKeep an eye on Frome Library’s Facebook page for updates\, session cancellations and more information.
URL:https://www.discoverfrome.co.uk/event/toddler-time-tuesday/2026-02-17/
LOCATION:Frome Library\, Justice Lane\, Frome\, BA11 1BE
CATEGORIES:Children,Community,Discover Frome,Family,Music
ATTACH;FMTTYPE=image/jpeg:https://www.discoverfrome.co.uk/wp-content/uploads/2024/12/Toddler-Time-002-e1770810498536.jpg
GEO:51.2324194;-2.3206873
X-APPLE-STRUCTURED-LOCATION;VALUE=URI;X-ADDRESS=Frome Library Justice Lane Frome BA11 1BE;X-APPLE-RADIUS=500;X-TITLE=Justice Lane:geo:-2.3206873,51.2324194
END:VEVENT
BEGIN:VEVENT
DTSTART;TZID=Europe/London:20260217T110000
DTEND;TZID=Europe/London:20260217T113000
DTSTAMP:20260419T192230
CREATED:20260211T121051Z
LAST-MODIFIED:20260211T121051Z
UID:10019962-1771326000-1771327800@www.discoverfrome.co.uk
SUMMARY:Baby Boogie
DESCRIPTION:Stories and rhymes for children up to 12 months\, taking place every Tuesday at Frome Library from 11am – 11:30am. A fun session to share with your baby and meet other parents. These sessions are free. \nKeep an eye on Frome Library’s Facebook page for updates\, session cancellations and more information.
URL:https://www.discoverfrome.co.uk/event/baby-boogie/
LOCATION:Frome Library\, Justice Lane\, Frome\, BA11 1BE
CATEGORIES:Children,Community,Discover Frome,Family,Music
ATTACH;FMTTYPE=image/jpeg:https://www.discoverfrome.co.uk/wp-content/uploads/2024/12/Toddler-Time-002-e1770810498536.jpg
GEO:51.2324194;-2.3206873
X-APPLE-STRUCTURED-LOCATION;VALUE=URI;X-ADDRESS=Frome Library Justice Lane Frome BA11 1BE;X-APPLE-RADIUS=500;X-TITLE=Justice Lane:geo:-2.3206873,51.2324194
END:VEVENT
BEGIN:VEVENT
DTSTART;TZID=Europe/London:20260218T160000
DTEND;TZID=Europe/London:20260218T173000
DTSTAMP:20260419T192230
CREATED:20260211T133924Z
LAST-MODIFIED:20260211T133924Z
UID:10020059-1771430400-1771435800@www.discoverfrome.co.uk
SUMMARY:Frome Roller Disco
DESCRIPTION:Join us for Frome Roller Disco. Fun\, games and great music\, hosted by our volunteer Marshal team who work hard so you can skate safely. Bring your own skates or borrow ours – hire skates and safety kit (strongly recommended!) are included in the ticket price.\nLook forward to seeing you back on eight wheels in 26. https://elevenrollerdisco.org/
URL:https://www.discoverfrome.co.uk/event/frome-roller-disco/2026-02-18/
LOCATION:Cheese and Grain\, Market Yard\, Frome\, BA11 1BE
CATEGORIES:Children,Discover Frome,Family,Music,Sport
ATTACH;FMTTYPE=image/jpeg:https://www.discoverfrome.co.uk/wp-content/uploads/2026/02/frome-roller-disco.jpg
ORGANIZER;CN="Frome Roller Disco":MAILTO:admin@fromeroller.com
GEO:51.2318708;-2.3202807
X-APPLE-STRUCTURED-LOCATION;VALUE=URI;X-ADDRESS=Cheese and Grain Market Yard Frome BA11 1BE;X-APPLE-RADIUS=500;X-TITLE=Market Yard:geo:-2.3202807,51.2318708
END:VEVENT
BEGIN:VEVENT
DTSTART;TZID=Europe/London:20260219T100000
DTEND;TZID=Europe/London:20260219T103000
DTSTAMP:20260419T192230
CREATED:20260211T114925Z
LAST-MODIFIED:20260211T114925Z
UID:10019872-1771495200-1771497000@www.discoverfrome.co.uk
SUMMARY:Toddler Time Thursday
DESCRIPTION:Songs and a story for children aged 1 – 3 and their parents/carers\, at Frome Library every Thursday. Takes place from 10am – 10:30am and is free to attend with your little ones. \nKeep an eye on Frome Library’s Facebook page for updates\, session cancellations and more information.
URL:https://www.discoverfrome.co.uk/event/toddler-time-thursday/2026-02-19/
LOCATION:Frome Library\, Justice Lane\, Frome\, BA11 1BE
CATEGORIES:Children,Community,Discover Frome,Family,Music
ATTACH;FMTTYPE=image/jpeg:https://www.discoverfrome.co.uk/wp-content/uploads/2024/12/Toddler-Time-002-e1770810498536.jpg
GEO:51.2324194;-2.3206873
X-APPLE-STRUCTURED-LOCATION;VALUE=URI;X-ADDRESS=Frome Library Justice Lane Frome BA11 1BE;X-APPLE-RADIUS=500;X-TITLE=Justice Lane:geo:-2.3206873,51.2324194
END:VEVENT
BEGIN:VEVENT
DTSTART;TZID=Europe/London:20260219T100000
DTEND;TZID=Europe/London:20260219T113000
DTSTAMP:20260419T192230
CREATED:20260202T105907Z
LAST-MODIFIED:20260202T105907Z
UID:10019717-1771495200-1771500600@www.discoverfrome.co.uk
SUMMARY:Sensory Sport
DESCRIPTION:Nova Sports are hosting Sensory Sport for February half term\, for young people who need 1:1 support to access activities. \nWhat is Sensory Sport? \nFree play sensory sport activities facilitated by specialist Nova coaches. Participants are taken on a journey through the sounds\, feels\, smells and actions of playing volleyball\, skiing and swimming in the ocean (sports subject to change). \nParents/carers must take part with their young person. Siblings welcome. \nWho is it for? \n\nYoung people who need 1:1 support to access activities\nYoung people with a physical disability (mats provided)\, learning disabilities and those who are neurodivergent\nAges 4 – 12 (pre-school and primary school)\n\nTo book: email your child’s name and date of birth to bookings@novasports.org.uk / call 07880 743453 (Jenny)
URL:https://www.discoverfrome.co.uk/event/sensory-sport/
LOCATION:The Key Centre\, Feltham Lane\, Frome\, BA115AJ
CATEGORIES:Children,Coaching,Discover Frome,Family,Half term and holidays,Health and wellbeing,Sport,Support
ATTACH;FMTTYPE=image/jpeg:https://www.discoverfrome.co.uk/wp-content/uploads/2019/07/Nova-sports.jpg
ORGANIZER;CN="Nova Sports & Coaching":MAILTO:info@novasports.org.uk
END:VEVENT
BEGIN:VEVENT
DTSTART;TZID=Europe/London:20260219T103000
DTEND;TZID=Europe/London:20260219T113000
DTSTAMP:20260419T192230
CREATED:20260202T114726Z
LAST-MODIFIED:20260211T121305Z
UID:10019499-1771497000-1771500600@www.discoverfrome.co.uk
SUMMARY:Spacebabies - out of this world sensory play
DESCRIPTION:Close encounters with alien textures\, cosmic projections and calming soundscapes + twinkly lights\, bubbles\, and all kinds of funky playthings. We want you to enjoy your time at your speed and in your way. We’re pretty light touch in our leadership – we don’t ask you to do something every 5 minutes! We want this to be an opportunity for you to relax too. \n£9 per child\nor bring a crew of 3 or more friends for £8 (online bookings only)\nor bring a crew of 5 or more friends for £7 (online bookings only)\nAimed at babies not yet walking.\nHosted by Super Pirates. \nDelicious pastries right next door at Rye Bakery
URL:https://www.discoverfrome.co.uk/event/spacebabies-out-of-this-world-sensory-play-2/
LOCATION:The Awesome Studio\, Station Approach\, Frome\, BA11 1RE\, United Kingdom
CATEGORIES:Children,Discover Frome,Family
ATTACH;FMTTYPE=image/jpeg:https://www.discoverfrome.co.uk/wp-content/uploads/2025/12/space-babies.jpg
ORGANIZER;CN="Super Pirates":MAILTO:events@superpirates.co.uk
END:VEVENT
BEGIN:VEVENT
DTSTART;TZID=Europe/London:20260221T090000
DTEND;TZID=Europe/London:20260221T170000
DTSTAMP:20260419T192230
CREATED:20260210T164213Z
LAST-MODIFIED:20260210T164213Z
UID:10019869-1771664400-1771693200@www.discoverfrome.co.uk
SUMMARY:Frome Sport & Fitness Community Open Day
DESCRIPTION:Frome Sport & Fitness are holding a Community Open Day on Saturday 21st February\, with free activities included. \n9am – 3pm: Soft play \n10am – 2pm: Jungle bouncy castle \nAll day: FREE gym!
URL:https://www.discoverfrome.co.uk/event/frome-sport-fitness-community-open-day/
LOCATION:Frome Sport & Fitness\, Princess Anne Road\, Frome\, BA11 2SA
CATEGORIES:Children,Coaching,Community,Discover Frome,Family,Half term and holidays,Sport
ATTACH;FMTTYPE=image/jpeg:https://www.discoverfrome.co.uk/wp-content/uploads/1970/01/frome-sport-and-fitness.jpg
END:VEVENT
END:VCALENDAR