BEGIN:VCALENDAR
VERSION:2.0
PRODID:-//Discover Frome - ECPv6.15.20//NONSGML v1.0//EN
CALSCALE:GREGORIAN
METHOD:PUBLISH
X-ORIGINAL-URL:https://www.discoverfrome.co.uk
X-WR-CALDESC:Events for Discover Frome
REFRESH-INTERVAL;VALUE=DURATION:PT1H
X-Robots-Tag:noindex
X-PUBLISHED-TTL:PT1H
BEGIN:VTIMEZONE
TZID:Europe/London
BEGIN:DAYLIGHT
TZOFFSETFROM:+0000
TZOFFSETTO:+0100
TZNAME:BST
DTSTART:20250330T010000
END:DAYLIGHT
BEGIN:STANDARD
TZOFFSETFROM:+0100
TZOFFSETTO:+0000
TZNAME:GMT
DTSTART:20251026T010000
END:STANDARD
BEGIN:DAYLIGHT
TZOFFSETFROM:+0000
TZOFFSETTO:+0100
TZNAME:BST
DTSTART:20260329T010000
END:DAYLIGHT
BEGIN:STANDARD
TZOFFSETFROM:+0100
TZOFFSETTO:+0000
TZNAME:GMT
DTSTART:20261025T010000
END:STANDARD
BEGIN:DAYLIGHT
TZOFFSETFROM:+0000
TZOFFSETTO:+0100
TZNAME:BST
DTSTART:20270328T010000
END:DAYLIGHT
BEGIN:STANDARD
TZOFFSETFROM:+0100
TZOFFSETTO:+0000
TZNAME:GMT
DTSTART:20271031T010000
END:STANDARD
END:VTIMEZONE
BEGIN:VEVENT
DTSTART;TZID=Europe/London:20260211T160000
DTEND;TZID=Europe/London:20260211T173000
DTSTAMP:20260419T211051
CREATED:20260211T133924Z
LAST-MODIFIED:20260211T133924Z
UID:10020058-1770825600-1770831000@www.discoverfrome.co.uk
SUMMARY:Frome Roller Disco
DESCRIPTION:Join us for Frome Roller Disco. Fun\, games and great music\, hosted by our volunteer Marshal team who work hard so you can skate safely. Bring your own skates or borrow ours – hire skates and safety kit (strongly recommended!) are included in the ticket price.\nLook forward to seeing you back on eight wheels in 26. https://elevenrollerdisco.org/
URL:https://www.discoverfrome.co.uk/event/frome-roller-disco/2026-02-11/
LOCATION:Cheese and Grain\, Market Yard\, Frome\, BA11 1BE
CATEGORIES:Children,Discover Frome,Family,Music,Sport
ATTACH;FMTTYPE=image/jpeg:https://www.discoverfrome.co.uk/wp-content/uploads/2026/02/frome-roller-disco.jpg
ORGANIZER;CN="Frome Roller Disco":MAILTO:admin@fromeroller.com
GEO:51.2318708;-2.3202807
X-APPLE-STRUCTURED-LOCATION;VALUE=URI;X-ADDRESS=Cheese and Grain Market Yard Frome BA11 1BE;X-APPLE-RADIUS=500;X-TITLE=Market Yard:geo:-2.3202807,51.2318708
END:VEVENT
BEGIN:VEVENT
DTSTART;TZID=Europe/London:20260212T103000
DTEND;TZID=Europe/London:20260212T113000
DTSTAMP:20260419T211051
CREATED:20260211T121320Z
LAST-MODIFIED:20260211T121320Z
UID:10019498-1770892200-1770895800@www.discoverfrome.co.uk
SUMMARY:Spacebabies - out of this world sensory play
DESCRIPTION:Close encounters with alien textures\, cosmic projections and calming soundscapes + twinkly lights\, bubbles\, and all kinds of funky playthings. We want you to enjoy your time at your speed and in your way. We’re pretty light touch in our leadership – we don’t ask you to do something every 5 minutes! We want this to be an opportunity for you to relax too. \n£9 per child\nor bring a crew of 3 or more friends for £8 (online bookings only)\nor bring a crew of 5 or more friends for £7 (online bookings only)\nAimed at babies not yet walking.\nHosted by Super Pirates. \nDelicious pastries right next door at Rye Bakery
URL:https://www.discoverfrome.co.uk/event/spacebabies-out-of-this-world-sensory-play-3/2026-02-12/
LOCATION:The Awesome Studio\, Station Approach\, Frome\, BA11 1RE\, United Kingdom
CATEGORIES:Children,Discover Frome,Family
ATTACH;FMTTYPE=image/jpeg:https://www.discoverfrome.co.uk/wp-content/uploads/2025/12/space-babies.jpg
ORGANIZER;CN="Super Pirates":MAILTO:events@superpirates.co.uk
END:VEVENT
BEGIN:VEVENT
DTSTART;TZID=Europe/London:20260214T100000
DTEND;TZID=Europe/London:20260214T120000
DTSTAMP:20260419T211051
CREATED:20251003T134911Z
LAST-MODIFIED:20251003T134911Z
UID:10019154-1771063200-1771070400@www.discoverfrome.co.uk
SUMMARY:Little Pickles Market
DESCRIPTION:What will be on offer to buy\, every market is unique and offers a great selection of items from prams to babygros\, books to play gyms\, bouncy chairs to wooden toys\, toddler clothes to baby carriers\, welly boots to swimwear\, the list goes on and on.
URL:https://www.discoverfrome.co.uk/event/little-pickles-market-2/2026-02-14/
LOCATION:Cheese and Grain\, Market Yard\, Frome\, BA11 1BE
CATEGORIES:Children,Clothing and textiles,Discover Frome,Family,Market,Shopping
ATTACH;FMTTYPE=image/jpeg:https://www.discoverfrome.co.uk/wp-content/uploads/2025/06/little-pickles-market.jpg
GEO:51.2318708;-2.3202807
X-APPLE-STRUCTURED-LOCATION;VALUE=URI;X-ADDRESS=Cheese and Grain Market Yard Frome BA11 1BE;X-APPLE-RADIUS=500;X-TITLE=Market Yard:geo:-2.3202807,51.2318708
END:VEVENT
BEGIN:VEVENT
DTSTART;TZID=Europe/London:20260214T100000
DTEND;TZID=Europe/London:20260222T160000
DTSTAMP:20260419T211051
CREATED:20260203T121729Z
LAST-MODIFIED:20260203T121729Z
UID:10019722-1771063200-1771776000@www.discoverfrome.co.uk
SUMMARY:Lamb Feeding and Animal Farm tours
DESCRIPTION:Join us for an enjoyable experience lamb feeding at Palette & Pasture\, followed by an exciting farm tour where you can meet our other delightful farm animals\, and get to hand feed the goats. \nThis engaging activity lasts for up to 60 minutes\, allowing each group to spend quality time feeding and petting three adorable lambs in their own pen. \nAfter this you will embark on a tour to encounter the other charming farm animals\, including the highland cows\, and have the chance to enjoy hand feeding the goats. \nA farmer will be on hand to answer any of your questions you might hand during your visit. \nPlease note that bookings can only made for groups of 6 people. Please dress appropriately and wear wellies.
URL:https://www.discoverfrome.co.uk/event/lamb-feeding-and-animal-farm-tours/
LOCATION:Palette and Pasture\, Pyle Farm\, Trudoxhill\, Somerset\, BA11 5DL\, United Kingdom
CATEGORIES:Animals,Children,Discover Frome,Family,Half term and holidays,Nature
ATTACH;FMTTYPE=image/jpeg:https://www.discoverfrome.co.uk/wp-content/uploads/2026/02/lamb-feeding.jpg
ORGANIZER;CN="Palette and Pasture":MAILTO:hello@paletteandpasture.co.uk 
END:VEVENT
BEGIN:VEVENT
DTSTART;TZID=Europe/London:20260214T120000
DTEND;TZID=Europe/London:20260214T150000
DTSTAMP:20260419T211051
CREATED:20260119T134458Z
LAST-MODIFIED:20260202T114506Z
UID:10019630-1771070400-1771081200@www.discoverfrome.co.uk
SUMMARY:'Stacks of Love' pancake dash
DESCRIPTION:A free\, fun\, family-friendly event supported by Bonne Maman marks Valentine’s Day and Pancake Day in the town centre on Saturday 14th February from 12pm to 3pm\, as the ‘Stacks of Love’ pancake dash comes to town. From midday\, there will be themed crafts\, games\, Valentine’s face painting\, hot and cold drinks\, a crêpe stall and other sweet treats around the Boyle Cross\, plus a Valentine’s-themed selfie frame for a portrait of you and your Valentine. From 1pm\, pancake dashes set off every five minutes from outside the Blue Boar up to the Boyle Cross.
URL:https://www.discoverfrome.co.uk/event/stacks-of-love-pancake-dash/
LOCATION:Frome Town Centre
CATEGORIES:Children,Community,Crafts,Discover Frome,Family,Food and drink,Sport
ATTACH;FMTTYPE=image/jpeg:https://www.discoverfrome.co.uk/wp-content/uploads/2026/01/Cheryl-with-Valentine-outfit-v2-for-web-edited.jpg
ORGANIZER;CN="Frome Town Council":MAILTO:info@frometowncouncil.gov.uk
GEO:51.231623663092;-2.3206995621115
END:VEVENT
BEGIN:VEVENT
DTSTART;TZID=Europe/London:20260215T100000
DTEND;TZID=Europe/London:20260215T140000
DTSTAMP:20260419T211051
CREATED:20260119T141010Z
LAST-MODIFIED:20260202T114548Z
UID:10019632-1771149600-1771164000@www.discoverfrome.co.uk
SUMMARY:Frome Potato Day and Seed Swap
DESCRIPTION:Frome Field 2 Fork are holding another Potato Day and Seed Swap on 15th February\, 10am – 2pm at the Cheese & Grain. \nThe promise of spring\, with a sweet breath of fresh air\, is upon us. Hope and renewal are visible and the excitement of the beginning of a new cycle of growth is felt amongst us all. \nCherished by many\, this annual event gathers gardening enthusiasts\, community groups and enterprises\, local producers and businesses to celebrate local food and horticulture together. Whether you’re a seasoned horticulturalist or just beginning to explore gardening\, Potato Day offers all the essentials to get your growing season underway including seed potatoes\, bulbs\, seeds\, plants\, fruit trees and of course the community seed swap so bring your excess seeds in clearly marked paper envelopes\, and plants\, to swap for exciting new varieties. \nThere are also a range of free activities on the day\, as well as fun things for kids: \n10am – Herbalist Ben Still will host a Insight Herbalism Rose circle  \n11am – Alex at HotSteppa Sauce will share the ‘Principles of Hot Sauce Creation’ \n12pm – Lizzie Haughton and Tom Wilford will facilitate  ‘A Vision for Frome’s Food Future’  \n1pm Networking and Knowledge Sharing with the 5th Gardeners Summit.  \nPre-book free activities here (drop-ins also welcome) or call 07857 437608 if you can’t book online.
URL:https://www.discoverfrome.co.uk/event/frome-potato-day-and-seed-swap/
LOCATION:Cheese and Grain\, Market Yard\, Frome\, BA11 1BE
CATEGORIES:Children,Community,Crafts,Discover Frome,Environment,Family,Nature,Sustainability,Talk,Workshop
ATTACH;FMTTYPE=image/jpeg:https://www.discoverfrome.co.uk/wp-content/uploads/2025/01/potato-day-2023-credit-Frome-Field-2-Fork.jpg
ORGANIZER;CN="Frome Field 2 Fork":MAILTO:fromefield2fork@gmail.com
GEO:51.2318708;-2.3202807
X-APPLE-STRUCTURED-LOCATION;VALUE=URI;X-ADDRESS=Cheese and Grain Market Yard Frome BA11 1BE;X-APPLE-RADIUS=500;X-TITLE=Market Yard:geo:-2.3202807,51.2318708
END:VEVENT
END:VCALENDAR