BEGIN:VCALENDAR
VERSION:2.0
PRODID:-//Discover Frome - ECPv6.15.20//NONSGML v1.0//EN
CALSCALE:GREGORIAN
METHOD:PUBLISH
X-WR-CALNAME:Discover Frome
X-ORIGINAL-URL:https://www.discoverfrome.co.uk
X-WR-CALDESC:Events for Discover Frome
REFRESH-INTERVAL;VALUE=DURATION:PT1H
X-Robots-Tag:noindex
X-PUBLISHED-TTL:PT1H
BEGIN:VTIMEZONE
TZID:Europe/London
BEGIN:DAYLIGHT
TZOFFSETFROM:+0000
TZOFFSETTO:+0100
TZNAME:BST
DTSTART:20250330T010000
END:DAYLIGHT
BEGIN:STANDARD
TZOFFSETFROM:+0100
TZOFFSETTO:+0000
TZNAME:GMT
DTSTART:20251026T010000
END:STANDARD
BEGIN:DAYLIGHT
TZOFFSETFROM:+0000
TZOFFSETTO:+0100
TZNAME:BST
DTSTART:20260329T010000
END:DAYLIGHT
BEGIN:STANDARD
TZOFFSETFROM:+0100
TZOFFSETTO:+0000
TZNAME:GMT
DTSTART:20261025T010000
END:STANDARD
BEGIN:DAYLIGHT
TZOFFSETFROM:+0000
TZOFFSETTO:+0100
TZNAME:BST
DTSTART:20270328T010000
END:DAYLIGHT
BEGIN:STANDARD
TZOFFSETFROM:+0100
TZOFFSETTO:+0000
TZNAME:GMT
DTSTART:20271031T010000
END:STANDARD
END:VTIMEZONE
BEGIN:VEVENT
DTSTART;TZID=Europe/London:20260221T190000
DTEND;TZID=Europe/London:20260221T230000
DTSTAMP:20260421T031333
CREATED:20251203T143031Z
LAST-MODIFIED:20251203T143031Z
UID:10019385-1771700400-1771714800@www.discoverfrome.co.uk
SUMMARY:Dave Pearce – Dance Anthems
DESCRIPTION:The creator and original presenter of BBC Radio 1’s Dance Anthems—Dave Pearce has been a driving force in the UK Dance Scene for many years. Renowned for his energetic uplifting and anthemic “big room” sets incorporating Trance/Electro house and Progressive interwoven with reworked classics and also for his Trance Anthems and Pure Trance sets. \nDave Pearce has sold over 1 million mix compilation albums in the UK with numerous top 5 UK Chart positions. He has held residencies in Ibiza\, Ministry Of Sound in London and BCM in Mallorca. He has played at all the major dance festivals including Creamfields and has been featured three times in DJ Mag’s Top 100 DJs in the world. \nAfter hosting Kiss FM’s Breakfast show Dave joined BBC Radio 1 and launched Dance Anthems achieving its highest audiences and weekly combined audience with his Drivetime show of 17 million listeners a week. Dave Pearce Dance Anthems became a Sunday night clubbing institution for a generation. He has also presented dance shows on BBC 6 Music \, BBC Radio 2\, MTV and Clubland TV.
URL:https://www.discoverfrome.co.uk/event/dave-pearce-dance-anthems/
LOCATION:Cheese and Grain\, Market Yard\, Frome\, BA11 1BE
CATEGORIES:Concert,Discover Frome,DJ set,Music
ATTACH;FMTTYPE=image/jpeg:https://www.discoverfrome.co.uk/wp-content/uploads/2025/12/dave-pearce.jpg
GEO:51.2318708;-2.3202807
X-APPLE-STRUCTURED-LOCATION;VALUE=URI;X-ADDRESS=Cheese and Grain Market Yard Frome BA11 1BE;X-APPLE-RADIUS=500;X-TITLE=Market Yard:geo:-2.3202807,51.2318708
END:VEVENT
END:VCALENDAR