BEGIN:VCALENDAR
VERSION:2.0
PRODID:-//Discover Frome - ECPv6.15.20//NONSGML v1.0//EN
CALSCALE:GREGORIAN
METHOD:PUBLISH
X-WR-CALNAME:Discover Frome
X-ORIGINAL-URL:https://www.discoverfrome.co.uk
X-WR-CALDESC:Events for Discover Frome
REFRESH-INTERVAL;VALUE=DURATION:PT1H
X-Robots-Tag:noindex
X-PUBLISHED-TTL:PT1H
BEGIN:VTIMEZONE
TZID:Europe/London
BEGIN:DAYLIGHT
TZOFFSETFROM:+0000
TZOFFSETTO:+0100
TZNAME:BST
DTSTART:20250330T010000
END:DAYLIGHT
BEGIN:STANDARD
TZOFFSETFROM:+0100
TZOFFSETTO:+0000
TZNAME:GMT
DTSTART:20251026T010000
END:STANDARD
BEGIN:DAYLIGHT
TZOFFSETFROM:+0000
TZOFFSETTO:+0100
TZNAME:BST
DTSTART:20260329T010000
END:DAYLIGHT
BEGIN:STANDARD
TZOFFSETFROM:+0100
TZOFFSETTO:+0000
TZNAME:GMT
DTSTART:20261025T010000
END:STANDARD
BEGIN:DAYLIGHT
TZOFFSETFROM:+0000
TZOFFSETTO:+0100
TZNAME:BST
DTSTART:20270328T010000
END:DAYLIGHT
BEGIN:STANDARD
TZOFFSETFROM:+0100
TZOFFSETTO:+0000
TZNAME:GMT
DTSTART:20271031T010000
END:STANDARD
END:VTIMEZONE
BEGIN:VEVENT
DTSTART;TZID=Europe/London:20260418T180000
DTEND;TZID=Europe/London:20260418T230000
DTSTAMP:20260420T143504
CREATED:20260226T114102Z
LAST-MODIFIED:20260330T103934Z
UID:10020339-1776535200-1776553200@www.discoverfrome.co.uk
SUMMARY:Afro Cuban Beats - Sierra Sounds in Somerset
DESCRIPTION:Deiya and Orun Kingdom are excited to be hosting another fantastic event at the Silk Mill taking you on a multi-sensory cultural experience through rhythm\, heritage\, flavours and ancestral memory. \nAn immersive night of music\, song\, visuals\, and food celebrating Afro-Latino and Afro-Cuban culture and its West African roots. Joyful\, educational\, and reflective\, this will be a night and space to celebrate culture while exploring its deeper meaning. \nFood made from our talented Cuban chef Yayo will be served between 6pm – 8pm so please make sure to come and sample some of Santiago’s finest. \n£8 – Vegetarian dish (rice\, bean stew\, fried plantain and salad) \n£12 – Meat dish (rice\, beans\, fried plantain\, meat dish and salad) \nThere will also be a special live guest performance by UK based Cuban singer Lando Lavarra. \nLimited capacity so early bookings recommended!
URL:https://www.discoverfrome.co.uk/event/afro-cuban-beats-sierra-sounds-in-somerset/
LOCATION:The Silk Mill\, Merchants Barton\, Frome\, BA11 1PT\, United Kingdom
CATEGORIES:Concert,Discover Frome,DJ set,Food and drink,Live band,Music
ATTACH;FMTTYPE=image/jpeg:https://www.discoverfrome.co.uk/wp-content/uploads/2026/02/SILK-MILL-EVENT-e1772106057927.jpg
ORGANIZER;CN="Deiya":MAILTO:info@deiya.club
GEO:51.230751;-2.320096
X-APPLE-STRUCTURED-LOCATION;VALUE=URI;X-ADDRESS=The Silk Mill Merchants Barton Frome BA11 1PT United Kingdom;X-APPLE-RADIUS=500;X-TITLE=Merchants Barton:geo:-2.320096,51.230751
END:VEVENT
BEGIN:VEVENT
DTSTART;TZID=Europe/London:20260412T140000
DTEND;TZID=Europe/London:20260412T170000
DTSTAMP:20260420T143504
CREATED:20260323T102832Z
LAST-MODIFIED:20260323T102832Z
UID:10020473-1776002400-1776013200@www.discoverfrome.co.uk
SUMMARY:Raving Rascals
DESCRIPTION:Three action-packed hours of music\, colour\, energy\, and pure good vibes for kids and grown-ups alike. Expect big sounds\, flashing lights\, bouncing energy\, and a room full of smiling faces making unforgettable memories together.\n\nOpen to all ages\n\n DJs spinning DNB / UKG / 140 to keep feet moving Space to dance\, play\, and let loose Safe\, welcoming\, feel-good atmosphere\n\n Line-up:. ASSET B2B GRANDAD – DNB. LLOYDY B2B BEEZ – 140. FRIKIE – UKG\n\n Bouncy castle and fun zone Face paint magic Fully stocked tuck shop Friendly team throughout\n Under 2s go free Family discounts available All staff DBS checked
URL:https://www.discoverfrome.co.uk/event/raving-rascals/
LOCATION:Rook Lane Chapel\, Rook Lane\, Bath Street\, Frome\, BA11 1DN
CATEGORIES:Children,Dance,Discover Frome,DJ set,Family,Half term and holidays,Music
ATTACH;FMTTYPE=image/jpeg:https://www.discoverfrome.co.uk/wp-content/uploads/2025/08/rave.jpg
ORGANIZER;CN="Bass Beatz":MAILTO:bassbeatzball@gmail.com
GEO:51.2292873;-2.3227339
X-APPLE-STRUCTURED-LOCATION;VALUE=URI;X-ADDRESS=Rook Lane Chapel Rook Lane Bath Street Frome BA11 1DN;X-APPLE-RADIUS=500;X-TITLE=Rook Lane\, Bath Street:geo:-2.3227339,51.2292873
END:VEVENT
BEGIN:VEVENT
DTSTART;TZID=Europe/London:20260405T100000
DTEND;TZID=Europe/London:20260405T150000
DTSTAMP:20260420T143504
CREATED:20260330T102822Z
LAST-MODIFIED:20260330T102822Z
UID:10020081-1775383200-1775401200@www.discoverfrome.co.uk
SUMMARY:The Frome Independent Market
DESCRIPTION:The Frome Independent is an award winning\, destination street market. We reclaim Frome’s high street once a month to showcase the best independent craftspeople\, designers\, makers\, food producers and vintage traders in the South West. \nThe market takes place on the first Sunday of the month from March to December and strives to be ‘more than a market’\, incorporating live music\, DJs\, street performance\, workshops and activities for children and adults alike on market days. \nThe market is a free event for visitors and has quickly grown to be one of the most significant elements in the region’s calendar attracting over 80\,000 visitors each year. \nVisitors to the market can find contemporary craft\, designer-made homewares\, ethical clothing and jewellery in our Designer-Maker section\, discover fledgling design start-ups in our Suitcase Sale\, have a rummage through vintage nostalgia in our Flea Market or browse indoor plants\, gardenalia and homewares in our Homes & Gardens section. Food lovers can discover local produce from cheese and cider to vegan cakes and kimchi. We work with Somerset Farmers Markets who curate a section for farmers\, growers and producers. There’s also a huge and vibrant range of street food to choose from.
URL:https://www.discoverfrome.co.uk/event/the-frome-independent-market-3/
LOCATION:Frome Town Centre
CATEGORIES:Arts,Children,Clothing and textiles,Crafts,Dance,Discover Frome,DJ set,Family,Food and drink,Live band,Market,Music,Shopping,Sustainability
ATTACH;FMTTYPE=image/jpeg:https://www.discoverfrome.co.uk/wp-content/uploads/2025/02/the-frome-independent.jpg
GEO:51.231623663092;-2.3206995621115
END:VEVENT
BEGIN:VEVENT
DTSTART;TZID=Europe/London:20260404T190000
DTEND;TZID=Europe/London:20260404T230000
DTSTAMP:20260420T143504
CREATED:20251203T153641Z
LAST-MODIFIED:20251203T153641Z
UID:10019399-1775329200-1775343600@www.discoverfrome.co.uk
SUMMARY:The Beatles Dub Club
DESCRIPTION:A special DJ set showcasing the fab four like you’ve never heard before! DJ Chris Arnold takes you on a magical mystery tour of his collection of covers\, remixes and tracks that sampled arguably the greatest band that ever existed\, The Beatles. Expect to hear plenty of reggae\, ska\, latin\, hip hop\, dub\, funk\, house and even drum & bass takes on the wonderful music created by John\, Paul\, George & Ringo. \nThe Beatles Dub Club drew huge crowds throughout 2022\, performing to thousands at Boomtown\, Glastonbury\, Shambala\, Green Man\, Bluedot and more\, and ending the year with a personal invite from Fatboy Slim to his ‘All Back To Minehead’ Weekender. \nIn 2023 the show toured the UK and Europe\, including dates in France and Austria and a Bristol sell-out. It appeared at major festivals such as Latitude\, Isle of Wight and Camp Bestival\, and was named by Far Out Magazine as one of Glastonbury’s top 20 alternative acts. \n2024 took the act global with gigs in Australia\, New Zealand\, Bali and France\, plus a 40-date UK festival run. Chris introduced a horn section\, samba dancers and a new AV show at Green Man\, and the project was signed by Coalition Presents alongside major industry names. \nIn 2025 the show continued its momentum with extensive touring\, support slots for UB40\, The Wailers\, The Selecter and even East 17\, and a was given praise from Paul McCartney’s daughter Mary McCartney following a feature on BBC Radio 6 Music’s Tub of Dub. \n“If Sergeant Pepper had been a DJ\, this would have been his set…” – Fatboy Slim \n“Far from pure novelty\, it is a wonderful way to celebrate music in all of its connective guises” – Far Out Magazine \n“If Beatles Dub Club is on the lineup for a festival you’re at this summer\, make sure you’re there for it\, it’s a wild Beatles ride” – Chris Hawkins\, BBC Radio 6 Music \n“Something so effective\, and seemingly obvious\, that it feels as if it should have existed for much longer than its inception just a few years ago” – The Fix Magazine \nPlease note this is an 18+ all-standing event\, and the venue is accessed by stairs with no lift. If you have any enquiries please email thetreehouse@cheeseandgrain.com
URL:https://www.discoverfrome.co.uk/event/the-beatles-dub-club/
LOCATION:Cheese and Grain\, Market Yard\, Frome\, BA11 1BE
CATEGORIES:Concert,Discover Frome,DJ set,Music
ATTACH;FMTTYPE=image/jpeg:https://www.discoverfrome.co.uk/wp-content/uploads/2025/12/BDC-Website-Banner-e1764776194844.jpg
GEO:51.2318708;-2.3202807
X-APPLE-STRUCTURED-LOCATION;VALUE=URI;X-ADDRESS=Cheese and Grain Market Yard Frome BA11 1BE;X-APPLE-RADIUS=500;X-TITLE=Market Yard:geo:-2.3202807,51.2318708
END:VEVENT
BEGIN:VEVENT
DTSTART;TZID=Europe/London:20260329T100000
DTEND;TZID=Europe/London:20260329T140000
DTSTAMP:20260420T143504
CREATED:20260217T162517Z
LAST-MODIFIED:20260227T104626Z
UID:10020108-1774778400-1774792800@www.discoverfrome.co.uk
SUMMARY:Spring Open Day at Thoulstone Park
DESCRIPTION:Join us in the woods for a festival-style Open Day at Frome’s newest nature-led venue. \nWe are celebrating the start of the season by showcasing the very best of local independent talent. Come and grab a bite to eat from our street food trucks\, toast a marshmallow over the fire pit\, and enjoy live music under the trees. \nPlanning a wedding?\nThis is the perfect chance to see The Village in action. Explore our marquee\, stand in our woodland ceremony space (The Hollow)\, and chat with our team about your big day in a relaxed\, pressure-free environment. \nBring your friends\, bring your dogs\, and come say hello. \nTickets: Free entry (register your interest on Eventbrite)\nhttps://www.facebook.com/events/839615529065394
URL:https://www.discoverfrome.co.uk/event/spring-open-day-at-thoulstone-park/
LOCATION:Thoulstone Park\, Chapmanslade\, Westbury\, Wiltshire\, BA13 4AQ\, United Kingdom
CATEGORIES:Community,Discover Frome,DJ set,Exhibition,Food and drink,Live band,Music,Nature,Networking,Open day
ATTACH;FMTTYPE=image/jpeg:https://www.discoverfrome.co.uk/wp-content/uploads/2026/02/Marquee.jpg
END:VEVENT
BEGIN:VEVENT
DTSTART;TZID=Europe/London:20260314T150000
DTEND;TZID=Europe/London:20260314T190000
DTSTAMP:20260420T143504
CREATED:20260219T143824Z
LAST-MODIFIED:20260219T143824Z
UID:10020331-1773500400-1773514800@www.discoverfrome.co.uk
SUMMARY:70s / 80s/ 90s Disco
DESCRIPTION:Following on from our very successful Revival Disco in December we are delighted to be running another one! \nAfter many requests we are also adding an extra decade – the 90’s \nSo come on down to the Assembly Rooms for a fabulous afternoon of great hits\, lots of dancing and fun times! \nDust off your platforms or your glow sticks\, or simply come as you are! \nStrictly over 18’s only.
URL:https://www.discoverfrome.co.uk/event/70s-80s-90s-disco/
LOCATION:Frome Memorial Theatre – Assembly Rooms\, Christchurch Street West\, Frome\, Somerset\, BA11 1EB\, United Kingdom
CATEGORIES:Dance,Discover Frome,DJ set,Music
ATTACH;FMTTYPE=image/jpeg:https://www.discoverfrome.co.uk/wp-content/uploads/2026/02/disco-e1771511895595.jpg
END:VEVENT
BEGIN:VEVENT
DTSTART;TZID=Europe/London:20260307T200000
DTEND;TZID=Europe/London:20260307T230000
DTSTAMP:20260420T143504
CREATED:20260209T161808Z
LAST-MODIFIED:20260209T161808Z
UID:10019802-1772913600-1772924400@www.discoverfrome.co.uk
SUMMARY:Dig For Fire
DESCRIPTION:Dig For Fire is back\, spinning alternative jams on vinyl at The Station this March. \nFor one night only\, Owen’s Sausages and Hams transforms into Frome’s own dive bar – with cold beer\, and a soundtrack featuring Sonic Youth\, Pixies\, Joy Division\, The Stooges and more. \n8pm – 11pm.
URL:https://www.discoverfrome.co.uk/event/dig-for-fire-2/
LOCATION:Owen’s Sausages & Hams\, Unit 3\, Industrial Estate\, 3 Station Approach\,\, Frome\, BA11 1RE
CATEGORIES:Discover Frome,DJ set,Music,Nightlife
ATTACH;FMTTYPE=image/jpeg:https://www.discoverfrome.co.uk/wp-content/uploads/2026/02/91e3e0a9-553e-4afe-ba83-addac9a73d99.jpg
ORGANIZER;CN="Dig For Fire":MAILTO:jamesmerchant85@gmail.com
END:VEVENT
BEGIN:VEVENT
DTSTART;TZID=Europe/London:20260221T190000
DTEND;TZID=Europe/London:20260221T230000
DTSTAMP:20260420T143504
CREATED:20251203T143031Z
LAST-MODIFIED:20251203T143031Z
UID:10019385-1771700400-1771714800@www.discoverfrome.co.uk
SUMMARY:Dave Pearce – Dance Anthems
DESCRIPTION:The creator and original presenter of BBC Radio 1’s Dance Anthems—Dave Pearce has been a driving force in the UK Dance Scene for many years. Renowned for his energetic uplifting and anthemic “big room” sets incorporating Trance/Electro house and Progressive interwoven with reworked classics and also for his Trance Anthems and Pure Trance sets. \nDave Pearce has sold over 1 million mix compilation albums in the UK with numerous top 5 UK Chart positions. He has held residencies in Ibiza\, Ministry Of Sound in London and BCM in Mallorca. He has played at all the major dance festivals including Creamfields and has been featured three times in DJ Mag’s Top 100 DJs in the world. \nAfter hosting Kiss FM’s Breakfast show Dave joined BBC Radio 1 and launched Dance Anthems achieving its highest audiences and weekly combined audience with his Drivetime show of 17 million listeners a week. Dave Pearce Dance Anthems became a Sunday night clubbing institution for a generation. He has also presented dance shows on BBC 6 Music \, BBC Radio 2\, MTV and Clubland TV.
URL:https://www.discoverfrome.co.uk/event/dave-pearce-dance-anthems/
LOCATION:Cheese and Grain\, Market Yard\, Frome\, BA11 1BE
CATEGORIES:Concert,Discover Frome,DJ set,Music
ATTACH;FMTTYPE=image/jpeg:https://www.discoverfrome.co.uk/wp-content/uploads/2025/12/dave-pearce.jpg
GEO:51.2318708;-2.3202807
X-APPLE-STRUCTURED-LOCATION;VALUE=URI;X-ADDRESS=Cheese and Grain Market Yard Frome BA11 1BE;X-APPLE-RADIUS=500;X-TITLE=Market Yard:geo:-2.3202807,51.2318708
END:VEVENT
BEGIN:VEVENT
DTSTART;TZID=Europe/London:20260214T200000
DTEND;TZID=Europe/London:20260215T010000
DTSTAMP:20260420T143504
CREATED:20260108T133039Z
LAST-MODIFIED:20260108T133039Z
UID:10019599-1771099200-1771117200@www.discoverfrome.co.uk
SUMMARY:Dance for Love - Roots\, Reggae and Dub for Valentines Night
DESCRIPTION:Join us for a soulful night of roots reggae\, heavy deep dub and steppers. \nCelebrating love\, unity\, and good vibes this Valentine’s Day. Whether you’re coupled up\, flying solo\, or just here for the bass line\, this is the perfect space to feel the warmth of community and the heartbeat of DUB. \nExpect: \nHeavy bass\nClassic roots reggae and dub\nPositive vibrations and a love-filled atmosphere \nBring your dancing shoes and let the music move you. Love is the message\, and the music is the medium.
URL:https://www.discoverfrome.co.uk/event/dance-for-love-roots-reggae-and-dub-for-valentines-night/
LOCATION:Frome Cricket Club\, 30 Rodden Rd\, Frome\, BA11 2AH
CATEGORIES:Club night,Dance,Discover Frome,DJ set,Music,Nightlife
ATTACH;FMTTYPE=image/jpeg:https://www.discoverfrome.co.uk/wp-content/uploads/2026/01/joy-and-harmony-sound-system.jpg
END:VEVENT
BEGIN:VEVENT
DTSTART;TZID=Europe/London:20260206T190000
DTEND;TZID=Europe/London:20260206T230000
DTSTAMP:20260420T143504
CREATED:20251203T125632Z
LAST-MODIFIED:20251203T125632Z
UID:10019379-1770404400-1770418800@www.discoverfrome.co.uk
SUMMARY:The Allergies (DJ Set) – Live At The Tree House
DESCRIPTION:“The Allergies music is big\, bouncy and fat! Just how I like my funk” – Craig Charles\, BBC 6 Music. \nIf you like crazy turntable skills\, and hands-in-the-air beats\, all mixed up with some classy crowd-rocking music\, then an Allergies double-decking DJ set will be right up your street. “We like breaks\, funky basslines\, horns\, and dancefloor grooves. We’re inspired by the golden eras of funk\, soul\, disco and hip-hop\, and we try and cram that into three and a half minutes”. \nThe duo of DJ Moneyshot and Rackabeat have been delighting dancefloors and lighting up the radio airwaves since forming The Allergies and releasing their debut album in 2016. \nYear in\, year out\, they’ve sharpened their skills on the turntables and in the studio\, dropping one dynamite record after another. \nTouring the world\, clocking up A List status and Album of the Day gongs at BBC Radio 6 Music\, as well as soundtracking international ad campaigns\, the pair show no sign of stopping the fun. \nAfter consecutive top 40 albums\, the boys just dropped number seven – Freak The Speaker. \nAs usual\, the Bristol-based beatmakers have assembled a crack team to help bring their loops to life. LA rap legend\, Andy Cooper (Ugly Duckling) is back on board\, alongside the mighty pipes of Marietta Smith (House Gospel Choir). And British sax institution\, James Morton – Also all staples of The Allergies live show act. \nPlus\, guest spots from some super special MCs and vocalists from both sides of The Pond including Brooklyn’s own hip-hop heavyweight\, Ohmega Watts. Mercury Prize winner\, Dynamite MC. Afro futurist\, K.O.G. Welsh rap talent\, Skunkadelic. And British hip-hop veteran\, Dr Syntax. \nIt continues to build on what first bonded the pair\, after meeting on the festival circuit – A love of funk and hip-hop\, and the great melting pot that makes up the music. \nMoneyshot had already made a name for himself as a resident on Ninja Tune’s Solid Steel radio. Gaining worldwide fame for his DJ mixes\, with Rolling Stone magazine ranking him in their ’25 Greatest Internet DJ Mixes of All Time’ feature. \nAnd Rackabeat\, a successful drum ’n’ bass producer\, had already banged out a string of releases\, including remixing dance music royalty like Groove Armada. \nMixing this keen ear for a sample\, and some polished studio know-how\, provided the perfect formula for The Allergies sound. Inspired by producers like Cut Chemist\, Public Enemy’s Bomb Squad\, and the kaleidoscopic sampledelica of acts like The Avalanches and vintage De La Soul\, they raid the past to make music for the future. \nClassic tracks from their back catalogue like ‘God Walked Down’\, ’Felony’ and ‘Every Trick In The Book’\, which continue to rack up tens of millions of plays\, are prime examples of The Allergies vision – To take dusty grooves from forgotten wax and pull out soulful hooks\, add hip-hop energy and driving drums\, to make something new and exciting that hits your heart\, as much as it does your dancing feet. \nPlease note this is an 18+ event\, and the venue is accessed by stairs with no lift. If you have any enquiries please email thetreehouse@cheeseandgrain.com
URL:https://www.discoverfrome.co.uk/event/the-allergies-dj-set-live-at-the-tree-house/
LOCATION:The Tree House\, 35 Berkley Road\, Frome\, Somerset\, BA11 2EH\, United Kingdom
CATEGORIES:Concert,Discover Frome,DJ set,Music
ATTACH;FMTTYPE=image/jpeg:https://www.discoverfrome.co.uk/wp-content/uploads/2025/12/the-allergies.jpg
END:VEVENT
END:VCALENDAR