BEGIN:VCALENDAR
VERSION:2.0
PRODID:-//Discover Frome - ECPv6.15.20//NONSGML v1.0//EN
CALSCALE:GREGORIAN
METHOD:PUBLISH
X-ORIGINAL-URL:https://www.discoverfrome.co.uk
X-WR-CALDESC:Events for Discover Frome
REFRESH-INTERVAL;VALUE=DURATION:PT1H
X-Robots-Tag:noindex
X-PUBLISHED-TTL:PT1H
BEGIN:VTIMEZONE
TZID:Europe/London
BEGIN:DAYLIGHT
TZOFFSETFROM:+0000
TZOFFSETTO:+0100
TZNAME:BST
DTSTART:20250330T010000
END:DAYLIGHT
BEGIN:STANDARD
TZOFFSETFROM:+0100
TZOFFSETTO:+0000
TZNAME:GMT
DTSTART:20251026T010000
END:STANDARD
BEGIN:DAYLIGHT
TZOFFSETFROM:+0000
TZOFFSETTO:+0100
TZNAME:BST
DTSTART:20260329T010000
END:DAYLIGHT
BEGIN:STANDARD
TZOFFSETFROM:+0100
TZOFFSETTO:+0000
TZNAME:GMT
DTSTART:20261025T010000
END:STANDARD
BEGIN:DAYLIGHT
TZOFFSETFROM:+0000
TZOFFSETTO:+0100
TZNAME:BST
DTSTART:20270328T010000
END:DAYLIGHT
BEGIN:STANDARD
TZOFFSETFROM:+0100
TZOFFSETTO:+0000
TZNAME:GMT
DTSTART:20271031T010000
END:STANDARD
END:VTIMEZONE
BEGIN:VEVENT
DTSTART;TZID=Europe/London:20260503T100000
DTEND;TZID=Europe/London:20260503T150000
DTSTAMP:20260420T171159
CREATED:20260211T164120Z
LAST-MODIFIED:20260330T103000Z
UID:10020082-1777802400-1777820400@www.discoverfrome.co.uk
SUMMARY:The Frome Independent Market
DESCRIPTION:The Frome Independent is an award winning\, destination street market. We reclaim Frome’s high street once a month to showcase the best independent craftspeople\, designers\, makers\, food producers and vintage traders in the South West. \nThe market takes place on the first Sunday of the month from March to December and strives to be ‘more than a market’\, incorporating live music\, DJs\, street performance\, workshops and activities for children and adults alike on market days. \nThe market is a free event for visitors and has quickly grown to be one of the most significant elements in the region’s calendar attracting over 80\,000 visitors each year. \nVisitors to the market can find contemporary craft\, designer-made homewares\, ethical clothing and jewellery in our Designer-Maker section\, discover fledgling design start-ups in our Suitcase Sale\, have a rummage through vintage nostalgia in our Flea Market or browse indoor plants\, gardenalia and homewares in our Homes & Gardens section. Food lovers can discover local produce from cheese and cider to vegan cakes and kimchi. We work with Somerset Farmers Markets who curate a section for farmers\, growers and producers. There’s also a huge and vibrant range of street food to choose from.
URL:https://www.discoverfrome.co.uk/event/the-frome-independent-market/2026-05-03/
LOCATION:Frome Town Centre
CATEGORIES:Arts,Children,Clothing and textiles,Crafts,Dance,Discover Frome,DJ set,Family,Food and drink,Live band,Market,Music,Shopping,Sustainability
ATTACH;FMTTYPE=image/jpeg:https://www.discoverfrome.co.uk/wp-content/uploads/2025/02/the-frome-independent.jpg
GEO:51.231623663092;-2.3206995621115
END:VEVENT
BEGIN:VEVENT
DTSTART;TZID=Europe/London:20260607T100000
DTEND;TZID=Europe/London:20260607T150000
DTSTAMP:20260420T171159
CREATED:20260211T164120Z
LAST-MODIFIED:20260330T103000Z
UID:10020083-1780826400-1780844400@www.discoverfrome.co.uk
SUMMARY:The Frome Independent Market
DESCRIPTION:The Frome Independent is an award winning\, destination street market. We reclaim Frome’s high street once a month to showcase the best independent craftspeople\, designers\, makers\, food producers and vintage traders in the South West. \nThe market takes place on the first Sunday of the month from March to December and strives to be ‘more than a market’\, incorporating live music\, DJs\, street performance\, workshops and activities for children and adults alike on market days. \nThe market is a free event for visitors and has quickly grown to be one of the most significant elements in the region’s calendar attracting over 80\,000 visitors each year. \nVisitors to the market can find contemporary craft\, designer-made homewares\, ethical clothing and jewellery in our Designer-Maker section\, discover fledgling design start-ups in our Suitcase Sale\, have a rummage through vintage nostalgia in our Flea Market or browse indoor plants\, gardenalia and homewares in our Homes & Gardens section. Food lovers can discover local produce from cheese and cider to vegan cakes and kimchi. We work with Somerset Farmers Markets who curate a section for farmers\, growers and producers. There’s also a huge and vibrant range of street food to choose from.
URL:https://www.discoverfrome.co.uk/event/the-frome-independent-market/2026-06-07/
LOCATION:Frome Town Centre
CATEGORIES:Arts,Children,Clothing and textiles,Crafts,Dance,Discover Frome,DJ set,Family,Food and drink,Live band,Market,Music,Shopping,Sustainability
ATTACH;FMTTYPE=image/jpeg:https://www.discoverfrome.co.uk/wp-content/uploads/2025/02/the-frome-independent.jpg
GEO:51.231623663092;-2.3206995621115
END:VEVENT
BEGIN:VEVENT
DTSTART;TZID=Europe/London:20260612T190000
DTEND;TZID=Europe/London:20260612T210000
DTSTAMP:20260420T171159
CREATED:20260205T104239Z
LAST-MODIFIED:20260205T104239Z
UID:10019757-1781290800-1781298000@www.discoverfrome.co.uk
SUMMARY:Vernon Kay – Dance Sounds Of The 90s
DESCRIPTION:Vernon Kay is hitting the road with a record box time machine taking us back to the heady\, hedonistic days of house phones\, Sega Megadrives and Sony Discmans… and raves in fields everywhere. \nWith the internet barely invented\, the 90s brought us some of the greatest tunes of all time\, from the Shamen to The Prodigy\, Snap! To Underworld\, JX to Ultra Nate and on and on and on – you’ll find them all and much more at Dance Sounds of the 90s: The Live Tour with Vernon Kay. \nVernon hosts the iconic show on BBC Radio 2 and he’s buzzing to escape the shackles of the studio for some touring mischief\, so dig out those classic rave outfits and prepare for lift off. \nLike Lisa Moorish sang\, he’s Mr Friday Night\, and there’s Nothing He Won’t Do to deliver the absolute best night out. He KNOWS Rhythm Is A Dancer so Open Your Mind and don’t dress like a Swamp Thing. \nThe 90s were of course the very best era for dance sounds so stand by for the ultimate nostalgia night coming to a venue near YOU.
URL:https://www.discoverfrome.co.uk/event/vernon-kay-dance-sounds-of-the-90s/
LOCATION:Cheese and Grain\, Market Yard\, Frome\, BA11 1BE
CATEGORIES:Discover Frome,DJ set,Music
ATTACH;FMTTYPE=image/jpeg:https://www.discoverfrome.co.uk/wp-content/uploads/2026/02/vernon-kay.jpg
GEO:51.2318708;-2.3202807
X-APPLE-STRUCTURED-LOCATION;VALUE=URI;X-ADDRESS=Cheese and Grain Market Yard Frome BA11 1BE;X-APPLE-RADIUS=500;X-TITLE=Market Yard:geo:-2.3202807,51.2318708
END:VEVENT
BEGIN:VEVENT
DTSTART;TZID=Europe/London:20260705T100000
DTEND;TZID=Europe/London:20260705T150000
DTSTAMP:20260420T171159
CREATED:20260211T164120Z
LAST-MODIFIED:20260330T103000Z
UID:10020084-1783245600-1783263600@www.discoverfrome.co.uk
SUMMARY:The Frome Independent Market
DESCRIPTION:The Frome Independent is an award winning\, destination street market. We reclaim Frome’s high street once a month to showcase the best independent craftspeople\, designers\, makers\, food producers and vintage traders in the South West. \nThe market takes place on the first Sunday of the month from March to December and strives to be ‘more than a market’\, incorporating live music\, DJs\, street performance\, workshops and activities for children and adults alike on market days. \nThe market is a free event for visitors and has quickly grown to be one of the most significant elements in the region’s calendar attracting over 80\,000 visitors each year. \nVisitors to the market can find contemporary craft\, designer-made homewares\, ethical clothing and jewellery in our Designer-Maker section\, discover fledgling design start-ups in our Suitcase Sale\, have a rummage through vintage nostalgia in our Flea Market or browse indoor plants\, gardenalia and homewares in our Homes & Gardens section. Food lovers can discover local produce from cheese and cider to vegan cakes and kimchi. We work with Somerset Farmers Markets who curate a section for farmers\, growers and producers. There’s also a huge and vibrant range of street food to choose from.
URL:https://www.discoverfrome.co.uk/event/the-frome-independent-market/2026-07-05/
LOCATION:Frome Town Centre
CATEGORIES:Arts,Children,Clothing and textiles,Crafts,Dance,Discover Frome,DJ set,Family,Food and drink,Live band,Market,Music,Shopping,Sustainability
ATTACH;FMTTYPE=image/jpeg:https://www.discoverfrome.co.uk/wp-content/uploads/2025/02/the-frome-independent.jpg
GEO:51.231623663092;-2.3206995621115
END:VEVENT
BEGIN:VEVENT
DTSTART;TZID=Europe/London:20260802T100000
DTEND;TZID=Europe/London:20260802T150000
DTSTAMP:20260420T171159
CREATED:20260211T164120Z
LAST-MODIFIED:20260330T103000Z
UID:10020085-1785664800-1785682800@www.discoverfrome.co.uk
SUMMARY:The Frome Independent Market
DESCRIPTION:The Frome Independent is an award winning\, destination street market. We reclaim Frome’s high street once a month to showcase the best independent craftspeople\, designers\, makers\, food producers and vintage traders in the South West. \nThe market takes place on the first Sunday of the month from March to December and strives to be ‘more than a market’\, incorporating live music\, DJs\, street performance\, workshops and activities for children and adults alike on market days. \nThe market is a free event for visitors and has quickly grown to be one of the most significant elements in the region’s calendar attracting over 80\,000 visitors each year. \nVisitors to the market can find contemporary craft\, designer-made homewares\, ethical clothing and jewellery in our Designer-Maker section\, discover fledgling design start-ups in our Suitcase Sale\, have a rummage through vintage nostalgia in our Flea Market or browse indoor plants\, gardenalia and homewares in our Homes & Gardens section. Food lovers can discover local produce from cheese and cider to vegan cakes and kimchi. We work with Somerset Farmers Markets who curate a section for farmers\, growers and producers. There’s also a huge and vibrant range of street food to choose from.
URL:https://www.discoverfrome.co.uk/event/the-frome-independent-market/2026-08-02/
LOCATION:Frome Town Centre
CATEGORIES:Arts,Children,Clothing and textiles,Crafts,Dance,Discover Frome,DJ set,Family,Food and drink,Live band,Market,Music,Shopping,Sustainability
ATTACH;FMTTYPE=image/jpeg:https://www.discoverfrome.co.uk/wp-content/uploads/2025/02/the-frome-independent.jpg
GEO:51.231623663092;-2.3206995621115
END:VEVENT
BEGIN:VEVENT
DTSTART;TZID=Europe/London:20260906T100000
DTEND;TZID=Europe/London:20260906T150000
DTSTAMP:20260420T171159
CREATED:20260211T164120Z
LAST-MODIFIED:20260330T103000Z
UID:10020086-1788688800-1788706800@www.discoverfrome.co.uk
SUMMARY:The Frome Independent Market
DESCRIPTION:The Frome Independent is an award winning\, destination street market. We reclaim Frome’s high street once a month to showcase the best independent craftspeople\, designers\, makers\, food producers and vintage traders in the South West. \nThe market takes place on the first Sunday of the month from March to December and strives to be ‘more than a market’\, incorporating live music\, DJs\, street performance\, workshops and activities for children and adults alike on market days. \nThe market is a free event for visitors and has quickly grown to be one of the most significant elements in the region’s calendar attracting over 80\,000 visitors each year. \nVisitors to the market can find contemporary craft\, designer-made homewares\, ethical clothing and jewellery in our Designer-Maker section\, discover fledgling design start-ups in our Suitcase Sale\, have a rummage through vintage nostalgia in our Flea Market or browse indoor plants\, gardenalia and homewares in our Homes & Gardens section. Food lovers can discover local produce from cheese and cider to vegan cakes and kimchi. We work with Somerset Farmers Markets who curate a section for farmers\, growers and producers. There’s also a huge and vibrant range of street food to choose from.
URL:https://www.discoverfrome.co.uk/event/the-frome-independent-market/2026-09-06/
LOCATION:Frome Town Centre
CATEGORIES:Arts,Children,Clothing and textiles,Crafts,Dance,Discover Frome,DJ set,Family,Food and drink,Live band,Market,Music,Shopping,Sustainability
ATTACH;FMTTYPE=image/jpeg:https://www.discoverfrome.co.uk/wp-content/uploads/2025/02/the-frome-independent.jpg
GEO:51.231623663092;-2.3206995621115
END:VEVENT
BEGIN:VEVENT
DTSTART;TZID=Europe/London:20261002T193000
DTEND;TZID=Europe/London:20261002T213000
DTSTAMP:20260420T171159
CREATED:20260206T105704Z
LAST-MODIFIED:20260206T105704Z
UID:10019773-1790969400-1790976600@www.discoverfrome.co.uk
SUMMARY:Jo Whiley’s 90s Anthems
DESCRIPTION:Jo Whiley is quite simply the ultimate authority on British music – and the voice and face of a generation is headed your way with her dazzling show as she rummages through her record bag to dig out the very best of 90s Anthems. \nNo-one knows the 90s like Jo – she was right there on the cutting-edge\, leading the charge as Britpop blew up\, dance music exploded and indie went wild. \nNow you can relive those magical memories on a dancefloor once again with the queen of the 90s… from Oasis to Blur\, The Chems to The Prodigy\, let Jo take you on a personal tour of her finest musical memories of the decade that defined them all.
URL:https://www.discoverfrome.co.uk/event/jo-whileys-90s-anthems/
LOCATION:Cheese and Grain\, Market Yard\, Frome\, BA11 1BE
CATEGORIES:Discover Frome,DJ set,Music
ATTACH;FMTTYPE=image/jpeg:https://www.discoverfrome.co.uk/wp-content/uploads/2026/02/JW90-FB-EVENT-PAGE-e1770375419370.jpg
GEO:51.2318708;-2.3202807
X-APPLE-STRUCTURED-LOCATION;VALUE=URI;X-ADDRESS=Cheese and Grain Market Yard Frome BA11 1BE;X-APPLE-RADIUS=500;X-TITLE=Market Yard:geo:-2.3202807,51.2318708
END:VEVENT
BEGIN:VEVENT
DTSTART;TZID=Europe/London:20261004T100000
DTEND;TZID=Europe/London:20261004T150000
DTSTAMP:20260420T171159
CREATED:20260211T164120Z
LAST-MODIFIED:20260330T103000Z
UID:10020087-1791108000-1791126000@www.discoverfrome.co.uk
SUMMARY:The Frome Independent Market
DESCRIPTION:The Frome Independent is an award winning\, destination street market. We reclaim Frome’s high street once a month to showcase the best independent craftspeople\, designers\, makers\, food producers and vintage traders in the South West. \nThe market takes place on the first Sunday of the month from March to December and strives to be ‘more than a market’\, incorporating live music\, DJs\, street performance\, workshops and activities for children and adults alike on market days. \nThe market is a free event for visitors and has quickly grown to be one of the most significant elements in the region’s calendar attracting over 80\,000 visitors each year. \nVisitors to the market can find contemporary craft\, designer-made homewares\, ethical clothing and jewellery in our Designer-Maker section\, discover fledgling design start-ups in our Suitcase Sale\, have a rummage through vintage nostalgia in our Flea Market or browse indoor plants\, gardenalia and homewares in our Homes & Gardens section. Food lovers can discover local produce from cheese and cider to vegan cakes and kimchi. We work with Somerset Farmers Markets who curate a section for farmers\, growers and producers. There’s also a huge and vibrant range of street food to choose from.
URL:https://www.discoverfrome.co.uk/event/the-frome-independent-market/2026-10-04/
LOCATION:Frome Town Centre
CATEGORIES:Arts,Children,Clothing and textiles,Crafts,Dance,Discover Frome,DJ set,Family,Food and drink,Live band,Market,Music,Shopping,Sustainability
ATTACH;FMTTYPE=image/jpeg:https://www.discoverfrome.co.uk/wp-content/uploads/2025/02/the-frome-independent.jpg
GEO:51.231623663092;-2.3206995621115
END:VEVENT
BEGIN:VEVENT
DTSTART;TZID=Europe/London:20261101T100000
DTEND;TZID=Europe/London:20261101T150000
DTSTAMP:20260420T171159
CREATED:20260211T164120Z
LAST-MODIFIED:20260330T103000Z
UID:10020088-1793527200-1793545200@www.discoverfrome.co.uk
SUMMARY:The Frome Independent Market
DESCRIPTION:The Frome Independent is an award winning\, destination street market. We reclaim Frome’s high street once a month to showcase the best independent craftspeople\, designers\, makers\, food producers and vintage traders in the South West. \nThe market takes place on the first Sunday of the month from March to December and strives to be ‘more than a market’\, incorporating live music\, DJs\, street performance\, workshops and activities for children and adults alike on market days. \nThe market is a free event for visitors and has quickly grown to be one of the most significant elements in the region’s calendar attracting over 80\,000 visitors each year. \nVisitors to the market can find contemporary craft\, designer-made homewares\, ethical clothing and jewellery in our Designer-Maker section\, discover fledgling design start-ups in our Suitcase Sale\, have a rummage through vintage nostalgia in our Flea Market or browse indoor plants\, gardenalia and homewares in our Homes & Gardens section. Food lovers can discover local produce from cheese and cider to vegan cakes and kimchi. We work with Somerset Farmers Markets who curate a section for farmers\, growers and producers. There’s also a huge and vibrant range of street food to choose from.
URL:https://www.discoverfrome.co.uk/event/the-frome-independent-market/2026-11-01/
LOCATION:Frome Town Centre
CATEGORIES:Arts,Children,Clothing and textiles,Crafts,Dance,Discover Frome,DJ set,Family,Food and drink,Live band,Market,Music,Shopping,Sustainability
ATTACH;FMTTYPE=image/jpeg:https://www.discoverfrome.co.uk/wp-content/uploads/2025/02/the-frome-independent.jpg
GEO:51.231623663092;-2.3206995621115
END:VEVENT
BEGIN:VEVENT
DTSTART;TZID=Europe/London:20261121T150000
DTEND;TZID=Europe/London:20261121T170000
DTSTAMP:20260420T171159
CREATED:20260206T113325Z
LAST-MODIFIED:20260206T113325Z
UID:10019783-1795273200-1795280400@www.discoverfrome.co.uk
SUMMARY:Frome 80s Fest 2026
DESCRIPTION:Frome biggest 80s party returns in 2026 by popular demand\, following selling out yet again in 2025! First artists announced… \nMartin Kemp – Back To The 80s DJ Set\nThe Spandau Ballet legend\, movie & TV icon\, and all-around national treasure returns with the most in-demand 80s show touring in the UK. Pure 80s gold\, we know this much is true. \nRetro Electro\nRetro Electro are aa sensational 5-piece 80s cover band bringing the best hits of the decade to life. Expect to hear classics from the likes of Depeche Mode\, Prince\, David Bowie\, Simple Minds\, Human League\, Tears for Fears\, Spandau Ballet\, ABC\, King\, Gary Numan\, Level 42\, Thompson Twins\, Blancmange\, Kraftwerk\, Style Council to name a few! \nHit Or Miss DJs\nRegular tour support for Martin Kemp and Frome hometown boys Hit Or Miss DJs will be spinning the best 80s anthems. \n+ much more to be announced!
URL:https://www.discoverfrome.co.uk/event/frome-80s-fest-2026/
LOCATION:Cheese and Grain\, Market Yard\, Frome\, BA11 1BE
CATEGORIES:Concert,Discover Frome,DJ set,Live band,Music
ATTACH;FMTTYPE=image/jpeg:https://www.discoverfrome.co.uk/wp-content/uploads/2026/02/Frome-80s-Festival-Banner-e1770377600326.jpg
GEO:51.2318708;-2.3202807
X-APPLE-STRUCTURED-LOCATION;VALUE=URI;X-ADDRESS=Cheese and Grain Market Yard Frome BA11 1BE;X-APPLE-RADIUS=500;X-TITLE=Market Yard:geo:-2.3202807,51.2318708
END:VEVENT
BEGIN:VEVENT
DTSTART;TZID=Europe/London:20261206T100000
DTEND;TZID=Europe/London:20261206T150000
DTSTAMP:20260420T171159
CREATED:20260211T164120Z
LAST-MODIFIED:20260330T103000Z
UID:10020089-1796551200-1796569200@www.discoverfrome.co.uk
SUMMARY:The Frome Independent Market
DESCRIPTION:The Frome Independent is an award winning\, destination street market. We reclaim Frome’s high street once a month to showcase the best independent craftspeople\, designers\, makers\, food producers and vintage traders in the South West. \nThe market takes place on the first Sunday of the month from March to December and strives to be ‘more than a market’\, incorporating live music\, DJs\, street performance\, workshops and activities for children and adults alike on market days. \nThe market is a free event for visitors and has quickly grown to be one of the most significant elements in the region’s calendar attracting over 80\,000 visitors each year. \nVisitors to the market can find contemporary craft\, designer-made homewares\, ethical clothing and jewellery in our Designer-Maker section\, discover fledgling design start-ups in our Suitcase Sale\, have a rummage through vintage nostalgia in our Flea Market or browse indoor plants\, gardenalia and homewares in our Homes & Gardens section. Food lovers can discover local produce from cheese and cider to vegan cakes and kimchi. We work with Somerset Farmers Markets who curate a section for farmers\, growers and producers. There’s also a huge and vibrant range of street food to choose from.
URL:https://www.discoverfrome.co.uk/event/the-frome-independent-market/2026-12-06/
LOCATION:Frome Town Centre
CATEGORIES:Arts,Children,Clothing and textiles,Crafts,Dance,Discover Frome,DJ set,Family,Food and drink,Live band,Market,Music,Shopping,Sustainability
ATTACH;FMTTYPE=image/jpeg:https://www.discoverfrome.co.uk/wp-content/uploads/2025/02/the-frome-independent.jpg
GEO:51.231623663092;-2.3206995621115
END:VEVENT
END:VCALENDAR