BEGIN:VCALENDAR
VERSION:2.0
PRODID:-//Discover Frome - ECPv6.15.20//NONSGML v1.0//EN
CALSCALE:GREGORIAN
METHOD:PUBLISH
X-WR-CALNAME:Discover Frome
X-ORIGINAL-URL:https://www.discoverfrome.co.uk
X-WR-CALDESC:Events for Discover Frome
REFRESH-INTERVAL;VALUE=DURATION:PT1H
X-Robots-Tag:noindex
X-PUBLISHED-TTL:PT1H
BEGIN:VTIMEZONE
TZID:Europe/London
BEGIN:DAYLIGHT
TZOFFSETFROM:+0000
TZOFFSETTO:+0100
TZNAME:BST
DTSTART:20260329T010000
END:DAYLIGHT
BEGIN:STANDARD
TZOFFSETFROM:+0100
TZOFFSETTO:+0000
TZNAME:GMT
DTSTART:20261025T010000
END:STANDARD
BEGIN:DAYLIGHT
TZOFFSETFROM:+0000
TZOFFSETTO:+0100
TZNAME:BST
DTSTART:20270328T010000
END:DAYLIGHT
BEGIN:STANDARD
TZOFFSETFROM:+0100
TZOFFSETTO:+0000
TZNAME:GMT
DTSTART:20271031T010000
END:STANDARD
BEGIN:DAYLIGHT
TZOFFSETFROM:+0000
TZOFFSETTO:+0100
TZNAME:BST
DTSTART:20280326T010000
END:DAYLIGHT
BEGIN:STANDARD
TZOFFSETFROM:+0100
TZOFFSETTO:+0000
TZNAME:GMT
DTSTART:20281029T010000
END:STANDARD
END:VTIMEZONE
BEGIN:VEVENT
DTSTART;TZID=Europe/London:20270203T190000
DTEND;TZID=Europe/London:20270203T203000
DTSTAMP:20260423T214658
CREATED:20260211T123027Z
LAST-MODIFIED:20260211T123027Z
UID:10020013-1801681200-1801686600@www.discoverfrome.co.uk
SUMMARY:Improv Lab
DESCRIPTION:Join our upcoming 5-week improv course – perfect for beginners and enthusiasts alike. Adults only. \nNo scripts. No pressure. Just a playful and welcoming space to invent characters\, create stories\, and discover the joy of saying “yes\, and…” to every idea. \nLed by an experienced facilitator\, each session invites you to participate in a mix of improvised scenes and games. It’s a laidback\, hilarious and a genuinely safe place to be totally ridiculous. \nAlong the way\, you will: \n\nReconnect with your sense of playfulness\nCultivate creativity and quick thinking\nBuild confidence as a speaker and perfomer\nStep outside your comfort zone\nJoin a growing\, supportive community
URL:https://www.discoverfrome.co.uk/event/improv-lab/2027-02-03/
LOCATION:The Awesome Studio\, Station Approach\, Frome\, BA11 1RE\, United Kingdom
CATEGORIES:Arts,Courses,Discover Frome,Theatre,Workshop
ATTACH;FMTTYPE=image/jpeg:https://www.discoverfrome.co.uk/wp-content/uploads/2026/02/improv-jam.jpg
END:VEVENT
BEGIN:VEVENT
DTSTART;TZID=Europe/London:20270210T103000
DTEND;TZID=Europe/London:20270210T114500
DTSTAMP:20260423T214658
CREATED:20260211T102553Z
LAST-MODIFIED:20260211T102553Z
UID:10019859-1802255400-1802259900@www.discoverfrome.co.uk
SUMMARY:Dancing For Wellbeing and Joy!
DESCRIPTION:Helena Eden will lead you in varied and easy to follow routines to all styles of music\, (high and low impact options) and help you experience the power and joy of dance. Her classes are great fun and you will leave feeling energised\, with a smile on your face! \nThis series of 5 classes starts on Feb 25th and will continue after the Easter break.\nHurry and book to ensure your place! Please book before the 20th Feb \nTo book contact the Box Office at The Cheese and Grain – 01373 455420\nor online at www.fromecommed.org/courses – £43.75 for 5 classes \nFor more information you can call Helena direct on 07970 391543
URL:https://www.discoverfrome.co.uk/event/dancing-for-wellbeing-and-joy/2027-02-10/
LOCATION:Bennett Centre\, St John's Church Hall\,\, Vicarage Street\, Frome\, BA11 1PX
CATEGORIES:Dance,Discover Frome,Health and wellbeing
ATTACH;FMTTYPE=image/jpeg:https://www.discoverfrome.co.uk/wp-content/uploads/2026/02/528131390_1661982557801317_4697291804771843846_n.jpg
ORGANIZER;CN="Frome Comm Ed":MAILTO:info@fromecommed.org.uk
END:VEVENT
BEGIN:VEVENT
DTSTART;TZID=Europe/London:20270210T190000
DTEND;TZID=Europe/London:20270210T203000
DTSTAMP:20260423T214658
CREATED:20260211T123027Z
LAST-MODIFIED:20260211T123027Z
UID:10020014-1802286000-1802291400@www.discoverfrome.co.uk
SUMMARY:Improv Lab
DESCRIPTION:Join our upcoming 5-week improv course – perfect for beginners and enthusiasts alike. Adults only. \nNo scripts. No pressure. Just a playful and welcoming space to invent characters\, create stories\, and discover the joy of saying “yes\, and…” to every idea. \nLed by an experienced facilitator\, each session invites you to participate in a mix of improvised scenes and games. It’s a laidback\, hilarious and a genuinely safe place to be totally ridiculous. \nAlong the way\, you will: \n\nReconnect with your sense of playfulness\nCultivate creativity and quick thinking\nBuild confidence as a speaker and perfomer\nStep outside your comfort zone\nJoin a growing\, supportive community
URL:https://www.discoverfrome.co.uk/event/improv-lab/2027-02-10/
LOCATION:The Awesome Studio\, Station Approach\, Frome\, BA11 1RE\, United Kingdom
CATEGORIES:Arts,Courses,Discover Frome,Theatre,Workshop
ATTACH;FMTTYPE=image/jpeg:https://www.discoverfrome.co.uk/wp-content/uploads/2026/02/improv-jam.jpg
END:VEVENT
BEGIN:VEVENT
DTSTART;TZID=Europe/London:20270211T200000
DTEND;TZID=Europe/London:20270211T220000
DTSTAMP:20260423T214658
CREATED:20260417T141138Z
LAST-MODIFIED:20260417T141138Z
UID:10020645-1802376000-1802383200@www.discoverfrome.co.uk
SUMMARY:Harriet Kemsley: Floozy
DESCRIPTION:Harriet’s life has been in constant chaos for as long as she can remember. So what happens when things start to go right for the multi-award-winning stand-up comedian?\nFollowing her eye-opening appearance on Last One Laughing UK\, Harriet is back on tour with a new show about dating\, mushrooms\, and how she’s trying her absolute best to be a bit of a floozy.\nAs seen and heard on Live at the Apollo\, Would I Lie to You?\, 8 Out of 10 Cats Does Countdown\, and co-host of the wildly successful Single Ladies In Your Area podcast. \nPresented by Plosive Live in association with United Agents \nRunning time: 120 minutes including 20 minute interval\nRecommended: 14+ some strong language\nTickets: £18.00
URL:https://www.discoverfrome.co.uk/event/harriet-kemsley-floozy/
LOCATION:Merlin Theatre\, Bath Road\, Frome\, BA11 2HG 
CATEGORIES:Comedy,Discover Frome,Theatre
ATTACH;FMTTYPE=image/jpeg:https://www.discoverfrome.co.uk/wp-content/uploads/2026/04/Harriet-Kemsley.jpg
ORGANIZER;CN="Merlin Theatre":MAILTO:merlintheatremarketing@gmail.com
GEO:51.2412644;-2.3118242
X-APPLE-STRUCTURED-LOCATION;VALUE=URI;X-ADDRESS=Merlin Theatre Bath Road Frome BA11 2HG;X-APPLE-RADIUS=500;X-TITLE=Bath Road:geo:-2.3118242,51.2412644
END:VEVENT
BEGIN:VEVENT
DTSTART;TZID=Europe/London:20270214T180000
DTEND;TZID=Europe/London:20270214T193000
DTSTAMP:20260423T214658
CREATED:20260126T125104Z
LAST-MODIFIED:20260126T125104Z
UID:10019673-1802628000-1802633400@www.discoverfrome.co.uk
SUMMARY:Pregnancy Mindfulness
DESCRIPTION:Pregnant and looking for some time and space to connect with yourself\, your baby and others going through pregnancy? \nThese monthly sessions give you time to pause\, tune into yourself and relax. No experience necessary – the simple meditations will be guided\, you can sit in a chair\, bring along a cushion or a yoga mat (and a blanket!) if you’d prefer to lie down and fully rest. \nThere’s the option for a little gentle movement after the relaxation\, so you can land back in the room before we come back to circle and there’s the chance to chat and share your experience and reflect on your pregnancy. \nAdvance booking recommended\, and it’s a pay-what-you-feel workshop.
URL:https://www.discoverfrome.co.uk/event/pregnancy-mindfulness/2027-02-14/
LOCATION:Rise Frome\, Whittox Lane\, Frome\, Somerset\, BA11 3BY\, United Kingdom
CATEGORIES:Discover Frome,Health and wellbeing,Workshop
ATTACH;FMTTYPE=image/jpeg:https://www.discoverfrome.co.uk/wp-content/uploads/2026/01/pregnancy-mindfulness-e1769431853662.jpg
ORGANIZER;CN="Emilie Joy Rowell":MAILTO:thejoyofemilie@me.com
END:VEVENT
BEGIN:VEVENT
DTSTART;TZID=Europe/London:20270217T103000
DTEND;TZID=Europe/London:20270217T114500
DTSTAMP:20260423T214658
CREATED:20260211T102553Z
LAST-MODIFIED:20260211T102553Z
UID:10019860-1802860200-1802864700@www.discoverfrome.co.uk
SUMMARY:Dancing For Wellbeing and Joy!
DESCRIPTION:Helena Eden will lead you in varied and easy to follow routines to all styles of music\, (high and low impact options) and help you experience the power and joy of dance. Her classes are great fun and you will leave feeling energised\, with a smile on your face! \nThis series of 5 classes starts on Feb 25th and will continue after the Easter break.\nHurry and book to ensure your place! Please book before the 20th Feb \nTo book contact the Box Office at The Cheese and Grain – 01373 455420\nor online at www.fromecommed.org/courses – £43.75 for 5 classes \nFor more information you can call Helena direct on 07970 391543
URL:https://www.discoverfrome.co.uk/event/dancing-for-wellbeing-and-joy/2027-02-17/
LOCATION:Bennett Centre\, St John's Church Hall\,\, Vicarage Street\, Frome\, BA11 1PX
CATEGORIES:Dance,Discover Frome,Health and wellbeing
ATTACH;FMTTYPE=image/jpeg:https://www.discoverfrome.co.uk/wp-content/uploads/2026/02/528131390_1661982557801317_4697291804771843846_n.jpg
ORGANIZER;CN="Frome Comm Ed":MAILTO:info@fromecommed.org.uk
END:VEVENT
BEGIN:VEVENT
DTSTART;TZID=Europe/London:20270217T190000
DTEND;TZID=Europe/London:20270217T203000
DTSTAMP:20260423T214658
CREATED:20260211T123027Z
LAST-MODIFIED:20260211T123027Z
UID:10020015-1802890800-1802896200@www.discoverfrome.co.uk
SUMMARY:Improv Lab
DESCRIPTION:Join our upcoming 5-week improv course – perfect for beginners and enthusiasts alike. Adults only. \nNo scripts. No pressure. Just a playful and welcoming space to invent characters\, create stories\, and discover the joy of saying “yes\, and…” to every idea. \nLed by an experienced facilitator\, each session invites you to participate in a mix of improvised scenes and games. It’s a laidback\, hilarious and a genuinely safe place to be totally ridiculous. \nAlong the way\, you will: \n\nReconnect with your sense of playfulness\nCultivate creativity and quick thinking\nBuild confidence as a speaker and perfomer\nStep outside your comfort zone\nJoin a growing\, supportive community
URL:https://www.discoverfrome.co.uk/event/improv-lab/2027-02-17/
LOCATION:The Awesome Studio\, Station Approach\, Frome\, BA11 1RE\, United Kingdom
CATEGORIES:Arts,Courses,Discover Frome,Theatre,Workshop
ATTACH;FMTTYPE=image/jpeg:https://www.discoverfrome.co.uk/wp-content/uploads/2026/02/improv-jam.jpg
END:VEVENT
BEGIN:VEVENT
DTSTART;TZID=Europe/London:20270224T103000
DTEND;TZID=Europe/London:20270224T114500
DTSTAMP:20260423T214658
CREATED:20260211T102553Z
LAST-MODIFIED:20260211T102553Z
UID:10019861-1803465000-1803469500@www.discoverfrome.co.uk
SUMMARY:Dancing For Wellbeing and Joy!
DESCRIPTION:Helena Eden will lead you in varied and easy to follow routines to all styles of music\, (high and low impact options) and help you experience the power and joy of dance. Her classes are great fun and you will leave feeling energised\, with a smile on your face! \nThis series of 5 classes starts on Feb 25th and will continue after the Easter break.\nHurry and book to ensure your place! Please book before the 20th Feb \nTo book contact the Box Office at The Cheese and Grain – 01373 455420\nor online at www.fromecommed.org/courses – £43.75 for 5 classes \nFor more information you can call Helena direct on 07970 391543
URL:https://www.discoverfrome.co.uk/event/dancing-for-wellbeing-and-joy/2027-02-24/
LOCATION:Bennett Centre\, St John's Church Hall\,\, Vicarage Street\, Frome\, BA11 1PX
CATEGORIES:Dance,Discover Frome,Health and wellbeing
ATTACH;FMTTYPE=image/jpeg:https://www.discoverfrome.co.uk/wp-content/uploads/2026/02/528131390_1661982557801317_4697291804771843846_n.jpg
ORGANIZER;CN="Frome Comm Ed":MAILTO:info@fromecommed.org.uk
END:VEVENT
BEGIN:VEVENT
DTSTART;TZID=Europe/London:20270224T190000
DTEND;TZID=Europe/London:20270224T203000
DTSTAMP:20260423T214658
CREATED:20260211T123027Z
LAST-MODIFIED:20260211T123027Z
UID:10020016-1803495600-1803501000@www.discoverfrome.co.uk
SUMMARY:Improv Lab
DESCRIPTION:Join our upcoming 5-week improv course – perfect for beginners and enthusiasts alike. Adults only. \nNo scripts. No pressure. Just a playful and welcoming space to invent characters\, create stories\, and discover the joy of saying “yes\, and…” to every idea. \nLed by an experienced facilitator\, each session invites you to participate in a mix of improvised scenes and games. It’s a laidback\, hilarious and a genuinely safe place to be totally ridiculous. \nAlong the way\, you will: \n\nReconnect with your sense of playfulness\nCultivate creativity and quick thinking\nBuild confidence as a speaker and perfomer\nStep outside your comfort zone\nJoin a growing\, supportive community
URL:https://www.discoverfrome.co.uk/event/improv-lab/2027-02-24/
LOCATION:The Awesome Studio\, Station Approach\, Frome\, BA11 1RE\, United Kingdom
CATEGORIES:Arts,Courses,Discover Frome,Theatre,Workshop
ATTACH;FMTTYPE=image/jpeg:https://www.discoverfrome.co.uk/wp-content/uploads/2026/02/improv-jam.jpg
END:VEVENT
BEGIN:VEVENT
DTSTART;TZID=Europe/London:20270303T103000
DTEND;TZID=Europe/London:20270303T114500
DTSTAMP:20260423T214658
CREATED:20260211T102553Z
LAST-MODIFIED:20260211T102553Z
UID:10019862-1804069800-1804074300@www.discoverfrome.co.uk
SUMMARY:Dancing For Wellbeing and Joy!
DESCRIPTION:Helena Eden will lead you in varied and easy to follow routines to all styles of music\, (high and low impact options) and help you experience the power and joy of dance. Her classes are great fun and you will leave feeling energised\, with a smile on your face! \nThis series of 5 classes starts on Feb 25th and will continue after the Easter break.\nHurry and book to ensure your place! Please book before the 20th Feb \nTo book contact the Box Office at The Cheese and Grain – 01373 455420\nor online at www.fromecommed.org/courses – £43.75 for 5 classes \nFor more information you can call Helena direct on 07970 391543
URL:https://www.discoverfrome.co.uk/event/dancing-for-wellbeing-and-joy/2027-03-03/
LOCATION:Bennett Centre\, St John's Church Hall\,\, Vicarage Street\, Frome\, BA11 1PX
CATEGORIES:Dance,Discover Frome,Health and wellbeing
ATTACH;FMTTYPE=image/jpeg:https://www.discoverfrome.co.uk/wp-content/uploads/2026/02/528131390_1661982557801317_4697291804771843846_n.jpg
ORGANIZER;CN="Frome Comm Ed":MAILTO:info@fromecommed.org.uk
END:VEVENT
BEGIN:VEVENT
DTSTART;TZID=Europe/London:20270303T190000
DTEND;TZID=Europe/London:20270303T203000
DTSTAMP:20260423T214658
CREATED:20260211T123027Z
LAST-MODIFIED:20260211T123027Z
UID:10020017-1804100400-1804105800@www.discoverfrome.co.uk
SUMMARY:Improv Lab
DESCRIPTION:Join our upcoming 5-week improv course – perfect for beginners and enthusiasts alike. Adults only. \nNo scripts. No pressure. Just a playful and welcoming space to invent characters\, create stories\, and discover the joy of saying “yes\, and…” to every idea. \nLed by an experienced facilitator\, each session invites you to participate in a mix of improvised scenes and games. It’s a laidback\, hilarious and a genuinely safe place to be totally ridiculous. \nAlong the way\, you will: \n\nReconnect with your sense of playfulness\nCultivate creativity and quick thinking\nBuild confidence as a speaker and perfomer\nStep outside your comfort zone\nJoin a growing\, supportive community
URL:https://www.discoverfrome.co.uk/event/improv-lab/2027-03-03/
LOCATION:The Awesome Studio\, Station Approach\, Frome\, BA11 1RE\, United Kingdom
CATEGORIES:Arts,Courses,Discover Frome,Theatre,Workshop
ATTACH;FMTTYPE=image/jpeg:https://www.discoverfrome.co.uk/wp-content/uploads/2026/02/improv-jam.jpg
END:VEVENT
BEGIN:VEVENT
DTSTART;TZID=Europe/London:20270310T103000
DTEND;TZID=Europe/London:20270310T114500
DTSTAMP:20260423T214658
CREATED:20260211T102553Z
LAST-MODIFIED:20260211T102553Z
UID:10019863-1804674600-1804679100@www.discoverfrome.co.uk
SUMMARY:Dancing For Wellbeing and Joy!
DESCRIPTION:Helena Eden will lead you in varied and easy to follow routines to all styles of music\, (high and low impact options) and help you experience the power and joy of dance. Her classes are great fun and you will leave feeling energised\, with a smile on your face! \nThis series of 5 classes starts on Feb 25th and will continue after the Easter break.\nHurry and book to ensure your place! Please book before the 20th Feb \nTo book contact the Box Office at The Cheese and Grain – 01373 455420\nor online at www.fromecommed.org/courses – £43.75 for 5 classes \nFor more information you can call Helena direct on 07970 391543
URL:https://www.discoverfrome.co.uk/event/dancing-for-wellbeing-and-joy/2027-03-10/
LOCATION:Bennett Centre\, St John's Church Hall\,\, Vicarage Street\, Frome\, BA11 1PX
CATEGORIES:Dance,Discover Frome,Health and wellbeing
ATTACH;FMTTYPE=image/jpeg:https://www.discoverfrome.co.uk/wp-content/uploads/2026/02/528131390_1661982557801317_4697291804771843846_n.jpg
ORGANIZER;CN="Frome Comm Ed":MAILTO:info@fromecommed.org.uk
END:VEVENT
BEGIN:VEVENT
DTSTART;TZID=Europe/London:20270310T190000
DTEND;TZID=Europe/London:20270310T203000
DTSTAMP:20260423T214658
CREATED:20260211T123027Z
LAST-MODIFIED:20260211T123027Z
UID:10020018-1804705200-1804710600@www.discoverfrome.co.uk
SUMMARY:Improv Lab
DESCRIPTION:Join our upcoming 5-week improv course – perfect for beginners and enthusiasts alike. Adults only. \nNo scripts. No pressure. Just a playful and welcoming space to invent characters\, create stories\, and discover the joy of saying “yes\, and…” to every idea. \nLed by an experienced facilitator\, each session invites you to participate in a mix of improvised scenes and games. It’s a laidback\, hilarious and a genuinely safe place to be totally ridiculous. \nAlong the way\, you will: \n\nReconnect with your sense of playfulness\nCultivate creativity and quick thinking\nBuild confidence as a speaker and perfomer\nStep outside your comfort zone\nJoin a growing\, supportive community
URL:https://www.discoverfrome.co.uk/event/improv-lab/2027-03-10/
LOCATION:The Awesome Studio\, Station Approach\, Frome\, BA11 1RE\, United Kingdom
CATEGORIES:Arts,Courses,Discover Frome,Theatre,Workshop
ATTACH;FMTTYPE=image/jpeg:https://www.discoverfrome.co.uk/wp-content/uploads/2026/02/improv-jam.jpg
END:VEVENT
BEGIN:VEVENT
DTSTART;TZID=Europe/London:20270317T103000
DTEND;TZID=Europe/London:20270317T114500
DTSTAMP:20260423T214658
CREATED:20260211T102553Z
LAST-MODIFIED:20260211T102553Z
UID:10019864-1805279400-1805283900@www.discoverfrome.co.uk
SUMMARY:Dancing For Wellbeing and Joy!
DESCRIPTION:Helena Eden will lead you in varied and easy to follow routines to all styles of music\, (high and low impact options) and help you experience the power and joy of dance. Her classes are great fun and you will leave feeling energised\, with a smile on your face! \nThis series of 5 classes starts on Feb 25th and will continue after the Easter break.\nHurry and book to ensure your place! Please book before the 20th Feb \nTo book contact the Box Office at The Cheese and Grain – 01373 455420\nor online at www.fromecommed.org/courses – £43.75 for 5 classes \nFor more information you can call Helena direct on 07970 391543
URL:https://www.discoverfrome.co.uk/event/dancing-for-wellbeing-and-joy/2027-03-17/
LOCATION:Bennett Centre\, St John's Church Hall\,\, Vicarage Street\, Frome\, BA11 1PX
CATEGORIES:Dance,Discover Frome,Health and wellbeing
ATTACH;FMTTYPE=image/jpeg:https://www.discoverfrome.co.uk/wp-content/uploads/2026/02/528131390_1661982557801317_4697291804771843846_n.jpg
ORGANIZER;CN="Frome Comm Ed":MAILTO:info@fromecommed.org.uk
END:VEVENT
BEGIN:VEVENT
DTSTART;TZID=Europe/London:20270317T190000
DTEND;TZID=Europe/London:20270317T203000
DTSTAMP:20260423T214658
CREATED:20260211T123027Z
LAST-MODIFIED:20260211T123027Z
UID:10020019-1805310000-1805315400@www.discoverfrome.co.uk
SUMMARY:Improv Lab
DESCRIPTION:Join our upcoming 5-week improv course – perfect for beginners and enthusiasts alike. Adults only. \nNo scripts. No pressure. Just a playful and welcoming space to invent characters\, create stories\, and discover the joy of saying “yes\, and…” to every idea. \nLed by an experienced facilitator\, each session invites you to participate in a mix of improvised scenes and games. It’s a laidback\, hilarious and a genuinely safe place to be totally ridiculous. \nAlong the way\, you will: \n\nReconnect with your sense of playfulness\nCultivate creativity and quick thinking\nBuild confidence as a speaker and perfomer\nStep outside your comfort zone\nJoin a growing\, supportive community
URL:https://www.discoverfrome.co.uk/event/improv-lab/2027-03-17/
LOCATION:The Awesome Studio\, Station Approach\, Frome\, BA11 1RE\, United Kingdom
CATEGORIES:Arts,Courses,Discover Frome,Theatre,Workshop
ATTACH;FMTTYPE=image/jpeg:https://www.discoverfrome.co.uk/wp-content/uploads/2026/02/improv-jam.jpg
END:VEVENT
BEGIN:VEVENT
DTSTART;TZID=Europe/London:20270324T103000
DTEND;TZID=Europe/London:20270324T114500
DTSTAMP:20260423T214658
CREATED:20260211T102553Z
LAST-MODIFIED:20260211T102553Z
UID:10019865-1805884200-1805888700@www.discoverfrome.co.uk
SUMMARY:Dancing For Wellbeing and Joy!
DESCRIPTION:Helena Eden will lead you in varied and easy to follow routines to all styles of music\, (high and low impact options) and help you experience the power and joy of dance. Her classes are great fun and you will leave feeling energised\, with a smile on your face! \nThis series of 5 classes starts on Feb 25th and will continue after the Easter break.\nHurry and book to ensure your place! Please book before the 20th Feb \nTo book contact the Box Office at The Cheese and Grain – 01373 455420\nor online at www.fromecommed.org/courses – £43.75 for 5 classes \nFor more information you can call Helena direct on 07970 391543
URL:https://www.discoverfrome.co.uk/event/dancing-for-wellbeing-and-joy/2027-03-24/
LOCATION:Bennett Centre\, St John's Church Hall\,\, Vicarage Street\, Frome\, BA11 1PX
CATEGORIES:Dance,Discover Frome,Health and wellbeing
ATTACH;FMTTYPE=image/jpeg:https://www.discoverfrome.co.uk/wp-content/uploads/2026/02/528131390_1661982557801317_4697291804771843846_n.jpg
ORGANIZER;CN="Frome Comm Ed":MAILTO:info@fromecommed.org.uk
END:VEVENT
BEGIN:VEVENT
DTSTART;TZID=Europe/London:20270324T190000
DTEND;TZID=Europe/London:20270324T203000
DTSTAMP:20260423T214658
CREATED:20260211T123027Z
LAST-MODIFIED:20260211T123027Z
UID:10020020-1805914800-1805920200@www.discoverfrome.co.uk
SUMMARY:Improv Lab
DESCRIPTION:Join our upcoming 5-week improv course – perfect for beginners and enthusiasts alike. Adults only. \nNo scripts. No pressure. Just a playful and welcoming space to invent characters\, create stories\, and discover the joy of saying “yes\, and…” to every idea. \nLed by an experienced facilitator\, each session invites you to participate in a mix of improvised scenes and games. It’s a laidback\, hilarious and a genuinely safe place to be totally ridiculous. \nAlong the way\, you will: \n\nReconnect with your sense of playfulness\nCultivate creativity and quick thinking\nBuild confidence as a speaker and perfomer\nStep outside your comfort zone\nJoin a growing\, supportive community
URL:https://www.discoverfrome.co.uk/event/improv-lab/2027-03-24/
LOCATION:The Awesome Studio\, Station Approach\, Frome\, BA11 1RE\, United Kingdom
CATEGORIES:Arts,Courses,Discover Frome,Theatre,Workshop
ATTACH;FMTTYPE=image/jpeg:https://www.discoverfrome.co.uk/wp-content/uploads/2026/02/improv-jam.jpg
END:VEVENT
BEGIN:VEVENT
DTSTART;TZID=Europe/London:20270331T190000
DTEND;TZID=Europe/London:20270331T203000
DTSTAMP:20260423T214658
CREATED:20260211T123027Z
LAST-MODIFIED:20260211T123027Z
UID:10020021-1806519600-1806525000@www.discoverfrome.co.uk
SUMMARY:Improv Lab
DESCRIPTION:Join our upcoming 5-week improv course – perfect for beginners and enthusiasts alike. Adults only. \nNo scripts. No pressure. Just a playful and welcoming space to invent characters\, create stories\, and discover the joy of saying “yes\, and…” to every idea. \nLed by an experienced facilitator\, each session invites you to participate in a mix of improvised scenes and games. It’s a laidback\, hilarious and a genuinely safe place to be totally ridiculous. \nAlong the way\, you will: \n\nReconnect with your sense of playfulness\nCultivate creativity and quick thinking\nBuild confidence as a speaker and perfomer\nStep outside your comfort zone\nJoin a growing\, supportive community
URL:https://www.discoverfrome.co.uk/event/improv-lab/2027-03-31/
LOCATION:The Awesome Studio\, Station Approach\, Frome\, BA11 1RE\, United Kingdom
CATEGORIES:Arts,Courses,Discover Frome,Theatre,Workshop
ATTACH;FMTTYPE=image/jpeg:https://www.discoverfrome.co.uk/wp-content/uploads/2026/02/improv-jam.jpg
END:VEVENT
END:VCALENDAR