BEGIN:VCALENDAR
VERSION:2.0
PRODID:-//Discover Frome - ECPv6.15.20//NONSGML v1.0//EN
CALSCALE:GREGORIAN
METHOD:PUBLISH
X-WR-CALNAME:Discover Frome
X-ORIGINAL-URL:https://www.discoverfrome.co.uk
X-WR-CALDESC:Events for Discover Frome
REFRESH-INTERVAL;VALUE=DURATION:PT1H
X-Robots-Tag:noindex
X-PUBLISHED-TTL:PT1H
BEGIN:VTIMEZONE
TZID:Europe/London
BEGIN:DAYLIGHT
TZOFFSETFROM:+0000
TZOFFSETTO:+0100
TZNAME:BST
DTSTART:20250330T010000
END:DAYLIGHT
BEGIN:STANDARD
TZOFFSETFROM:+0100
TZOFFSETTO:+0000
TZNAME:GMT
DTSTART:20251026T010000
END:STANDARD
BEGIN:DAYLIGHT
TZOFFSETFROM:+0000
TZOFFSETTO:+0100
TZNAME:BST
DTSTART:20260329T010000
END:DAYLIGHT
BEGIN:STANDARD
TZOFFSETFROM:+0100
TZOFFSETTO:+0000
TZNAME:GMT
DTSTART:20261025T010000
END:STANDARD
BEGIN:DAYLIGHT
TZOFFSETFROM:+0000
TZOFFSETTO:+0100
TZNAME:BST
DTSTART:20270328T010000
END:DAYLIGHT
BEGIN:STANDARD
TZOFFSETFROM:+0100
TZOFFSETTO:+0000
TZNAME:GMT
DTSTART:20271031T010000
END:STANDARD
END:VTIMEZONE
BEGIN:VEVENT
DTSTART;TZID=Europe/London:20260207T193000
DTEND;TZID=Europe/London:20260207T210000
DTSTAMP:20260419T174101
CREATED:20260202T111400Z
LAST-MODIFIED:20260202T112530Z
UID:10019718-1770492600-1770498000@www.discoverfrome.co.uk
SUMMARY:John Hegley fundraising gig for Frome Festival
DESCRIPTION:John Hegley returns to the Merlin Theatre for a Frome Festival fundraiser on 7th February\, 2026.\n\n\n\n‘New and Selected Potatoes’ is the spud-in-cheek title of Hegley’s “best of” compilation\, mixing classic favourites with fresh material. Mandolin accompaniment has been retained\, alongside a train whistle from Didcot Railway Centre.\n\n\n\nPoet\, comic\, singer\, songwriter and glasses-wearer\, John has captivated and devastated audiences all over the country\, in theatres and festivals\, at gigs at the Edinburgh Festival\, and with numerous appearances on radio and television. This show demonstrates the breadth of his appeal\, with seriously funny\, cleverly comic poems on everything from love\, family\, France\, art and the sea to dogs\, dads\, gods\, taxidermy\, carrots\, spectacles and – of course – potatoes.
URL:https://www.discoverfrome.co.uk/event/john-hegley-fundraising-gig-for-frome-festival/
LOCATION:Merlin Theatre\, Bath Road\, Frome\, BA11 2HG 
CATEGORIES:Concert,Discover Frome,Frome Festival,Fundraiser,Live band,Music
ATTACH;FMTTYPE=image/jpeg:https://www.discoverfrome.co.uk/wp-content/uploads/2026/02/john-hegley-1.jpg
ORGANIZER;CN="Frome Festival":MAILTO:office@fromefestival.co.uk
GEO:51.2412644;-2.3118242
X-APPLE-STRUCTURED-LOCATION;VALUE=URI;X-ADDRESS=Merlin Theatre Bath Road Frome BA11 2HG;X-APPLE-RADIUS=500;X-TITLE=Bath Road:geo:-2.3118242,51.2412644
END:VEVENT
BEGIN:VEVENT
DTSTART;TZID=Europe/London:20260207T190000
DTEND;TZID=Europe/London:20260207T230000
DTSTAMP:20260419T174101
CREATED:20251203T125920Z
LAST-MODIFIED:20251203T125920Z
UID:10019381-1770490800-1770505200@www.discoverfrome.co.uk
SUMMARY:A Day To Remember UK -Live at The Tree House
DESCRIPTION:A Day To Remember UK have quickly become one of the most exciting tribute acts on the UK alternative scene\, delivering a powerful and highly authentic live tribute to one of the biggest bands in modern rock. As the first and only A Day To Remember tribute in the UK\, they’ve built a reputation for explosive shows that capture the energy\, emotion\, and crowd-moving intensity that fans love. \nExpect all the huge choruses\, crushing breakdowns\, and anthems that defined a generation—performed with precision\, passion\, and a genuine appreciation for ADTR’s unique sound. Their set is packed with fan favourites\, deep cuts\, and arena-sized singalongs\, making them a must-see for anyone who loves pop-punk\, metalcore\, or a night of full-throttle live music. \nPerfect for big stages\, club shows\, and festival line-ups\, A Day To Remember UK consistently deliver the kind of atmosphere that turns a gig into a full-on event. They brings energy\, nostalgia\, and an unbeatable live presence\, that guarantees an unforgettable night. \n+ special guests \nJimmy Ate World bring a heartfelt and faithful tribute to one of the most beloved emo-rock bands of the 2000s. Known for their soaring melodies\, emotionally charged lyrics\, and the kind of choruses that defined late-night drives and scratched-up CD wallets\, Jimmy Eat World left a mark that still resonates today. \nThis tribute act doesn’t just play the songs — they tap into the nostalgia\, the feeling\, and the era. From the shimmering guitars to the unmistakable singalong moments\, their set takes fans straight back to the days when “The Middle” was everywhere and Bleed American became the soundtrack to a generation. \nExpect a warm\, nostalgic\, and atmosphere-driven performance filled with classics\, deep favourites\, and timeless anthems that shaped the emo and alt-rock scene. \nPlease note this is an 18+ all-standing event\, and the venue is accessed by stairs with no lift. If you have any enquiries please email thetreehouse@cheeseandgrain.com
URL:https://www.discoverfrome.co.uk/event/a-day-to-remember-uk-live-at-the-tree-house/
LOCATION:The Tree House\, 35 Berkley Road\, Frome\, Somerset\, BA11 2EH\, United Kingdom
CATEGORIES:Concert,Discover Frome,Live band,Music
ATTACH;FMTTYPE=image/jpeg:https://www.discoverfrome.co.uk/wp-content/uploads/2025/12/a-day-to-remember.jpg
END:VEVENT
BEGIN:VEVENT
DTSTART;TZID=Europe/London:20260206T190000
DTEND;TZID=Europe/London:20260206T230000
DTSTAMP:20260419T174101
CREATED:20251203T125632Z
LAST-MODIFIED:20251203T125632Z
UID:10019379-1770404400-1770418800@www.discoverfrome.co.uk
SUMMARY:The Allergies (DJ Set) – Live At The Tree House
DESCRIPTION:“The Allergies music is big\, bouncy and fat! Just how I like my funk” – Craig Charles\, BBC 6 Music. \nIf you like crazy turntable skills\, and hands-in-the-air beats\, all mixed up with some classy crowd-rocking music\, then an Allergies double-decking DJ set will be right up your street. “We like breaks\, funky basslines\, horns\, and dancefloor grooves. We’re inspired by the golden eras of funk\, soul\, disco and hip-hop\, and we try and cram that into three and a half minutes”. \nThe duo of DJ Moneyshot and Rackabeat have been delighting dancefloors and lighting up the radio airwaves since forming The Allergies and releasing their debut album in 2016. \nYear in\, year out\, they’ve sharpened their skills on the turntables and in the studio\, dropping one dynamite record after another. \nTouring the world\, clocking up A List status and Album of the Day gongs at BBC Radio 6 Music\, as well as soundtracking international ad campaigns\, the pair show no sign of stopping the fun. \nAfter consecutive top 40 albums\, the boys just dropped number seven – Freak The Speaker. \nAs usual\, the Bristol-based beatmakers have assembled a crack team to help bring their loops to life. LA rap legend\, Andy Cooper (Ugly Duckling) is back on board\, alongside the mighty pipes of Marietta Smith (House Gospel Choir). And British sax institution\, James Morton – Also all staples of The Allergies live show act. \nPlus\, guest spots from some super special MCs and vocalists from both sides of The Pond including Brooklyn’s own hip-hop heavyweight\, Ohmega Watts. Mercury Prize winner\, Dynamite MC. Afro futurist\, K.O.G. Welsh rap talent\, Skunkadelic. And British hip-hop veteran\, Dr Syntax. \nIt continues to build on what first bonded the pair\, after meeting on the festival circuit – A love of funk and hip-hop\, and the great melting pot that makes up the music. \nMoneyshot had already made a name for himself as a resident on Ninja Tune’s Solid Steel radio. Gaining worldwide fame for his DJ mixes\, with Rolling Stone magazine ranking him in their ’25 Greatest Internet DJ Mixes of All Time’ feature. \nAnd Rackabeat\, a successful drum ’n’ bass producer\, had already banged out a string of releases\, including remixing dance music royalty like Groove Armada. \nMixing this keen ear for a sample\, and some polished studio know-how\, provided the perfect formula for The Allergies sound. Inspired by producers like Cut Chemist\, Public Enemy’s Bomb Squad\, and the kaleidoscopic sampledelica of acts like The Avalanches and vintage De La Soul\, they raid the past to make music for the future. \nClassic tracks from their back catalogue like ‘God Walked Down’\, ’Felony’ and ‘Every Trick In The Book’\, which continue to rack up tens of millions of plays\, are prime examples of The Allergies vision – To take dusty grooves from forgotten wax and pull out soulful hooks\, add hip-hop energy and driving drums\, to make something new and exciting that hits your heart\, as much as it does your dancing feet. \nPlease note this is an 18+ event\, and the venue is accessed by stairs with no lift. If you have any enquiries please email thetreehouse@cheeseandgrain.com
URL:https://www.discoverfrome.co.uk/event/the-allergies-dj-set-live-at-the-tree-house/
LOCATION:The Tree House\, 35 Berkley Road\, Frome\, Somerset\, BA11 2EH\, United Kingdom
CATEGORIES:Concert,Discover Frome,DJ set,Music
ATTACH;FMTTYPE=image/jpeg:https://www.discoverfrome.co.uk/wp-content/uploads/2025/12/the-allergies.jpg
END:VEVENT
BEGIN:VEVENT
DTSTART;TZID=Europe/London:20260206T190000
DTEND;TZID=Europe/London:20260206T220000
DTSTAMP:20260419T174101
CREATED:20260205T093933Z
LAST-MODIFIED:20260205T093933Z
UID:10019727-1770404400-1770415200@www.discoverfrome.co.uk
SUMMARY:Open Mic Night
DESCRIPTION:The Grain Café proudly sees the return of it’s Open Mic Night! \nWhatever your talent\, our cosy little stage is open to YOU! \nWe’re running from 7pm until 10pm\, hosted by the ever-beardy\, pop-covering\, acoustic maestro that IS Craig Webber. \nTo reserve your slot\, please email craig@cheeseandgrain.com with preferred time options and any technical requirements. Slots are expected to fill up FAST!
URL:https://www.discoverfrome.co.uk/event/open-mic-night/
LOCATION:Cheese and Grain\, Market Yard\, Frome\, BA11 1BE
CATEGORIES:Concert,Discover Frome,Live band,Music
ATTACH;FMTTYPE=image/jpeg:https://www.discoverfrome.co.uk/wp-content/uploads/2026/02/Design-4.jpg
GEO:51.2318708;-2.3202807
X-APPLE-STRUCTURED-LOCATION;VALUE=URI;X-ADDRESS=Cheese and Grain Market Yard Frome BA11 1BE;X-APPLE-RADIUS=500;X-TITLE=Market Yard:geo:-2.3202807,51.2318708
END:VEVENT
BEGIN:VEVENT
DTSTART;TZID=Europe/London:20260205T190000
DTEND;TZID=Europe/London:20260205T230000
DTSTAMP:20260419T174101
CREATED:20251203T125434Z
LAST-MODIFIED:20251203T125434Z
UID:10019378-1770318000-1770332400@www.discoverfrome.co.uk
SUMMARY:Voodoo Room – Live at The Tree House
DESCRIPTION:A Night of Hendrix\, Clapton & Cream \nCelebrating the incredible music of Jimi Hendrix\, Eric Clapton & Cream. \nVoodoo Room are a stunning high energy ‘Power Trio’ featuring some of the U.K.’s finest musicians whose credits include: Steve Winwood\, Massive Attack\, Arthur Brown\, Fish\, Thunder\, Lulu etc. \nNO WIGS\, NO PANTOMIME – JUST GREAT MUSIC PLAYED BY GREAT MUSICIANS! \n‘INCREDIBLE MUSICIANS! ’- Neneh Cherry.\n‘ABSOLUTLEY INCREDIBLE ’- Radio Caroline.‘\nOUTSTANDING’- Blues In The South Magazine.\n‘SUPERB’- Time Out. \nwww.voodoo-room.com \nPlease note this is an 18+ all-standing event\, and the venue is accessed by stairs with no lift. If you have any enquiries please email thetreehouse@cheeseandgrain.com
URL:https://www.discoverfrome.co.uk/event/voodoo-room-live-at-the-tree-house/
LOCATION:The Tree House\, 35 Berkley Road\, Frome\, Somerset\, BA11 2EH\, United Kingdom
CATEGORIES:Concert,Discover Frome,Live band,Music
ATTACH;FMTTYPE=image/jpeg:https://www.discoverfrome.co.uk/wp-content/uploads/2025/12/voodoo-room.jpg
END:VEVENT
BEGIN:VEVENT
DTSTART;TZID=Europe/London:20260205T131500
DTEND;TZID=Europe/London:20260205T140000
DTSTAMP:20260419T174101
CREATED:20260126T133313Z
LAST-MODIFIED:20260130T121827Z
UID:10019676-1770297300-1770300000@www.discoverfrome.co.uk
SUMMARY:Trio Paradis: Roots
DESCRIPTION:Trio Paradis (Jacquelyn Bevan – piano\, Ruth O’Shea – violin & Linda Stocks – cello) play a Café Concert on the first Thursday of each month (Feb-Dec) at 1.15pm at Christ Church: informal feel-good music events with a pop-up café open from c12.45pm where you can meet friends and make new ones over tea/coffee and home-made cakes and listen to live music. \nJanuary’s programme is ‘Roots’ – a selection of music by composers of African origin\, including Joseph Bologne (Chevalier de St Georges)\, who was a contemporary of Mozart\, English composer Samuel Coleridge-Taylor\,  and Americans Florence Price\, William Grant Still and Margaret Bonds. Their life stories are as fascinating as their music. \nConcerts last c45mins and entrance is by donation. An RSVP via our website is appreciated\, but you can just turn up – maybe bring a cushion for the pew! \nMore information at www.trioparadis.com.
URL:https://www.discoverfrome.co.uk/event/trio-paradis-roots/
LOCATION:Christ Church\, Christchurch Street West\, Frome\, BA11 1EH
CATEGORIES:Concert,Discover Frome,Live band,Music
ATTACH;FMTTYPE=image/jpeg:https://www.discoverfrome.co.uk/wp-content/uploads/2026/01/trio-paradis-roots.jpg
ORGANIZER;CN="Trio Paradis":MAILTO:trioparadis@icloud.com
GEO:51.2292735;-2.3282901
X-APPLE-STRUCTURED-LOCATION;VALUE=URI;X-ADDRESS=Christ Church Christchurch Street West Frome BA11 1EH;X-APPLE-RADIUS=500;X-TITLE=Christchurch Street West:geo:-2.3282901,51.2292735
END:VEVENT
BEGIN:VEVENT
DTSTART;TZID=Europe/London:20260131T190000
DTEND;TZID=Europe/London:20260131T230000
DTSTAMP:20260419T174101
CREATED:20251203T125235Z
LAST-MODIFIED:20251203T125235Z
UID:10019377-1769886000-1769900400@www.discoverfrome.co.uk
SUMMARY:Bruce Juice : The Springsteen Experience – Live at The Tree House
DESCRIPTION:A SENSATIONAL SPRINGSTEEN EXPERIENCE \nA live injection of Bruce Juice during the long years between Bruce Springsteen’s tours\, this new band provides a vibrant tonic pumped into every aching hungry heart. \nYou can expect an ‘E-Street’ experience that captures the unique seven-piece band line-up through arrangements from legendary concerts such as the Main Point to the Bottom Line\, Passaic\, Winterland and Tempe. \nThe band reproduces the original arrangements from the 1970s Wild\, Innocent and a slow\, bluesy ‘E Street Shuffle’ as well as the iconic anthems from the ‘Born to Run’ tour. \nMore gems from the 1980s capture the crisp\, rasping sound of the ‘Professor’s’ piano\, Federici’s organ and Clarence’s sax from ‘The River’ tour\, as well as a few stadium foot-stompers from the ‘Born in the USA’ tour. \nBruce Juice stands out as there are usually couple of surprise gems thrown in\, with some great Bruce songs that don’t normally feature in tributes\, but are much loved by Bruce fans. \nThis is the only Springsteen tribute band that combines both popular favourites with the essence of Springsteen’s arrangements in legendary live gigs and an unforgettable show. \nThe term ‘tribute band’ doesn’t really fit – it is just that there isn’t another word. We are not trying to pay tribute to Bruce as if he has won an award or passed away. Instead\, we absolutely LOVE his music and everything about the energy and passion with which he and the E Street Band deliver unforgettable shows. \nPlease note this is an 18+ all-standing event\, and the venue is accessed by stairs with no lift. If you have any enquiries please email thetreehouse@cheeseandgrain.com
URL:https://www.discoverfrome.co.uk/event/bruce-juice-the-springsteen-experience-live-at-the-tree-house/
LOCATION:The Tree House\, 35 Berkley Road\, Frome\, Somerset\, BA11 2EH\, United Kingdom
CATEGORIES:Concert,Discover Frome,Live band,Music
ATTACH;FMTTYPE=image/jpeg:https://www.discoverfrome.co.uk/wp-content/uploads/2025/12/bruce-e1764766345206.jpg
END:VEVENT
BEGIN:VEVENT
DTSTART;TZID=Europe/London:20260131T190000
DTEND;TZID=Europe/London:20260131T230000
DTSTAMP:20260419T174101
CREATED:20251203T125010Z
LAST-MODIFIED:20251203T125010Z
UID:10019376-1769886000-1769900400@www.discoverfrome.co.uk
SUMMARY:Retro Electro
DESCRIPTION:Retro Electro are a 5 piece 80’s Covers Band playing classics from Depeche Mode\, Prince\, David Bowie\, Simple Minds\, Human League\, Tears for Fears\, Spandau Ballet\, ABC\, King\, Gary Numan\, Level 42\, Thompson Twins\, Blancmange\, Kraftwerk\, Style Council to name a few!
URL:https://www.discoverfrome.co.uk/event/retro-electro/
LOCATION:Cheese and Grain\, Market Yard\, Frome\, BA11 1BE
CATEGORIES:Concert,Discover Frome,Live band,Music
ATTACH;FMTTYPE=image/jpeg:https://www.discoverfrome.co.uk/wp-content/uploads/2025/12/retro-electro.jpg
GEO:51.2318708;-2.3202807
X-APPLE-STRUCTURED-LOCATION;VALUE=URI;X-ADDRESS=Cheese and Grain Market Yard Frome BA11 1BE;X-APPLE-RADIUS=500;X-TITLE=Market Yard:geo:-2.3202807,51.2318708
END:VEVENT
BEGIN:VEVENT
DTSTART;TZID=Europe/London:20260130T190000
DTEND;TZID=Europe/London:20260130T230000
DTSTAMP:20260419T174101
CREATED:20251203T124437Z
LAST-MODIFIED:20251203T124437Z
UID:10019375-1769799600-1769814000@www.discoverfrome.co.uk
SUMMARY:Kavus Torabi – Live At The Tree House
DESCRIPTION:Kavus Torabi is a multi-instrumentalist\, author\, artist and\, since\, 2016\, singer and songwriter with the legendary Gong and The Utopia Strong.  \nKavus Torabi is a versatile British/Iranian artist known for his talents as a composer\, multi-instrumentalist\, performer\, author\, artist\, broadcaster\, and DJ. Since 2016\, he has been the frontman of the iconic psychedelic band Gong\, where he serves as the principal songwriter. Additionally\, he is a member of the semi-modular experimental/psychedelic trio\, The Utopia Strong. Torabi’s musical journey includes stints as the guitarist for the legendary British cult band Cardiacs and the avant-rock instrumentalists Guapo. \nPlease note this is an 18+ all standing event\, and the venue is accessed by stairs with no lift. If you have any enquiries please email thetreehouse@cheeseandgrain.com
URL:https://www.discoverfrome.co.uk/event/kavus-torabi-live-at-the-tree-house/
LOCATION:The Tree House\, 35 Berkley Road\, Frome\, Somerset\, BA11 2EH\, United Kingdom
CATEGORIES:Concert,Discover Frome,Live band,Music
ATTACH;FMTTYPE=image/jpeg:https://www.discoverfrome.co.uk/wp-content/uploads/2025/12/kavus-torabi.jpg
END:VEVENT
END:VCALENDAR