BEGIN:VCALENDAR
VERSION:2.0
PRODID:-//Discover Frome - ECPv6.15.20//NONSGML v1.0//EN
CALSCALE:GREGORIAN
METHOD:PUBLISH
X-ORIGINAL-URL:https://www.discoverfrome.co.uk
X-WR-CALDESC:Events for Discover Frome
REFRESH-INTERVAL;VALUE=DURATION:PT1H
X-Robots-Tag:noindex
X-PUBLISHED-TTL:PT1H
BEGIN:VTIMEZONE
TZID:Europe/London
BEGIN:DAYLIGHT
TZOFFSETFROM:+0000
TZOFFSETTO:+0100
TZNAME:BST
DTSTART:20250330T010000
END:DAYLIGHT
BEGIN:STANDARD
TZOFFSETFROM:+0100
TZOFFSETTO:+0000
TZNAME:GMT
DTSTART:20251026T010000
END:STANDARD
BEGIN:DAYLIGHT
TZOFFSETFROM:+0000
TZOFFSETTO:+0100
TZNAME:BST
DTSTART:20260329T010000
END:DAYLIGHT
BEGIN:STANDARD
TZOFFSETFROM:+0100
TZOFFSETTO:+0000
TZNAME:GMT
DTSTART:20261025T010000
END:STANDARD
BEGIN:DAYLIGHT
TZOFFSETFROM:+0000
TZOFFSETTO:+0100
TZNAME:BST
DTSTART:20270328T010000
END:DAYLIGHT
BEGIN:STANDARD
TZOFFSETFROM:+0100
TZOFFSETTO:+0000
TZNAME:GMT
DTSTART:20271031T010000
END:STANDARD
END:VTIMEZONE
BEGIN:VEVENT
DTSTART;TZID=Europe/London:20261203T100000
DTEND;TZID=Europe/London:20261203T103000
DTSTAMP:20260422T231929
CREATED:20260211T114925Z
LAST-MODIFIED:20260211T114925Z
UID:10019913-1796292000-1796293800@www.discoverfrome.co.uk
SUMMARY:Toddler Time Thursday
DESCRIPTION:Songs and a story for children aged 1 – 3 and their parents/carers\, at Frome Library every Thursday. Takes place from 10am – 10:30am and is free to attend with your little ones. \nKeep an eye on Frome Library’s Facebook page for updates\, session cancellations and more information.
URL:https://www.discoverfrome.co.uk/event/toddler-time-thursday/2026-12-03/
LOCATION:Frome Library\, Justice Lane\, Frome\, BA11 1BE
CATEGORIES:Children,Community,Discover Frome,Family,Music
ATTACH;FMTTYPE=image/jpeg:https://www.discoverfrome.co.uk/wp-content/uploads/2024/12/Toddler-Time-002-e1770810498536.jpg
GEO:51.2324194;-2.3206873
X-APPLE-STRUCTURED-LOCATION;VALUE=URI;X-ADDRESS=Frome Library Justice Lane Frome BA11 1BE;X-APPLE-RADIUS=500;X-TITLE=Justice Lane:geo:-2.3206873,51.2324194
END:VEVENT
BEGIN:VEVENT
DTSTART;TZID=Europe/London:20261204T100000
DTEND;TZID=Europe/London:20261204T140000
DTSTAMP:20260422T231929
CREATED:20250818T111914Z
LAST-MODIFIED:20250818T111914Z
UID:10018528-1796378400-1796392800@www.discoverfrome.co.uk
SUMMARY:Volunteering for wellbeing
DESCRIPTION:Join our Friday volunteering sessions at Vallis Veg market garden\, where you’ll learn about organic food growing\, breathe fresh air and enjoy lunch made from freshly harvested ingredients. \nNo previous experience is necessary\, just turn up on the day.
URL:https://www.discoverfrome.co.uk/event/volunteering-for-wellbeing/2026-12-04/
LOCATION:Vallis Veg\, Egford\, Frome\, BA11 3NF\, United Kingdom
CATEGORIES:Community,Discover Frome,Environment,Gardens,Health and wellbeing,Nature,Sustainability
ATTACH;FMTTYPE=image/jpeg:https://www.discoverfrome.co.uk/wp-content/uploads/2025/08/back-to-nature-volunteer.jpg
GEO:51.237326;-2.34714
X-APPLE-STRUCTURED-LOCATION;VALUE=URI;X-ADDRESS=Vallis Veg Egford Frome BA11 3NF United Kingdom;X-APPLE-RADIUS=500;X-TITLE=Egford:geo:-2.34714,51.237326
END:VEVENT
BEGIN:VEVENT
DTSTART;TZID=Europe/London:20261208T100000
DTEND;TZID=Europe/London:20261208T103000
DTSTAMP:20260422T231929
CREATED:20260211T115159Z
LAST-MODIFIED:20260211T115159Z
UID:10019958-1796724000-1796725800@www.discoverfrome.co.uk
SUMMARY:Toddler Time Tuesday
DESCRIPTION:Songs and a story for children aged 1 – 3 and their parents/carers\, at Frome Library every Tuesday. Takes place from 10am – 10:30am and is free to attend with your little ones. \nKeep an eye on Frome Library’s Facebook page for updates\, session cancellations and more information.
URL:https://www.discoverfrome.co.uk/event/toddler-time-tuesday/2026-12-08/
LOCATION:Frome Library\, Justice Lane\, Frome\, BA11 1BE
CATEGORIES:Children,Community,Discover Frome,Family,Music
ATTACH;FMTTYPE=image/jpeg:https://www.discoverfrome.co.uk/wp-content/uploads/2024/12/Toddler-Time-002-e1770810498536.jpg
GEO:51.2324194;-2.3206873
X-APPLE-STRUCTURED-LOCATION;VALUE=URI;X-ADDRESS=Frome Library Justice Lane Frome BA11 1BE;X-APPLE-RADIUS=500;X-TITLE=Justice Lane:geo:-2.3206873,51.2324194
END:VEVENT
BEGIN:VEVENT
DTSTART;TZID=Europe/London:20261209T190000
DTEND;TZID=Europe/London:20261209T211500
DTSTAMP:20260422T231929
CREATED:20250818T111430Z
LAST-MODIFIED:20250818T111431Z
UID:10018458-1796842800-1796850900@www.discoverfrome.co.uk
SUMMARY:Nature-based sessions for women
DESCRIPTION:Our nature connection sessions are designed to guide you through a journey of mindfulness\, learning new\, practical skills and seasonal awareness. At each session we will explore something different\, but the main aim of each evening is to help you foster connection with the natural world\, improve your own well-being and make meaningful connections with other women. \nFree and low cost spaces available. Booking essential.
URL:https://www.discoverfrome.co.uk/event/nature-based-sessions-for-women/2026-12-09/
LOCATION:Vallis Veg\, Egford\, Frome\, BA11 3NF\, United Kingdom
CATEGORIES:Community,Discover Frome,Environment,Health and wellbeing,Nature
ATTACH;FMTTYPE=image/jpeg:https://www.discoverfrome.co.uk/wp-content/uploads/2025/08/back-to-nature.jpeg
ORGANIZER;CN="Back to Nature":MAILTO:backtonaturefrome@gmail.com
GEO:51.237326;-2.34714
X-APPLE-STRUCTURED-LOCATION;VALUE=URI;X-ADDRESS=Vallis Veg Egford Frome BA11 3NF United Kingdom;X-APPLE-RADIUS=500;X-TITLE=Egford:geo:-2.34714,51.237326
END:VEVENT
BEGIN:VEVENT
DTSTART;TZID=Europe/London:20261210T100000
DTEND;TZID=Europe/London:20261210T103000
DTSTAMP:20260422T231929
CREATED:20260211T114925Z
LAST-MODIFIED:20260211T114925Z
UID:10019914-1796896800-1796898600@www.discoverfrome.co.uk
SUMMARY:Toddler Time Thursday
DESCRIPTION:Songs and a story for children aged 1 – 3 and their parents/carers\, at Frome Library every Thursday. Takes place from 10am – 10:30am and is free to attend with your little ones. \nKeep an eye on Frome Library’s Facebook page for updates\, session cancellations and more information.
URL:https://www.discoverfrome.co.uk/event/toddler-time-thursday/2026-12-10/
LOCATION:Frome Library\, Justice Lane\, Frome\, BA11 1BE
CATEGORIES:Children,Community,Discover Frome,Family,Music
ATTACH;FMTTYPE=image/jpeg:https://www.discoverfrome.co.uk/wp-content/uploads/2024/12/Toddler-Time-002-e1770810498536.jpg
GEO:51.2324194;-2.3206873
X-APPLE-STRUCTURED-LOCATION;VALUE=URI;X-ADDRESS=Frome Library Justice Lane Frome BA11 1BE;X-APPLE-RADIUS=500;X-TITLE=Justice Lane:geo:-2.3206873,51.2324194
END:VEVENT
BEGIN:VEVENT
DTSTART;TZID=Europe/London:20261211T100000
DTEND;TZID=Europe/London:20261211T140000
DTSTAMP:20260422T231929
CREATED:20250818T111914Z
LAST-MODIFIED:20250818T111914Z
UID:10018529-1796983200-1796997600@www.discoverfrome.co.uk
SUMMARY:Volunteering for wellbeing
DESCRIPTION:Join our Friday volunteering sessions at Vallis Veg market garden\, where you’ll learn about organic food growing\, breathe fresh air and enjoy lunch made from freshly harvested ingredients. \nNo previous experience is necessary\, just turn up on the day.
URL:https://www.discoverfrome.co.uk/event/volunteering-for-wellbeing/2026-12-11/
LOCATION:Vallis Veg\, Egford\, Frome\, BA11 3NF\, United Kingdom
CATEGORIES:Community,Discover Frome,Environment,Gardens,Health and wellbeing,Nature,Sustainability
ATTACH;FMTTYPE=image/jpeg:https://www.discoverfrome.co.uk/wp-content/uploads/2025/08/back-to-nature-volunteer.jpg
GEO:51.237326;-2.34714
X-APPLE-STRUCTURED-LOCATION;VALUE=URI;X-ADDRESS=Vallis Veg Egford Frome BA11 3NF United Kingdom;X-APPLE-RADIUS=500;X-TITLE=Egford:geo:-2.34714,51.237326
END:VEVENT
BEGIN:VEVENT
DTSTART;TZID=Europe/London:20261215T100000
DTEND;TZID=Europe/London:20261215T103000
DTSTAMP:20260422T231929
CREATED:20260211T115159Z
LAST-MODIFIED:20260211T115159Z
UID:10019959-1797328800-1797330600@www.discoverfrome.co.uk
SUMMARY:Toddler Time Tuesday
DESCRIPTION:Songs and a story for children aged 1 – 3 and their parents/carers\, at Frome Library every Tuesday. Takes place from 10am – 10:30am and is free to attend with your little ones. \nKeep an eye on Frome Library’s Facebook page for updates\, session cancellations and more information.
URL:https://www.discoverfrome.co.uk/event/toddler-time-tuesday/2026-12-15/
LOCATION:Frome Library\, Justice Lane\, Frome\, BA11 1BE
CATEGORIES:Children,Community,Discover Frome,Family,Music
ATTACH;FMTTYPE=image/jpeg:https://www.discoverfrome.co.uk/wp-content/uploads/2024/12/Toddler-Time-002-e1770810498536.jpg
GEO:51.2324194;-2.3206873
X-APPLE-STRUCTURED-LOCATION;VALUE=URI;X-ADDRESS=Frome Library Justice Lane Frome BA11 1BE;X-APPLE-RADIUS=500;X-TITLE=Justice Lane:geo:-2.3206873,51.2324194
END:VEVENT
BEGIN:VEVENT
DTSTART;TZID=Europe/London:20261216T190000
DTEND;TZID=Europe/London:20261216T211500
DTSTAMP:20260422T231929
CREATED:20250818T111430Z
LAST-MODIFIED:20250818T111431Z
UID:10018459-1797447600-1797455700@www.discoverfrome.co.uk
SUMMARY:Nature-based sessions for women
DESCRIPTION:Our nature connection sessions are designed to guide you through a journey of mindfulness\, learning new\, practical skills and seasonal awareness. At each session we will explore something different\, but the main aim of each evening is to help you foster connection with the natural world\, improve your own well-being and make meaningful connections with other women. \nFree and low cost spaces available. Booking essential.
URL:https://www.discoverfrome.co.uk/event/nature-based-sessions-for-women/2026-12-16/
LOCATION:Vallis Veg\, Egford\, Frome\, BA11 3NF\, United Kingdom
CATEGORIES:Community,Discover Frome,Environment,Health and wellbeing,Nature
ATTACH;FMTTYPE=image/jpeg:https://www.discoverfrome.co.uk/wp-content/uploads/2025/08/back-to-nature.jpeg
ORGANIZER;CN="Back to Nature":MAILTO:backtonaturefrome@gmail.com
GEO:51.237326;-2.34714
X-APPLE-STRUCTURED-LOCATION;VALUE=URI;X-ADDRESS=Vallis Veg Egford Frome BA11 3NF United Kingdom;X-APPLE-RADIUS=500;X-TITLE=Egford:geo:-2.34714,51.237326
END:VEVENT
BEGIN:VEVENT
DTSTART;TZID=Europe/London:20261217T100000
DTEND;TZID=Europe/London:20261217T103000
DTSTAMP:20260422T231929
CREATED:20260211T114925Z
LAST-MODIFIED:20260211T114925Z
UID:10019915-1797501600-1797503400@www.discoverfrome.co.uk
SUMMARY:Toddler Time Thursday
DESCRIPTION:Songs and a story for children aged 1 – 3 and their parents/carers\, at Frome Library every Thursday. Takes place from 10am – 10:30am and is free to attend with your little ones. \nKeep an eye on Frome Library’s Facebook page for updates\, session cancellations and more information.
URL:https://www.discoverfrome.co.uk/event/toddler-time-thursday/2026-12-17/
LOCATION:Frome Library\, Justice Lane\, Frome\, BA11 1BE
CATEGORIES:Children,Community,Discover Frome,Family,Music
ATTACH;FMTTYPE=image/jpeg:https://www.discoverfrome.co.uk/wp-content/uploads/2024/12/Toddler-Time-002-e1770810498536.jpg
GEO:51.2324194;-2.3206873
X-APPLE-STRUCTURED-LOCATION;VALUE=URI;X-ADDRESS=Frome Library Justice Lane Frome BA11 1BE;X-APPLE-RADIUS=500;X-TITLE=Justice Lane:geo:-2.3206873,51.2324194
END:VEVENT
BEGIN:VEVENT
DTSTART;TZID=Europe/London:20261218T100000
DTEND;TZID=Europe/London:20261218T113000
DTSTAMP:20260422T231929
CREATED:20260128T145931Z
LAST-MODIFIED:20260211T121457Z
UID:10019707-1797588000-1797593400@www.discoverfrome.co.uk
SUMMARY:Wild Circle
DESCRIPTION:Wild Circle is a women’s group in nature -women sharing honest conversation around a fire\, in a beautiful garden setting.\nNo pressure or expectation\, just a warm welcome and a gentle invitation to take a pause from everyday life and create a little breathing space. \n“Tara made me feel very welcome and relaxed\, I felt completely at ease. I would highly recommend.” -Jo- \n“It was just what I wanted\, a real ‘firebreak’ in a busy life. Thank you for allowing us to develop what we did in our own way\, whilst gently guiding and holding the session. I think the choice to stay in the ’embrace’ of the wooden structure worked well\, and I found the time by the fire warming in body and spirit. And great cake too.” -Beverly- \nFridays 10am – 11:30am\, monthly at Vallis Farm
URL:https://www.discoverfrome.co.uk/event/wild-circle/2026-12-18/
LOCATION:Vallis Farm\, Egford Hill\, Frome\, BA11 3JQ\, United Kingdom
CATEGORIES:Community,Discover Frome,Health and wellbeing,Nature
ATTACH;FMTTYPE=image/jpeg:https://www.discoverfrome.co.uk/wp-content/uploads/2026/01/Wild-Circle-scaled.jpg
ORGANIZER;CN="Wild Swimming Woman":MAILTO:tara@wildswimmingwoman.com
END:VEVENT
BEGIN:VEVENT
DTSTART;TZID=Europe/London:20261218T100000
DTEND;TZID=Europe/London:20261218T140000
DTSTAMP:20260422T231929
CREATED:20250818T111914Z
LAST-MODIFIED:20250818T111914Z
UID:10018530-1797588000-1797602400@www.discoverfrome.co.uk
SUMMARY:Volunteering for wellbeing
DESCRIPTION:Join our Friday volunteering sessions at Vallis Veg market garden\, where you’ll learn about organic food growing\, breathe fresh air and enjoy lunch made from freshly harvested ingredients. \nNo previous experience is necessary\, just turn up on the day.
URL:https://www.discoverfrome.co.uk/event/volunteering-for-wellbeing/2026-12-18/
LOCATION:Vallis Veg\, Egford\, Frome\, BA11 3NF\, United Kingdom
CATEGORIES:Community,Discover Frome,Environment,Gardens,Health and wellbeing,Nature,Sustainability
ATTACH;FMTTYPE=image/jpeg:https://www.discoverfrome.co.uk/wp-content/uploads/2025/08/back-to-nature-volunteer.jpg
GEO:51.237326;-2.34714
X-APPLE-STRUCTURED-LOCATION;VALUE=URI;X-ADDRESS=Vallis Veg Egford Frome BA11 3NF United Kingdom;X-APPLE-RADIUS=500;X-TITLE=Egford:geo:-2.34714,51.237326
END:VEVENT
BEGIN:VEVENT
DTSTART;TZID=Europe/London:20261222T100000
DTEND;TZID=Europe/London:20261222T103000
DTSTAMP:20260422T231929
CREATED:20260211T115159Z
LAST-MODIFIED:20260211T115159Z
UID:10019960-1797933600-1797935400@www.discoverfrome.co.uk
SUMMARY:Toddler Time Tuesday
DESCRIPTION:Songs and a story for children aged 1 – 3 and their parents/carers\, at Frome Library every Tuesday. Takes place from 10am – 10:30am and is free to attend with your little ones. \nKeep an eye on Frome Library’s Facebook page for updates\, session cancellations and more information.
URL:https://www.discoverfrome.co.uk/event/toddler-time-tuesday/2026-12-22/
LOCATION:Frome Library\, Justice Lane\, Frome\, BA11 1BE
CATEGORIES:Children,Community,Discover Frome,Family,Music
ATTACH;FMTTYPE=image/jpeg:https://www.discoverfrome.co.uk/wp-content/uploads/2024/12/Toddler-Time-002-e1770810498536.jpg
GEO:51.2324194;-2.3206873
X-APPLE-STRUCTURED-LOCATION;VALUE=URI;X-ADDRESS=Frome Library Justice Lane Frome BA11 1BE;X-APPLE-RADIUS=500;X-TITLE=Justice Lane:geo:-2.3206873,51.2324194
END:VEVENT
BEGIN:VEVENT
DTSTART;TZID=Europe/London:20261223T190000
DTEND;TZID=Europe/London:20261223T211500
DTSTAMP:20260422T231929
CREATED:20250818T111430Z
LAST-MODIFIED:20250818T111431Z
UID:10018460-1798052400-1798060500@www.discoverfrome.co.uk
SUMMARY:Nature-based sessions for women
DESCRIPTION:Our nature connection sessions are designed to guide you through a journey of mindfulness\, learning new\, practical skills and seasonal awareness. At each session we will explore something different\, but the main aim of each evening is to help you foster connection with the natural world\, improve your own well-being and make meaningful connections with other women. \nFree and low cost spaces available. Booking essential.
URL:https://www.discoverfrome.co.uk/event/nature-based-sessions-for-women/2026-12-23/
LOCATION:Vallis Veg\, Egford\, Frome\, BA11 3NF\, United Kingdom
CATEGORIES:Community,Discover Frome,Environment,Health and wellbeing,Nature
ATTACH;FMTTYPE=image/jpeg:https://www.discoverfrome.co.uk/wp-content/uploads/2025/08/back-to-nature.jpeg
ORGANIZER;CN="Back to Nature":MAILTO:backtonaturefrome@gmail.com
GEO:51.237326;-2.34714
X-APPLE-STRUCTURED-LOCATION;VALUE=URI;X-ADDRESS=Vallis Veg Egford Frome BA11 3NF United Kingdom;X-APPLE-RADIUS=500;X-TITLE=Egford:geo:-2.34714,51.237326
END:VEVENT
BEGIN:VEVENT
DTSTART;TZID=Europe/London:20261229T100000
DTEND;TZID=Europe/London:20261229T103000
DTSTAMP:20260422T231929
CREATED:20260211T115159Z
LAST-MODIFIED:20260211T115159Z
UID:10019961-1798538400-1798540200@www.discoverfrome.co.uk
SUMMARY:Toddler Time Tuesday
DESCRIPTION:Songs and a story for children aged 1 – 3 and their parents/carers\, at Frome Library every Tuesday. Takes place from 10am – 10:30am and is free to attend with your little ones. \nKeep an eye on Frome Library’s Facebook page for updates\, session cancellations and more information.
URL:https://www.discoverfrome.co.uk/event/toddler-time-tuesday/2026-12-29/
LOCATION:Frome Library\, Justice Lane\, Frome\, BA11 1BE
CATEGORIES:Children,Community,Discover Frome,Family,Music
ATTACH;FMTTYPE=image/jpeg:https://www.discoverfrome.co.uk/wp-content/uploads/2024/12/Toddler-Time-002-e1770810498536.jpg
GEO:51.2324194;-2.3206873
X-APPLE-STRUCTURED-LOCATION;VALUE=URI;X-ADDRESS=Frome Library Justice Lane Frome BA11 1BE;X-APPLE-RADIUS=500;X-TITLE=Justice Lane:geo:-2.3206873,51.2324194
END:VEVENT
END:VCALENDAR