BEGIN:VCALENDAR
VERSION:2.0
PRODID:-//Discover Frome - ECPv6.15.20//NONSGML v1.0//EN
CALSCALE:GREGORIAN
METHOD:PUBLISH
X-ORIGINAL-URL:https://www.discoverfrome.co.uk
X-WR-CALDESC:Events for Discover Frome
REFRESH-INTERVAL;VALUE=DURATION:PT1H
X-Robots-Tag:noindex
X-PUBLISHED-TTL:PT1H
BEGIN:VTIMEZONE
TZID:Europe/London
BEGIN:DAYLIGHT
TZOFFSETFROM:+0000
TZOFFSETTO:+0100
TZNAME:BST
DTSTART:20250330T010000
END:DAYLIGHT
BEGIN:STANDARD
TZOFFSETFROM:+0100
TZOFFSETTO:+0000
TZNAME:GMT
DTSTART:20251026T010000
END:STANDARD
BEGIN:DAYLIGHT
TZOFFSETFROM:+0000
TZOFFSETTO:+0100
TZNAME:BST
DTSTART:20260329T010000
END:DAYLIGHT
BEGIN:STANDARD
TZOFFSETFROM:+0100
TZOFFSETTO:+0000
TZNAME:GMT
DTSTART:20261025T010000
END:STANDARD
BEGIN:DAYLIGHT
TZOFFSETFROM:+0000
TZOFFSETTO:+0100
TZNAME:BST
DTSTART:20270328T010000
END:DAYLIGHT
BEGIN:STANDARD
TZOFFSETFROM:+0100
TZOFFSETTO:+0000
TZNAME:GMT
DTSTART:20271031T010000
END:STANDARD
END:VTIMEZONE
BEGIN:VEVENT
DTSTART;TZID=Europe/London:20260407T100000
DTEND;TZID=Europe/London:20260407T103000
DTSTAMP:20260422T101541
CREATED:20260325T125537Z
LAST-MODIFIED:20260325T130117Z
UID:10019923-1775556000-1775557800@www.discoverfrome.co.uk
SUMMARY:Toddler Time Tuesday
DESCRIPTION:Songs and a story for children aged 1 – 3 and their parents/carers\, at Frome Library every Tuesday. Takes place from 10am – 10:30am and is free to attend with your little ones. \nKeep an eye on Frome Library’s Facebook page for updates\, session cancellations and more information.
URL:https://www.discoverfrome.co.uk/event/toddler-time-tuesday-2/
LOCATION:Frome Library\, Justice Lane\, Frome\, BA11 1BE
CATEGORIES:Children,Community,Discover Frome,Family,Music
ATTACH;FMTTYPE=image/jpeg:https://www.discoverfrome.co.uk/wp-content/uploads/2024/12/Toddler-Time-002-e1770810498536.jpg
GEO:51.2324194;-2.3206873
X-APPLE-STRUCTURED-LOCATION;VALUE=URI;X-ADDRESS=Frome Library Justice Lane Frome BA11 1BE;X-APPLE-RADIUS=500;X-TITLE=Justice Lane:geo:-2.3206873,51.2324194
END:VEVENT
BEGIN:VEVENT
DTSTART;TZID=Europe/London:20260408T190000
DTEND;TZID=Europe/London:20260408T211500
DTSTAMP:20260422T101541
CREATED:20250818T111430Z
LAST-MODIFIED:20250818T111431Z
UID:10018423-1775674800-1775682900@www.discoverfrome.co.uk
SUMMARY:Nature-based sessions for women
DESCRIPTION:Our nature connection sessions are designed to guide you through a journey of mindfulness\, learning new\, practical skills and seasonal awareness. At each session we will explore something different\, but the main aim of each evening is to help you foster connection with the natural world\, improve your own well-being and make meaningful connections with other women. \nFree and low cost spaces available. Booking essential.
URL:https://www.discoverfrome.co.uk/event/nature-based-sessions-for-women/2026-04-08/
LOCATION:Vallis Veg\, Egford\, Frome\, BA11 3NF\, United Kingdom
CATEGORIES:Community,Discover Frome,Environment,Health and wellbeing,Nature
ATTACH;FMTTYPE=image/jpeg:https://www.discoverfrome.co.uk/wp-content/uploads/2025/08/back-to-nature.jpeg
ORGANIZER;CN="Back to Nature":MAILTO:backtonaturefrome@gmail.com
GEO:51.237326;-2.34714
X-APPLE-STRUCTURED-LOCATION;VALUE=URI;X-ADDRESS=Vallis Veg Egford Frome BA11 3NF United Kingdom;X-APPLE-RADIUS=500;X-TITLE=Egford:geo:-2.34714,51.237326
END:VEVENT
BEGIN:VEVENT
DTSTART;TZID=Europe/London:20260409T100000
DTEND;TZID=Europe/London:20260409T103000
DTSTAMP:20260422T101541
CREATED:20260325T131615Z
LAST-MODIFIED:20260325T132521Z
UID:10019879-1775728800-1775730600@www.discoverfrome.co.uk
SUMMARY:Toddler Time Thursday
DESCRIPTION:Songs and a story for children aged 1 – 3 and their parents/carers\, at Frome Library every Thursday. Takes place from 10am – 10:30am and is free to attend with your little ones. \nKeep an eye on Frome Library’s Facebook page for updates\, session cancellations and more information.
URL:https://www.discoverfrome.co.uk/event/toddler-time-thursday-3/
LOCATION:Frome Library\, Justice Lane\, Frome\, BA11 1BE
CATEGORIES:Children,Community,Discover Frome,Family,Music
ATTACH;FMTTYPE=image/jpeg:https://www.discoverfrome.co.uk/wp-content/uploads/2024/12/Toddler-Time-002-e1770810498536.jpg
GEO:51.2324194;-2.3206873
X-APPLE-STRUCTURED-LOCATION;VALUE=URI;X-ADDRESS=Frome Library Justice Lane Frome BA11 1BE;X-APPLE-RADIUS=500;X-TITLE=Justice Lane:geo:-2.3206873,51.2324194
END:VEVENT
BEGIN:VEVENT
DTSTART;TZID=Europe/London:20260409T100000
DTEND;TZID=Europe/London:20260409T120000
DTSTAMP:20260422T101541
CREATED:20260402T130150Z
LAST-MODIFIED:20260402T130150Z
UID:10020564-1775728800-1775736000@www.discoverfrome.co.uk
SUMMARY:Scrapstore Holiday Craft at the Key Centre
DESCRIPTION:Free scrapstore holiday craft at the Key Centre Thursday 9th April and Thursday 16th April\, 10am – 12pm. \nSpring themed craft activities\, affordable pop-up café (open 8:30am – 2:30pm)\, children’s play area\, relaxed fun space to catch up with friends or meet new people. \nEveryone welcome!
URL:https://www.discoverfrome.co.uk/event/scrapstore-holiday-craft-at-the-key-centre/2026-04-09/
LOCATION:The Key Centre\, Feltham Lane\, Frome\, BA115AJ
CATEGORIES:Charity event,Children,Clothing and textiles,Community,Crafts,Discover Frome,Family,Half term and holidays
ATTACH;FMTTYPE=image/jpeg:https://www.discoverfrome.co.uk/wp-content/uploads/2025/07/the-pod-frome.jpg
ORGANIZER;CN="The Pod":MAILTO:admin@thepodcharity.org.uk
END:VEVENT
BEGIN:VEVENT
DTSTART;TZID=Europe/London:20260410T100000
DTEND;TZID=Europe/London:20260410T140000
DTSTAMP:20260422T101541
CREATED:20250818T111914Z
LAST-MODIFIED:20250818T111914Z
UID:10018494-1775815200-1775829600@www.discoverfrome.co.uk
SUMMARY:Volunteering for wellbeing
DESCRIPTION:Join our Friday volunteering sessions at Vallis Veg market garden\, where you’ll learn about organic food growing\, breathe fresh air and enjoy lunch made from freshly harvested ingredients. \nNo previous experience is necessary\, just turn up on the day.
URL:https://www.discoverfrome.co.uk/event/volunteering-for-wellbeing/2026-04-10/
LOCATION:Vallis Veg\, Egford\, Frome\, BA11 3NF\, United Kingdom
CATEGORIES:Community,Discover Frome,Environment,Gardens,Health and wellbeing,Nature,Sustainability
ATTACH;FMTTYPE=image/jpeg:https://www.discoverfrome.co.uk/wp-content/uploads/2025/08/back-to-nature-volunteer.jpg
GEO:51.237326;-2.34714
X-APPLE-STRUCTURED-LOCATION;VALUE=URI;X-ADDRESS=Vallis Veg Egford Frome BA11 3NF United Kingdom;X-APPLE-RADIUS=500;X-TITLE=Egford:geo:-2.34714,51.237326
END:VEVENT
BEGIN:VEVENT
DTSTART;TZID=Europe/London:20260412T100000
DTEND;TZID=Europe/London:20260412T160000
DTSTAMP:20260422T101541
CREATED:20260226T113821Z
LAST-MODIFIED:20260226T113821Z
UID:10020371-1775988000-1776009600@www.discoverfrome.co.uk
SUMMARY:The Menopause Retreat Day
DESCRIPTION:with Olivia Cliff\, Medical Herbalist and Tara Kelsall\, Life Coach & Wild swim Guide \nOpen to women of all life stages \nThe menopause is a transition that all women face at some point in their life. Whether sudden or slow\, it can be littered with unpleasant and sometimes debilitating symptoms which are not\nalways acknowledged or understood. Our Menopause Retreat Day is an opportunity for pre\, peri or post menopausal women to come together to enjoy time out of routine to relax\, nourish and replenish in a safe\, supportive and beautiful environment. \nWhat to expect:\n• A warm welcome with light refreshments\n• An overview of what actually happens in the body during the menopause and what\nsymptoms can arise and why\n• Discussion of tools which can be utilised to smooth transition including a balanced\n• The opportunity to speak about our own experiences in a small supportive groups\napproach to nutrition\, herbal hacks and the importance of psychospiritual aspects.\n• Supported cold water dip in a natural pool\n• Wood fired sauna\n• Tea and cake and a closing circle \nAt the end of the day\, we want you to leave a little more empowered and ready to embrace your menopause as a potentially powerful rite of passage.
URL:https://www.discoverfrome.co.uk/event/the-menopause-retreat-day/
LOCATION:Vallis Farm\, Egford Hill\, Frome\, BA11 3JQ\, United Kingdom
CATEGORIES:Coaching,Community,Discover Frome,Health and wellbeing,Nature,Support,Talk,Workshop
ATTACH;FMTTYPE=image/jpeg:https://www.discoverfrome.co.uk/wp-content/uploads/2026/02/resized-Vallis-photo-for-appointments.jpeg
ORGANIZER;CN="Radix Herbal Hub":MAILTO:radixherbalhub@gmail.com
END:VEVENT
BEGIN:VEVENT
DTSTART;TZID=Europe/London:20260412T120000
DTEND;TZID=Europe/London:20260412T150000
DTSTAMP:20260422T101541
CREATED:20260331T111722Z
LAST-MODIFIED:20260331T111722Z
UID:10020537-1775995200-1776006000@www.discoverfrome.co.uk
SUMMARY:Spring Rituals Sauna Masterclass & Fundraiser for Sauna Aid
DESCRIPTION:Led by Sauna Masters Natalie Campo\, @SakuraSaunaHaus and Wendy Liu @SaunaWave \nNatalie has delivered sauna workshops all over the UK and beyond. Trained in Lithuanian Pirtis and Aufguss styles\, she loves to explore\, experiment and learn about old and new ways to use whisks\, plants\, herbs\, fumigants\, hydrasols and essential oils from all over the world in the sauna. \nWendy Liu is a co-founder of the British Sauna Society\, an artist and wellbeing advocate. She will lean into ancient Finnish sauna tradition for ancient wisdom and Oriental practices like yoga\, qigong and martial arts – for renewed insights on intention\, awareness\, presence and continuous self-improvement. \nWe hope you’ll leave with a heightened sense of enjoyment and appreciation of sauna\, backed by ancient wisdom\, confidence in your own skills and practical knowledge on how to deepen your sauna experience. \nAll profits from this event will be donated to Sauna Aid: a global initiative providing movable saunas and support services to people affected by natural and man-made disasters. https://sauna-aid.com
URL:https://www.discoverfrome.co.uk/event/spring-rituals-sauna-masterclass-fundraiser-for-sauna-aid/
LOCATION:Wildcat Community Sauna\, Station Approach\, Frome\, BA11 1RE\, United Kingdom
CATEGORIES:Charity event,Community,Discover Frome,Health and wellbeing,Spirituality
ATTACH;FMTTYPE=image/jpeg:https://www.discoverfrome.co.uk/wp-content/uploads/2026/03/Sauna-Instagram-Post-34-e1774955836992.jpg
ORGANIZER;CN="Wildcat Community Sauna":MAILTO:info@wildcatsauna.org
END:VEVENT
BEGIN:VEVENT
DTSTART;TZID=Europe/London:20260413T090000
DTEND;TZID=Europe/London:20260419T210000
DTSTAMP:20260422T101541
CREATED:20260325T120504Z
LAST-MODIFIED:20260330T103848Z
UID:10020491-1776070800-1776632400@www.discoverfrome.co.uk
SUMMARY:Wildheart Wellbeing Collective
DESCRIPTION:A place where mindfulness\, creativity\, and connection come together. \nJoin us for a workshop\, talk\, ceremony or mindful moment. \nWe meet for one week each month in the heart of Frome.
URL:https://www.discoverfrome.co.uk/event/wildheart-wellbeing-collective-3/
LOCATION:Black Swan Arts\, 2 Bridge Street\, Frome\, Somerset\, BA11 2BN\, United Kingdom
CATEGORIES:Arts,Community,Crafts,Discover Frome,Health and wellbeing,Music,Spirituality,Workshop
ATTACH;FMTTYPE=image/jpeg:https://www.discoverfrome.co.uk/wp-content/uploads/2025/01/wildheart.jpg
GEO:51.2333415;-2.319043
X-APPLE-STRUCTURED-LOCATION;VALUE=URI;X-ADDRESS=Black Swan Arts 2 Bridge Street Frome Somerset BA11 2BN United Kingdom;X-APPLE-RADIUS=500;X-TITLE=2 Bridge Street:geo:-2.319043,51.2333415
END:VEVENT
BEGIN:VEVENT
DTSTART;TZID=Europe/London:20260414T100000
DTEND;TZID=Europe/London:20260414T103000
DTSTAMP:20260422T101541
CREATED:20260325T134643Z
LAST-MODIFIED:20260325T134657Z
UID:10019924-1776160800-1776162600@www.discoverfrome.co.uk
SUMMARY:Toddler Time Tuesday
DESCRIPTION:Songs and a story for children aged 1 – 3 and their parents/carers\, at Frome Library every Tuesday. Takes place from 10am – 10:30am and is free to attend with your little ones. \nKeep an eye on Frome Library’s Facebook page for updates\, session cancellations and more information.
URL:https://www.discoverfrome.co.uk/event/toddler-time-tuesday-3/
LOCATION:Frome Library\, Justice Lane\, Frome\, BA11 1BE
CATEGORIES:Children,Community,Discover Frome,Family,Music
ATTACH;FMTTYPE=image/jpeg:https://www.discoverfrome.co.uk/wp-content/uploads/2024/12/Toddler-Time-002-e1770810498536.jpg
GEO:51.2324194;-2.3206873
X-APPLE-STRUCTURED-LOCATION;VALUE=URI;X-ADDRESS=Frome Library Justice Lane Frome BA11 1BE;X-APPLE-RADIUS=500;X-TITLE=Justice Lane:geo:-2.3206873,51.2324194
END:VEVENT
BEGIN:VEVENT
DTSTART;TZID=Europe/London:20260415T190000
DTEND;TZID=Europe/London:20260415T211500
DTSTAMP:20260422T101541
CREATED:20250818T111430Z
LAST-MODIFIED:20250818T111431Z
UID:10018424-1776279600-1776287700@www.discoverfrome.co.uk
SUMMARY:Nature-based sessions for women
DESCRIPTION:Our nature connection sessions are designed to guide you through a journey of mindfulness\, learning new\, practical skills and seasonal awareness. At each session we will explore something different\, but the main aim of each evening is to help you foster connection with the natural world\, improve your own well-being and make meaningful connections with other women. \nFree and low cost spaces available. Booking essential.
URL:https://www.discoverfrome.co.uk/event/nature-based-sessions-for-women/2026-04-15/
LOCATION:Vallis Veg\, Egford\, Frome\, BA11 3NF\, United Kingdom
CATEGORIES:Community,Discover Frome,Environment,Health and wellbeing,Nature
ATTACH;FMTTYPE=image/jpeg:https://www.discoverfrome.co.uk/wp-content/uploads/2025/08/back-to-nature.jpeg
ORGANIZER;CN="Back to Nature":MAILTO:backtonaturefrome@gmail.com
GEO:51.237326;-2.34714
X-APPLE-STRUCTURED-LOCATION;VALUE=URI;X-ADDRESS=Vallis Veg Egford Frome BA11 3NF United Kingdom;X-APPLE-RADIUS=500;X-TITLE=Egford:geo:-2.34714,51.237326
END:VEVENT
BEGIN:VEVENT
DTSTART;TZID=Europe/London:20260416T100000
DTEND;TZID=Europe/London:20260416T103000
DTSTAMP:20260422T101541
CREATED:20260325T135113Z
LAST-MODIFIED:20260325T135621Z
UID:10020497-1776333600-1776335400@www.discoverfrome.co.uk
SUMMARY:Toddler Time Thursday
DESCRIPTION:Songs and a story for children aged 1 – 3 and their parents/carers\, at Frome Library every Thursday. Takes place from 10am – 10:30am and is free to attend with your little ones. \nKeep an eye on Frome Library’s Facebook page for updates\, session cancellations and more information.
URL:https://www.discoverfrome.co.uk/event/toddler-time-thursday-16-04-2026/
LOCATION:Frome Library\, Justice Lane\, Frome\, BA11 1BE
CATEGORIES:Children,Community,Discover Frome,Family,Music
ATTACH;FMTTYPE=image/jpeg:https://www.discoverfrome.co.uk/wp-content/uploads/2024/12/Toddler-Time-002-e1770810498536.jpg
GEO:51.2324194;-2.3206873
X-APPLE-STRUCTURED-LOCATION;VALUE=URI;X-ADDRESS=Frome Library Justice Lane Frome BA11 1BE;X-APPLE-RADIUS=500;X-TITLE=Justice Lane:geo:-2.3206873,51.2324194
END:VEVENT
BEGIN:VEVENT
DTSTART;TZID=Europe/London:20260416T100000
DTEND;TZID=Europe/London:20260416T120000
DTSTAMP:20260422T101541
CREATED:20260402T130150Z
LAST-MODIFIED:20260402T130150Z
UID:10020565-1776333600-1776340800@www.discoverfrome.co.uk
SUMMARY:Scrapstore Holiday Craft at the Key Centre
DESCRIPTION:Free scrapstore holiday craft at the Key Centre Thursday 9th April and Thursday 16th April\, 10am – 12pm. \nSpring themed craft activities\, affordable pop-up café (open 8:30am – 2:30pm)\, children’s play area\, relaxed fun space to catch up with friends or meet new people. \nEveryone welcome!
URL:https://www.discoverfrome.co.uk/event/scrapstore-holiday-craft-at-the-key-centre/2026-04-16/
LOCATION:The Key Centre\, Feltham Lane\, Frome\, BA115AJ
CATEGORIES:Charity event,Children,Clothing and textiles,Community,Crafts,Discover Frome,Family,Half term and holidays
ATTACH;FMTTYPE=image/jpeg:https://www.discoverfrome.co.uk/wp-content/uploads/2025/07/the-pod-frome.jpg
ORGANIZER;CN="The Pod":MAILTO:admin@thepodcharity.org.uk
END:VEVENT
BEGIN:VEVENT
DTSTART;TZID=Europe/London:20260417T100000
DTEND;TZID=Europe/London:20260417T113000
DTSTAMP:20260422T101541
CREATED:20260128T145931Z
LAST-MODIFIED:20260211T121457Z
UID:10019685-1776420000-1776425400@www.discoverfrome.co.uk
SUMMARY:Wild Circle
DESCRIPTION:Wild Circle is a women’s group in nature -women sharing honest conversation around a fire\, in a beautiful garden setting.\nNo pressure or expectation\, just a warm welcome and a gentle invitation to take a pause from everyday life and create a little breathing space. \n“Tara made me feel very welcome and relaxed\, I felt completely at ease. I would highly recommend.” -Jo- \n“It was just what I wanted\, a real ‘firebreak’ in a busy life. Thank you for allowing us to develop what we did in our own way\, whilst gently guiding and holding the session. I think the choice to stay in the ’embrace’ of the wooden structure worked well\, and I found the time by the fire warming in body and spirit. And great cake too.” -Beverly- \nFridays 10am – 11:30am\, monthly at Vallis Farm
URL:https://www.discoverfrome.co.uk/event/wild-circle/2026-04-17/
LOCATION:Vallis Farm\, Egford Hill\, Frome\, BA11 3JQ\, United Kingdom
CATEGORIES:Community,Discover Frome,Health and wellbeing,Nature
ATTACH;FMTTYPE=image/jpeg:https://www.discoverfrome.co.uk/wp-content/uploads/2026/01/Wild-Circle-scaled.jpg
ORGANIZER;CN="Wild Swimming Woman":MAILTO:tara@wildswimmingwoman.com
END:VEVENT
BEGIN:VEVENT
DTSTART;TZID=Europe/London:20260417T100000
DTEND;TZID=Europe/London:20260417T140000
DTSTAMP:20260422T101541
CREATED:20250818T111914Z
LAST-MODIFIED:20250818T111914Z
UID:10018495-1776420000-1776434400@www.discoverfrome.co.uk
SUMMARY:Volunteering for wellbeing
DESCRIPTION:Join our Friday volunteering sessions at Vallis Veg market garden\, where you’ll learn about organic food growing\, breathe fresh air and enjoy lunch made from freshly harvested ingredients. \nNo previous experience is necessary\, just turn up on the day.
URL:https://www.discoverfrome.co.uk/event/volunteering-for-wellbeing/2026-04-17/
LOCATION:Vallis Veg\, Egford\, Frome\, BA11 3NF\, United Kingdom
CATEGORIES:Community,Discover Frome,Environment,Gardens,Health and wellbeing,Nature,Sustainability
ATTACH;FMTTYPE=image/jpeg:https://www.discoverfrome.co.uk/wp-content/uploads/2025/08/back-to-nature-volunteer.jpg
GEO:51.237326;-2.34714
X-APPLE-STRUCTURED-LOCATION;VALUE=URI;X-ADDRESS=Vallis Veg Egford Frome BA11 3NF United Kingdom;X-APPLE-RADIUS=500;X-TITLE=Egford:geo:-2.34714,51.237326
END:VEVENT
BEGIN:VEVENT
DTSTART;TZID=Europe/London:20260421T100000
DTEND;TZID=Europe/London:20260421T103000
DTSTAMP:20260422T101541
CREATED:20260211T115159Z
LAST-MODIFIED:20260211T115159Z
UID:10019925-1776765600-1776767400@www.discoverfrome.co.uk
SUMMARY:Toddler Time Tuesday
DESCRIPTION:Songs and a story for children aged 1 – 3 and their parents/carers\, at Frome Library every Tuesday. Takes place from 10am – 10:30am and is free to attend with your little ones. \nKeep an eye on Frome Library’s Facebook page for updates\, session cancellations and more information.
URL:https://www.discoverfrome.co.uk/event/toddler-time-tuesday/2026-04-21/
LOCATION:Frome Library\, Justice Lane\, Frome\, BA11 1BE
CATEGORIES:Children,Community,Discover Frome,Family,Music
ATTACH;FMTTYPE=image/jpeg:https://www.discoverfrome.co.uk/wp-content/uploads/2024/12/Toddler-Time-002-e1770810498536.jpg
GEO:51.2324194;-2.3206873
X-APPLE-STRUCTURED-LOCATION;VALUE=URI;X-ADDRESS=Frome Library Justice Lane Frome BA11 1BE;X-APPLE-RADIUS=500;X-TITLE=Justice Lane:geo:-2.3206873,51.2324194
END:VEVENT
END:VCALENDAR